BEGIN:VCALENDAR
VERSION:2.0
PRODID:-//San Diego York Rite - ECPv6.15.20//NONSGML v1.0//EN
CALSCALE:GREGORIAN
METHOD:PUBLISH
X-ORIGINAL-URL:https://yorkritesandiego.org
X-WR-CALDESC:Events for San Diego York Rite
REFRESH-INTERVAL;VALUE=DURATION:PT1H
X-Robots-Tag:noindex
X-PUBLISHED-TTL:PT1H
BEGIN:VTIMEZONE
TZID:America/Los_Angeles
BEGIN:DAYLIGHT
TZOFFSETFROM:-0800
TZOFFSETTO:-0700
TZNAME:PDT
DTSTART:20260308T100000
END:DAYLIGHT
BEGIN:STANDARD
TZOFFSETFROM:-0700
TZOFFSETTO:-0800
TZNAME:PST
DTSTART:20261101T090000
END:STANDARD
BEGIN:DAYLIGHT
TZOFFSETFROM:-0800
TZOFFSETTO:-0700
TZNAME:PDT
DTSTART:20270314T100000
END:DAYLIGHT
BEGIN:STANDARD
TZOFFSETFROM:-0700
TZOFFSETTO:-0800
TZNAME:PST
DTSTART:20271107T090000
END:STANDARD
BEGIN:DAYLIGHT
TZOFFSETFROM:-0800
TZOFFSETTO:-0700
TZNAME:PDT
DTSTART:20280312T100000
END:DAYLIGHT
BEGIN:STANDARD
TZOFFSETFROM:-0700
TZOFFSETTO:-0800
TZNAME:PST
DTSTART:20281105T090000
END:STANDARD
END:VTIMEZONE
BEGIN:VEVENT
DTSTART;TZID=America/Los_Angeles:20271123T190000
DTEND;TZID=America/Los_Angeles:20271123T200000
DTSTAMP:20260421T130505
CREATED:20260303T050331Z
LAST-MODIFIED:20260418T050207Z
UID:10000788-1826996400-1827000000@yorkritesandiego.org
SUMMARY:Helix Council No. 58 - Stated Assembly
DESCRIPTION:
URL:https://yorkritesandiego.org/event/helix-council-no-58-stated-assembly-11/
LOCATION:Escondido Masonic Center\, 1331 S Escondido Blvd\, Escondido\, CA\, United States
GEO:33.109201;-117.076437
X-APPLE-STRUCTURED-LOCATION;VALUE=URI;X-ADDRESS=Escondido Masonic Center 1331 S Escondido Blvd Escondido CA United States;X-APPLE-RADIUS=500;X-TITLE=1331 S Escondido Blvd:geo:-117.076437,33.109201
END:VEVENT
BEGIN:VEVENT
DTSTART;TZID=America/Los_Angeles:20271123T190000
DTEND;TZID=America/Los_Angeles:20271123T203000
DTSTAMP:20260421T130505
CREATED:20260301T001927Z
LAST-MODIFIED:20260418T050206Z
UID:10000787-1826996400-1827001800@yorkritesandiego.org
SUMMARY:San Diego Commandery No. 25 - Stated Conclave
DESCRIPTION:
URL:https://yorkritesandiego.org/event/san-diego-commandery-no-25-stated-conclave-27/
LOCATION:Al Bahr Shriners\, 5440 Kearny Mesa Rd\, San Diego\, CA\, United States
GEO:32.83319;-117.143529
X-APPLE-STRUCTURED-LOCATION;VALUE=URI;X-ADDRESS=Al Bahr Shriners 5440 Kearny Mesa Rd San Diego CA United States;X-APPLE-RADIUS=500;X-TITLE=5440 Kearny Mesa Rd:geo:-117.143529,32.83319
END:VEVENT
BEGIN:VEVENT
DTSTART;TZID=America/Los_Angeles:20271124T120000
DTEND;TZID=America/Los_Angeles:20271124T130000
DTSTAMP:20260421T130505
CREATED:20260303T050332Z
LAST-MODIFIED:20260418T050208Z
UID:10000789-1827057600-1827061200@yorkritesandiego.org
SUMMARY:Sojourners
DESCRIPTION:
URL:https://yorkritesandiego.org/event/sojourners-27/
END:VEVENT
BEGIN:VEVENT
DTSTART;VALUE=DATE:20271125
DTEND;VALUE=DATE:20271126
DTSTAMP:20260421T130505
CREATED:20260305T051744Z
LAST-MODIFIED:20260418T050209Z
UID:10000790-1827100800-1827187199@yorkritesandiego.org
SUMMARY:Thanksgiving Day
DESCRIPTION:
URL:https://yorkritesandiego.org/event/thanksgiving-day-3/
END:VEVENT
BEGIN:VEVENT
DTSTART;TZID=America/Los_Angeles:20271125T183000
DTEND;TZID=America/Los_Angeles:20271125T193000
DTSTAMP:20260421T130505
CREATED:20260305T051745Z
LAST-MODIFIED:20260418T050210Z
UID:10000791-1827167400-1827171000@yorkritesandiego.org
SUMMARY:San Diego Chapter No. 61 - Stated Convocation
DESCRIPTION:
URL:https://yorkritesandiego.org/event/san-diego-chapter-no-61-stated-convocation-48/
LOCATION:Al Bahr Shriners\, 5440 Kearny Mesa Rd\, San Diego\, CA\, United States
GEO:32.83319;-117.143529
X-APPLE-STRUCTURED-LOCATION;VALUE=URI;X-ADDRESS=Al Bahr Shriners 5440 Kearny Mesa Rd San Diego CA United States;X-APPLE-RADIUS=500;X-TITLE=5440 Kearny Mesa Rd:geo:-117.143529,32.83319
END:VEVENT
BEGIN:VEVENT
DTSTART;TZID=America/Los_Angeles:20271125T193000
DTEND;TZID=America/Los_Angeles:20271125T203000
DTSTAMP:20260421T130505
CREATED:20260305T051746Z
LAST-MODIFIED:20260418T050210Z
UID:10000792-1827171000-1827174600@yorkritesandiego.org
SUMMARY:San Diego Council No. 23 - Stated Assembly
DESCRIPTION:
URL:https://yorkritesandiego.org/event/san-diego-council-no-23-stated-assembly-48/
LOCATION:Al Bahr Shriners\, 5440 Kearny Mesa Rd\, San Diego\, CA\, United States
GEO:32.83319;-117.143529
X-APPLE-STRUCTURED-LOCATION;VALUE=URI;X-ADDRESS=Al Bahr Shriners 5440 Kearny Mesa Rd San Diego CA United States;X-APPLE-RADIUS=500;X-TITLE=5440 Kearny Mesa Rd:geo:-117.143529,32.83319
END:VEVENT
BEGIN:VEVENT
DTSTART;TZID=America/Los_Angeles:20271127T180000
DTEND;TZID=America/Los_Angeles:20271127T210000
DTSTAMP:20260421T130505
CREATED:20260305T051747Z
LAST-MODIFIED:20260418T050211Z
UID:10000793-1827338400-1827349200@yorkritesandiego.org
SUMMARY:Mull of Galloway - Royal Order of Scotland
DESCRIPTION:St. Andrew’s Day – November 30th
URL:https://yorkritesandiego.org/event/mull-of-galloway-royal-order-of-scotland-3/
END:VEVENT
END:VCALENDAR