BEGIN:VCALENDAR
VERSION:2.0
PRODID:-//San Diego York Rite - ECPv6.15.20//NONSGML v1.0//EN
CALSCALE:GREGORIAN
METHOD:PUBLISH
X-ORIGINAL-URL:https://yorkritesandiego.org
X-WR-CALDESC:Events for San Diego York Rite
REFRESH-INTERVAL;VALUE=DURATION:PT1H
X-Robots-Tag:noindex
X-PUBLISHED-TTL:PT1H
BEGIN:VTIMEZONE
TZID:America/Los_Angeles
BEGIN:DAYLIGHT
TZOFFSETFROM:-0800
TZOFFSETTO:-0700
TZNAME:PDT
DTSTART:20260308T100000
END:DAYLIGHT
BEGIN:STANDARD
TZOFFSETFROM:-0700
TZOFFSETTO:-0800
TZNAME:PST
DTSTART:20261101T090000
END:STANDARD
BEGIN:DAYLIGHT
TZOFFSETFROM:-0800
TZOFFSETTO:-0700
TZNAME:PDT
DTSTART:20270314T100000
END:DAYLIGHT
BEGIN:STANDARD
TZOFFSETFROM:-0700
TZOFFSETTO:-0800
TZNAME:PST
DTSTART:20271107T090000
END:STANDARD
BEGIN:DAYLIGHT
TZOFFSETFROM:-0800
TZOFFSETTO:-0700
TZNAME:PDT
DTSTART:20280312T100000
END:DAYLIGHT
BEGIN:STANDARD
TZOFFSETFROM:-0700
TZOFFSETTO:-0800
TZNAME:PST
DTSTART:20281105T090000
END:STANDARD
END:VTIMEZONE
BEGIN:VEVENT
DTSTART;TZID=America/Los_Angeles:20270905T143000
DTEND;TZID=America/Los_Angeles:20270905T153000
DTSTAMP:20260421T075941
CREATED:20251229T050316Z
LAST-MODIFIED:20260418T050138Z
UID:10000705-1820154600-1820158200@yorkritesandiego.org
SUMMARY:Inkopah Council No. 86 Allied Masonic Degrees
DESCRIPTION:
URL:https://yorkritesandiego.org/event/inkopah-council-no-86-allied-masonic-degrees-9/
LOCATION:Scottish Rite Childhood\, 1895 Cam del Rio S\, San Diego\, CA\, United States
GEO:32.767967;-117.144285
X-APPLE-STRUCTURED-LOCATION;VALUE=URI;X-ADDRESS=Scottish Rite Childhood 1895 Cam del Rio S San Diego CA United States;X-APPLE-RADIUS=500;X-TITLE=1895 Cam del Rio S:geo:-117.144285,32.767967
END:VEVENT
BEGIN:VEVENT
DTSTART;VALUE=DATE:20270906
DTEND;VALUE=DATE:20270907
DTSTAMP:20260421T075941
CREATED:20260102T051844Z
LAST-MODIFIED:20260418T050138Z
UID:10000706-1820188800-1820275199@yorkritesandiego.org
SUMMARY:Labor Day
DESCRIPTION:
URL:https://yorkritesandiego.org/event/labor-day-2/
END:VEVENT
BEGIN:VEVENT
DTSTART;VALUE=DATE:20270910
DTEND;VALUE=DATE:20270912
DTSTAMP:20260421T075941
CREATED:20260104T050346Z
LAST-MODIFIED:20260418T050139Z
UID:10000707-1820534400-1820707199@yorkritesandiego.org
SUMMARY:Acon/Operatives - SLC\, UT
DESCRIPTION:
URL:https://yorkritesandiego.org/event/acon-operatives-slc-ut-7/
LOCATION:Salt Lake Masonic Temple\, 650 N Temple St\, Salt Lake City\, UT\, United States
GEO:40.771615;-111.909161
X-APPLE-STRUCTURED-LOCATION;VALUE=URI;X-ADDRESS=Salt Lake Masonic Temple 650 N Temple St Salt Lake City UT United States;X-APPLE-RADIUS=500;X-TITLE=650 N Temple St:geo:-111.909161,40.771615
END:VEVENT
BEGIN:VEVENT
DTSTART;VALUE=DATE:20270910
DTEND;VALUE=DATE:20270913
DTSTAMP:20260421T075941
CREATED:20260112T001815Z
LAST-MODIFIED:20260418T050142Z
UID:10000710-1820534400-1820793599@yorkritesandiego.org
SUMMARY:Grand Chapter Ritual Retreat
DESCRIPTION:
URL:https://yorkritesandiego.org/event/grand-chapter-ritual-retreat-2/
LOCATION:Wyndham Visalia\, 9000 W Airport Dr\, Visalia\, CA\, United States
GEO:36.324878;-119.390106
X-APPLE-STRUCTURED-LOCATION;VALUE=URI;X-ADDRESS=Wyndham Visalia 9000 W Airport Dr Visalia CA United States;X-APPLE-RADIUS=500;X-TITLE=9000 W Airport Dr:geo:-119.390106,36.324878
END:VEVENT
END:VCALENDAR