BEGIN:VCALENDAR
VERSION:2.0
PRODID:-//San Diego York Rite - ECPv6.15.20//NONSGML v1.0//EN
CALSCALE:GREGORIAN
METHOD:PUBLISH
X-WR-CALNAME:San Diego York Rite
X-ORIGINAL-URL:https://yorkritesandiego.org
X-WR-CALDESC:Events for San Diego York Rite
REFRESH-INTERVAL;VALUE=DURATION:PT1H
X-Robots-Tag:noindex
X-PUBLISHED-TTL:PT1H
BEGIN:VTIMEZONE
TZID:America/Los_Angeles
BEGIN:DAYLIGHT
TZOFFSETFROM:-0800
TZOFFSETTO:-0700
TZNAME:PDT
DTSTART:20260308T100000
END:DAYLIGHT
BEGIN:STANDARD
TZOFFSETFROM:-0700
TZOFFSETTO:-0800
TZNAME:PST
DTSTART:20261101T090000
END:STANDARD
BEGIN:DAYLIGHT
TZOFFSETFROM:-0800
TZOFFSETTO:-0700
TZNAME:PDT
DTSTART:20270314T100000
END:DAYLIGHT
BEGIN:STANDARD
TZOFFSETFROM:-0700
TZOFFSETTO:-0800
TZNAME:PST
DTSTART:20271107T090000
END:STANDARD
BEGIN:DAYLIGHT
TZOFFSETFROM:-0800
TZOFFSETTO:-0700
TZNAME:PDT
DTSTART:20280312T100000
END:DAYLIGHT
BEGIN:STANDARD
TZOFFSETFROM:-0700
TZOFFSETTO:-0800
TZNAME:PST
DTSTART:20281105T090000
END:STANDARD
END:VTIMEZONE
BEGIN:VEVENT
DTSTART;VALUE=DATE:20270627
DTEND;VALUE=DATE:20270628
DTSTAMP:20260421T011039
CREATED:20251115T024832Z
LAST-MODIFIED:20260418T050118Z
UID:10000681-1814054400-1814140799@yorkritesandiego.org
SUMMARY:HRAKTP
DESCRIPTION:
URL:https://yorkritesandiego.org/event/hraktp-9/
END:VEVENT
BEGIN:VEVENT
DTSTART;VALUE=DATE:20270627
DTEND;VALUE=DATE:20270702
DTSTAMP:20260421T011039
CREATED:20251117T051815Z
LAST-MODIFIED:20260418T050117Z
UID:10000682-1814054400-1814486399@yorkritesandiego.org
SUMMARY:Shrine Imperial Session
DESCRIPTION:
URL:https://yorkritesandiego.org/event/shrine-imperial-session-2/
END:VEVENT
BEGIN:VEVENT
DTSTART;TZID=America/Los_Angeles:20270701T120000
DTEND;TZID=America/Los_Angeles:20270701T130000
DTSTAMP:20260421T011039
CREATED:20251113T051815Z
LAST-MODIFIED:20260418T050119Z
UID:10000680-1814443200-1814446800@yorkritesandiego.org
SUMMARY:RCC
DESCRIPTION:
URL:https://yorkritesandiego.org/event/rcc-23/
END:VEVENT
END:VCALENDAR