BEGIN:VCALENDAR
VERSION:2.0
PRODID:-//San Diego York Rite - ECPv6.15.20//NONSGML v1.0//EN
CALSCALE:GREGORIAN
METHOD:PUBLISH
X-WR-CALNAME:San Diego York Rite
X-ORIGINAL-URL:https://yorkritesandiego.org
X-WR-CALDESC:Events for San Diego York Rite
REFRESH-INTERVAL;VALUE=DURATION:PT1H
X-Robots-Tag:noindex
X-PUBLISHED-TTL:PT1H
BEGIN:VTIMEZONE
TZID:America/Los_Angeles
BEGIN:DAYLIGHT
TZOFFSETFROM:-0800
TZOFFSETTO:-0700
TZNAME:PDT
DTSTART:20260308T100000
END:DAYLIGHT
BEGIN:STANDARD
TZOFFSETFROM:-0700
TZOFFSETTO:-0800
TZNAME:PST
DTSTART:20261101T090000
END:STANDARD
BEGIN:DAYLIGHT
TZOFFSETFROM:-0800
TZOFFSETTO:-0700
TZNAME:PDT
DTSTART:20270314T100000
END:DAYLIGHT
BEGIN:STANDARD
TZOFFSETFROM:-0700
TZOFFSETTO:-0800
TZNAME:PST
DTSTART:20271107T090000
END:STANDARD
BEGIN:DAYLIGHT
TZOFFSETFROM:-0800
TZOFFSETTO:-0700
TZNAME:PDT
DTSTART:20280312T100000
END:DAYLIGHT
BEGIN:STANDARD
TZOFFSETFROM:-0700
TZOFFSETTO:-0800
TZNAME:PST
DTSTART:20281105T090000
END:STANDARD
END:VTIMEZONE
BEGIN:VEVENT
DTSTART;TZID=America/Los_Angeles:20270528T120000
DTEND;TZID=America/Los_Angeles:20270530T120000
DTSTAMP:20260420T234523
CREATED:20250924T233414Z
LAST-MODIFIED:20260418T050101Z
UID:10000653-1811505600-1811678400@yorkritesandiego.org
SUMMARY:California Widows Sons - State Gathering
DESCRIPTION:
URL:https://yorkritesandiego.org/event/california-widows-sons-state-gathering-2/
LOCATION:Los Alamos\, CA\, USA
END:VEVENT
BEGIN:VEVENT
DTSTART;VALUE=DATE:20270531
DTEND;VALUE=DATE:20270601
DTSTAMP:20260420T234523
CREATED:20250924T233414Z
LAST-MODIFIED:20260418T050102Z
UID:10000654-1811721600-1811807999@yorkritesandiego.org
SUMMARY:Memorial Day
DESCRIPTION:
URL:https://yorkritesandiego.org/event/memorial-day-2/
END:VEVENT
BEGIN:VEVENT
DTSTART;TZID=America/Los_Angeles:20270602T180000
DTEND;TZID=America/Los_Angeles:20270602T210000
DTSTAMP:20260420T234523
CREATED:20250924T233414Z
LAST-MODIFIED:20260418T050102Z
UID:10000655-1811959200-1811970000@yorkritesandiego.org
SUMMARY:Scottish Rite
DESCRIPTION:
URL:https://yorkritesandiego.org/event/scottish-rite-22/
END:VEVENT
BEGIN:VEVENT
DTSTART;TZID=America/Los_Angeles:20270603T120000
DTEND;TZID=America/Los_Angeles:20270603T130000
DTSTAMP:20260420T234523
CREATED:20250926T235026Z
LAST-MODIFIED:20260418T050103Z
UID:10000656-1812024000-1812027600@yorkritesandiego.org
SUMMARY:RCC
DESCRIPTION:
URL:https://yorkritesandiego.org/event/rcc-22/
END:VEVENT
BEGIN:VEVENT
DTSTART;TZID=America/Los_Angeles:20270605T120000
DTEND;TZID=America/Los_Angeles:20270605T130000
DTSTAMP:20260420T234523
CREATED:20250926T235026Z
LAST-MODIFIED:20260418T050104Z
UID:10000657-1812196800-1812200400@yorkritesandiego.org
SUMMARY:KYCH
DESCRIPTION:
URL:https://yorkritesandiego.org/event/kych-4/
END:VEVENT
END:VCALENDAR