BEGIN:VCALENDAR
VERSION:2.0
PRODID:-//San Diego York Rite - ECPv6.15.20//NONSGML v1.0//EN
CALSCALE:GREGORIAN
METHOD:PUBLISH
X-ORIGINAL-URL:https://yorkritesandiego.org
X-WR-CALDESC:Events for San Diego York Rite
REFRESH-INTERVAL;VALUE=DURATION:PT1H
X-Robots-Tag:noindex
X-PUBLISHED-TTL:PT1H
BEGIN:VTIMEZONE
TZID:America/Los_Angeles
BEGIN:DAYLIGHT
TZOFFSETFROM:-0800
TZOFFSETTO:-0700
TZNAME:PDT
DTSTART:20260308T100000
END:DAYLIGHT
BEGIN:STANDARD
TZOFFSETFROM:-0700
TZOFFSETTO:-0800
TZNAME:PST
DTSTART:20261101T090000
END:STANDARD
BEGIN:DAYLIGHT
TZOFFSETFROM:-0800
TZOFFSETTO:-0700
TZNAME:PDT
DTSTART:20270314T100000
END:DAYLIGHT
BEGIN:STANDARD
TZOFFSETFROM:-0700
TZOFFSETTO:-0800
TZNAME:PST
DTSTART:20271107T090000
END:STANDARD
BEGIN:DAYLIGHT
TZOFFSETFROM:-0800
TZOFFSETTO:-0700
TZNAME:PDT
DTSTART:20280312T100000
END:DAYLIGHT
BEGIN:STANDARD
TZOFFSETFROM:-0700
TZOFFSETTO:-0800
TZNAME:PST
DTSTART:20281105T090000
END:STANDARD
END:VTIMEZONE
BEGIN:VEVENT
DTSTART;VALUE=DATE:20270214
DTEND;VALUE=DATE:20270215
DTSTAMP:20260420T153606
CREATED:20250902T063621Z
LAST-MODIFIED:20260418T050015Z
UID:10000599-1802563200-1802649599@yorkritesandiego.org
SUMMARY:Valentine's Day
DESCRIPTION:
URL:https://yorkritesandiego.org/event/valentines-day-2/
END:VEVENT
BEGIN:VEVENT
DTSTART;VALUE=DATE:20270215
DTEND;VALUE=DATE:20270216
DTSTAMP:20260420T153606
CREATED:20250902T063621Z
LAST-MODIFIED:20260418T050016Z
UID:10000598-1802649600-1802735999@yorkritesandiego.org
SUMMARY:Presidents' Day
DESCRIPTION:
URL:https://yorkritesandiego.org/event/presidents-day-2/
END:VEVENT
BEGIN:VEVENT
DTSTART;VALUE=DATE:20270219
DTEND;VALUE=DATE:20270220
DTSTAMP:20260420T153606
CREATED:20250902T063621Z
LAST-MODIFIED:20260418T050017Z
UID:10000600-1802995200-1803081599@yorkritesandiego.org
SUMMARY:San Diego - Imperial PMA?
DESCRIPTION:
URL:https://yorkritesandiego.org/event/san-diego-imperial-pma-2/
END:VEVENT
END:VCALENDAR