BEGIN:VCALENDAR
VERSION:2.0
PRODID:-//San Diego York Rite - ECPv6.15.20//NONSGML v1.0//EN
CALSCALE:GREGORIAN
METHOD:PUBLISH
X-ORIGINAL-URL:https://yorkritesandiego.org
X-WR-CALDESC:Events for San Diego York Rite
REFRESH-INTERVAL;VALUE=DURATION:PT1H
X-Robots-Tag:noindex
X-PUBLISHED-TTL:PT1H
BEGIN:VTIMEZONE
TZID:America/Los_Angeles
BEGIN:DAYLIGHT
TZOFFSETFROM:-0800
TZOFFSETTO:-0700
TZNAME:PDT
DTSTART:20250309T100000
END:DAYLIGHT
BEGIN:STANDARD
TZOFFSETFROM:-0700
TZOFFSETTO:-0800
TZNAME:PST
DTSTART:20251102T090000
END:STANDARD
BEGIN:DAYLIGHT
TZOFFSETFROM:-0800
TZOFFSETTO:-0700
TZNAME:PDT
DTSTART:20260308T100000
END:DAYLIGHT
BEGIN:STANDARD
TZOFFSETFROM:-0700
TZOFFSETTO:-0800
TZNAME:PST
DTSTART:20261101T090000
END:STANDARD
BEGIN:DAYLIGHT
TZOFFSETFROM:-0800
TZOFFSETTO:-0700
TZNAME:PDT
DTSTART:20270314T100000
END:DAYLIGHT
BEGIN:STANDARD
TZOFFSETFROM:-0700
TZOFFSETTO:-0800
TZNAME:PST
DTSTART:20271107T090000
END:STANDARD
END:VTIMEZONE
BEGIN:VEVENT
DTSTART;TZID=America/Los_Angeles:20261202T180000
DTEND;TZID=America/Los_Angeles:20261202T210000
DTSTAMP:20260420T101238
CREATED:20250902T063522Z
LAST-MODIFIED:20260418T045946Z
UID:10000565-1796234400-1796245200@yorkritesandiego.org
SUMMARY:Scottish Rite
DESCRIPTION:
URL:https://yorkritesandiego.org/event/scottish-rite-16/
END:VEVENT
BEGIN:VEVENT
DTSTART;TZID=America/Los_Angeles:20261203T120000
DTEND;TZID=America/Los_Angeles:20261203T130000
DTSTAMP:20260420T101238
CREATED:20250902T063522Z
LAST-MODIFIED:20260418T045947Z
UID:10000566-1796299200-1796302800@yorkritesandiego.org
SUMMARY:RCC
DESCRIPTION:
URL:https://yorkritesandiego.org/event/rcc-16/
END:VEVENT
BEGIN:VEVENT
DTSTART;VALUE=DATE:20261204
DTEND;VALUE=DATE:20261206
DTSTAMP:20260420T101238
CREATED:20250902T063523Z
LAST-MODIFIED:20260418T045948Z
UID:10000567-1796342400-1796515199@yorkritesandiego.org
SUMMARY:Acon/Operatives - SLC\, UT
DESCRIPTION:
URL:https://yorkritesandiego.org/event/acon-operatives-slc-ut-5/
LOCATION:Salt Lake Masonic Temple\, 650 N Temple St\, Salt Lake City\, UT\, United States
GEO:40.771615;-111.909161
X-APPLE-STRUCTURED-LOCATION;VALUE=URI;X-ADDRESS=Salt Lake Masonic Temple 650 N Temple St Salt Lake City UT United States;X-APPLE-RADIUS=500;X-TITLE=650 N Temple St:geo:-111.909161,40.771615
END:VEVENT
END:VCALENDAR