BEGIN:VCALENDAR
VERSION:2.0
PRODID:-//San Diego York Rite - ECPv6.15.20//NONSGML v1.0//EN
CALSCALE:GREGORIAN
METHOD:PUBLISH
X-ORIGINAL-URL:https://yorkritesandiego.org
X-WR-CALDESC:Events for San Diego York Rite
REFRESH-INTERVAL;VALUE=DURATION:PT1H
X-Robots-Tag:noindex
X-PUBLISHED-TTL:PT1H
BEGIN:VTIMEZONE
TZID:America/Los_Angeles
BEGIN:DAYLIGHT
TZOFFSETFROM:-0800
TZOFFSETTO:-0700
TZNAME:PDT
DTSTART:20250309T100000
END:DAYLIGHT
BEGIN:STANDARD
TZOFFSETFROM:-0700
TZOFFSETTO:-0800
TZNAME:PST
DTSTART:20251102T090000
END:STANDARD
BEGIN:DAYLIGHT
TZOFFSETFROM:-0800
TZOFFSETTO:-0700
TZNAME:PDT
DTSTART:20260308T100000
END:DAYLIGHT
BEGIN:STANDARD
TZOFFSETFROM:-0700
TZOFFSETTO:-0800
TZNAME:PST
DTSTART:20261101T090000
END:STANDARD
BEGIN:DAYLIGHT
TZOFFSETFROM:-0800
TZOFFSETTO:-0700
TZNAME:PDT
DTSTART:20270314T100000
END:DAYLIGHT
BEGIN:STANDARD
TZOFFSETFROM:-0700
TZOFFSETTO:-0800
TZNAME:PST
DTSTART:20271107T090000
END:STANDARD
END:VTIMEZONE
BEGIN:VEVENT
DTSTART;VALUE=DATE:20261009
DTEND;VALUE=DATE:20261012
DTSTAMP:20260420T053718
CREATED:20250902T063429Z
LAST-MODIFIED:20260418T045924Z
UID:10000539-1791504000-1791763199@yorkritesandiego.org
SUMMARY:Annual Communication
DESCRIPTION:
URL:https://yorkritesandiego.org/event/annual-communication/
END:VEVENT
BEGIN:VEVENT
DTSTART;VALUE=DATE:20261013
DTEND;VALUE=DATE:20261014
DTSTAMP:20260420T053718
CREATED:20250902T063429Z
LAST-MODIFIED:20260418T045925Z
UID:10000540-1791849600-1791935999@yorkritesandiego.org
SUMMARY:Indigenous Peoples' Day
DESCRIPTION:
URL:https://yorkritesandiego.org/event/indigenous-peoples-day-2/
END:VEVENT
END:VCALENDAR