BEGIN:VCALENDAR
VERSION:2.0
PRODID:-//San Diego York Rite - ECPv6.15.20//NONSGML v1.0//EN
CALSCALE:GREGORIAN
METHOD:PUBLISH
X-ORIGINAL-URL:https://yorkritesandiego.org
X-WR-CALDESC:Events for San Diego York Rite
REFRESH-INTERVAL;VALUE=DURATION:PT1H
X-Robots-Tag:noindex
X-PUBLISHED-TTL:PT1H
BEGIN:VTIMEZONE
TZID:America/Los_Angeles
BEGIN:DAYLIGHT
TZOFFSETFROM:-0800
TZOFFSETTO:-0700
TZNAME:PDT
DTSTART:20260308T100000
END:DAYLIGHT
BEGIN:STANDARD
TZOFFSETFROM:-0700
TZOFFSETTO:-0800
TZNAME:PST
DTSTART:20261101T090000
END:STANDARD
BEGIN:DAYLIGHT
TZOFFSETFROM:-0800
TZOFFSETTO:-0700
TZNAME:PDT
DTSTART:20270314T100000
END:DAYLIGHT
BEGIN:STANDARD
TZOFFSETFROM:-0700
TZOFFSETTO:-0800
TZNAME:PST
DTSTART:20271107T090000
END:STANDARD
BEGIN:DAYLIGHT
TZOFFSETFROM:-0800
TZOFFSETTO:-0700
TZNAME:PDT
DTSTART:20280312T100000
END:DAYLIGHT
BEGIN:STANDARD
TZOFFSETFROM:-0700
TZOFFSETTO:-0800
TZNAME:PST
DTSTART:20281105T090000
END:STANDARD
END:VTIMEZONE
BEGIN:VEVENT
DTSTART;TZID=America/Los_Angeles:20270804T180000
DTEND;TZID=America/Los_Angeles:20270804T210000
DTSTAMP:20260421T014452
CREATED:20251215T001841Z
LAST-MODIFIED:20260418T050128Z
UID:10000694-1817402400-1817413200@yorkritesandiego.org
SUMMARY:Scottish Rite
DESCRIPTION:
URL:https://yorkritesandiego.org/event/scottish-rite-24/
END:VEVENT
BEGIN:VEVENT
DTSTART;TZID=America/Los_Angeles:20270805T120000
DTEND;TZID=America/Los_Angeles:20270805T130000
DTSTAMP:20260421T014452
CREATED:20251215T001842Z
LAST-MODIFIED:20260418T050129Z
UID:10000695-1817467200-1817470800@yorkritesandiego.org
SUMMARY:RCC
DESCRIPTION:
URL:https://yorkritesandiego.org/event/rcc-24/
END:VEVENT
BEGIN:VEVENT
DTSTART;TZID=America/Los_Angeles:20270807T130000
DTEND;TZID=America/Los_Angeles:20270807T170000
DTSTAMP:20260421T014452
CREATED:20251215T001843Z
LAST-MODIFIED:20260418T050130Z
UID:10000696-1817643600-1817658000@yorkritesandiego.org
SUMMARY:SRICF - California College
DESCRIPTION:
URL:https://yorkritesandiego.org/event/sricf-california-college-8/
LOCATION:Saddleback Laguna Masonic Lodge No. 672\, 23685 Birtcher Dr\, Lake Forest\, CA\, United States
GEO:33.63367;-117.716807
X-APPLE-STRUCTURED-LOCATION;VALUE=URI;X-ADDRESS=Saddleback Laguna Masonic Lodge No. 672 23685 Birtcher Dr Lake Forest CA United States;X-APPLE-RADIUS=500;X-TITLE=23685 Birtcher Dr:geo:-117.716807,33.63367
END:VEVENT
BEGIN:VEVENT
DTSTART;TZID=America/Los_Angeles:20270822T180000
DTEND;TZID=America/Los_Angeles:20270822T210000
DTSTAMP:20260421T014452
CREATED:20251219T050327Z
LAST-MODIFIED:20260418T050131Z
UID:10000697-1818957600-1818968400@yorkritesandiego.org
SUMMARY:RCC Summer Social
DESCRIPTION:
URL:https://yorkritesandiego.org/event/rcc-summer-social-2/
LOCATION:San Diego\, CA\, USA
END:VEVENT
BEGIN:VEVENT
DTSTART;TZID=America/Los_Angeles:20270824T190000
DTEND;TZID=America/Los_Angeles:20270824T200000
DTSTAMP:20260421T014452
CREATED:20251219T050328Z
LAST-MODIFIED:20260418T050132Z
UID:10000698-1819134000-1819137600@yorkritesandiego.org
SUMMARY:Helix Council No. 58 - Stated Assembly
DESCRIPTION:
URL:https://yorkritesandiego.org/event/helix-council-no-58-stated-assembly-10/
LOCATION:Escondido Masonic Center\, 1331 S Escondido Blvd\, Escondido\, CA\, United States
GEO:33.109201;-117.076437
X-APPLE-STRUCTURED-LOCATION;VALUE=URI;X-ADDRESS=Escondido Masonic Center 1331 S Escondido Blvd Escondido CA United States;X-APPLE-RADIUS=500;X-TITLE=1331 S Escondido Blvd:geo:-117.076437,33.109201
END:VEVENT
BEGIN:VEVENT
DTSTART;TZID=America/Los_Angeles:20270824T190000
DTEND;TZID=America/Los_Angeles:20270824T203000
DTSTAMP:20260421T014452
CREATED:20251221T050303Z
LAST-MODIFIED:20260418T050133Z
UID:10000699-1819134000-1819139400@yorkritesandiego.org
SUMMARY:San Diego Commandery No. 25 - Stated Conclave
DESCRIPTION:
URL:https://yorkritesandiego.org/event/san-diego-commandery-no-25-stated-conclave-24/
LOCATION:Al Bahr Shriners\, 5440 Kearny Mesa Rd\, San Diego\, CA\, United States
GEO:32.83319;-117.143529
X-APPLE-STRUCTURED-LOCATION;VALUE=URI;X-ADDRESS=Al Bahr Shriners 5440 Kearny Mesa Rd San Diego CA United States;X-APPLE-RADIUS=500;X-TITLE=5440 Kearny Mesa Rd:geo:-117.143529,32.83319
END:VEVENT
BEGIN:VEVENT
DTSTART;TZID=America/Los_Angeles:20270825T120000
DTEND;TZID=America/Los_Angeles:20270825T130000
DTSTAMP:20260421T014452
CREATED:20251225T043231Z
LAST-MODIFIED:20260418T050134Z
UID:10000700-1819195200-1819198800@yorkritesandiego.org
SUMMARY:Sojourners
DESCRIPTION:
URL:https://yorkritesandiego.org/event/sojourners-24/
END:VEVENT
BEGIN:VEVENT
DTSTART;TZID=America/Los_Angeles:20270826T183000
DTEND;TZID=America/Los_Angeles:20270826T193000
DTSTAMP:20260421T014452
CREATED:20260122T050303Z
LAST-MODIFIED:20260418T050135Z
UID:10000762-1819305000-1819308600@yorkritesandiego.org
SUMMARY:San Diego Chapter No. 61 - Stated Convocation
DESCRIPTION:
URL:https://yorkritesandiego.org/event/san-diego-chapter-no-61-stated-convocation-45/
LOCATION:Al Bahr Shriners\, 5440 Kearny Mesa Rd\, San Diego\, CA\, United States
GEO:32.83319;-117.143529
X-APPLE-STRUCTURED-LOCATION;VALUE=URI;X-ADDRESS=Al Bahr Shriners 5440 Kearny Mesa Rd San Diego CA United States;X-APPLE-RADIUS=500;X-TITLE=5440 Kearny Mesa Rd:geo:-117.143529,32.83319
END:VEVENT
BEGIN:VEVENT
DTSTART;TZID=America/Los_Angeles:20270826T190000
DTEND;TZID=America/Los_Angeles:20270826T200000
DTSTAMP:20260421T014452
CREATED:20251225T043232Z
LAST-MODIFIED:20260120T001819Z
UID:10000701-1819306800-1819310400@yorkritesandiego.org
SUMMARY:San Diego Chapter No. 61 - Stated Convocation
DESCRIPTION:
URL:https://yorkritesandiego.org/event/san-diego-chapter-no-61-stated-convocation-24/
LOCATION:Al Bahr Shriners\, 5440 Kearny Mesa Rd\, San Diego\, CA\, United States
GEO:32.83319;-117.143529
X-APPLE-STRUCTURED-LOCATION;VALUE=URI;X-ADDRESS=Al Bahr Shriners 5440 Kearny Mesa Rd San Diego CA United States;X-APPLE-RADIUS=500;X-TITLE=5440 Kearny Mesa Rd:geo:-117.143529,32.83319
END:VEVENT
BEGIN:VEVENT
DTSTART;TZID=America/Los_Angeles:20270826T193000
DTEND;TZID=America/Los_Angeles:20270826T203000
DTSTAMP:20260421T014452
CREATED:20260122T050302Z
LAST-MODIFIED:20260418T050135Z
UID:10000761-1819308600-1819312200@yorkritesandiego.org
SUMMARY:San Diego Council No. 23 - Stated Assembly
DESCRIPTION:
URL:https://yorkritesandiego.org/event/san-diego-council-no-23-stated-assembly-45/
LOCATION:Al Bahr Shriners\, 5440 Kearny Mesa Rd\, San Diego\, CA\, United States
GEO:32.83319;-117.143529
X-APPLE-STRUCTURED-LOCATION;VALUE=URI;X-ADDRESS=Al Bahr Shriners 5440 Kearny Mesa Rd San Diego CA United States;X-APPLE-RADIUS=500;X-TITLE=5440 Kearny Mesa Rd:geo:-117.143529,32.83319
END:VEVENT
BEGIN:VEVENT
DTSTART;TZID=America/Los_Angeles:20270826T200000
DTEND;TZID=America/Los_Angeles:20270826T210000
DTSTAMP:20260421T014452
CREATED:20251227T001820Z
LAST-MODIFIED:20260120T001820Z
UID:10000702-1819310400-1819314000@yorkritesandiego.org
SUMMARY:San Diego Council No. 23 - Stated Assembly
DESCRIPTION:
URL:https://yorkritesandiego.org/event/san-diego-council-no-23-stated-assembly-24/
LOCATION:Al Bahr Shriners\, 5440 Kearny Mesa Rd\, San Diego\, CA\, United States
GEO:32.83319;-117.143529
X-APPLE-STRUCTURED-LOCATION;VALUE=URI;X-ADDRESS=Al Bahr Shriners 5440 Kearny Mesa Rd San Diego CA United States;X-APPLE-RADIUS=500;X-TITLE=5440 Kearny Mesa Rd:geo:-117.143529,32.83319
END:VEVENT
END:VCALENDAR