BEGIN:VCALENDAR
VERSION:2.0
PRODID:-//San Diego York Rite - ECPv6.15.20//NONSGML v1.0//EN
CALSCALE:GREGORIAN
METHOD:PUBLISH
X-WR-CALNAME:San Diego York Rite
X-ORIGINAL-URL:https://yorkritesandiego.org
X-WR-CALDESC:Events for San Diego York Rite
REFRESH-INTERVAL;VALUE=DURATION:PT1H
X-Robots-Tag:noindex
X-PUBLISHED-TTL:PT1H
BEGIN:VTIMEZONE
TZID:America/Los_Angeles
BEGIN:DAYLIGHT
TZOFFSETFROM:-0800
TZOFFSETTO:-0700
TZNAME:PDT
DTSTART:20250309T100000
END:DAYLIGHT
BEGIN:STANDARD
TZOFFSETFROM:-0700
TZOFFSETTO:-0800
TZNAME:PST
DTSTART:20251102T090000
END:STANDARD
BEGIN:DAYLIGHT
TZOFFSETFROM:-0800
TZOFFSETTO:-0700
TZNAME:PDT
DTSTART:20260308T100000
END:DAYLIGHT
BEGIN:STANDARD
TZOFFSETFROM:-0700
TZOFFSETTO:-0800
TZNAME:PST
DTSTART:20261101T090000
END:STANDARD
BEGIN:DAYLIGHT
TZOFFSETFROM:-0800
TZOFFSETTO:-0700
TZNAME:PDT
DTSTART:20270314T100000
END:DAYLIGHT
BEGIN:STANDARD
TZOFFSETFROM:-0700
TZOFFSETTO:-0800
TZNAME:PST
DTSTART:20271107T090000
END:STANDARD
END:VTIMEZONE
BEGIN:VEVENT
DTSTART;TZID=America/Los_Angeles:20260805T180000
DTEND;TZID=America/Los_Angeles:20260805T210000
DTSTAMP:20260420T002640
CREATED:20250902T063333Z
LAST-MODIFIED:20260418T045857Z
UID:10000511-1785952800-1785963600@yorkritesandiego.org
SUMMARY:Scottish Rite
DESCRIPTION:
URL:https://yorkritesandiego.org/event/scottish-rite-12/
END:VEVENT
BEGIN:VEVENT
DTSTART;TZID=America/Los_Angeles:20260806T120000
DTEND;TZID=America/Los_Angeles:20260806T130000
DTSTAMP:20260420T002640
CREATED:20250902T063333Z
LAST-MODIFIED:20260418T045858Z
UID:10000512-1786017600-1786021200@yorkritesandiego.org
SUMMARY:RCC
DESCRIPTION:
URL:https://yorkritesandiego.org/event/rcc-12/
END:VEVENT
BEGIN:VEVENT
DTSTART;VALUE=DATE:20260821
DTEND;VALUE=DATE:20260824
DTSTAMP:20260420T002640
CREATED:20250902T063350Z
LAST-MODIFIED:20260418T045859Z
UID:10000513-1787270400-1787529599@yorkritesandiego.org
SUMMARY:California Scottish Rite - ALL 29 Degrees
DESCRIPTION:
URL:https://yorkritesandiego.org/event/california-scottish-rite-all-29-degrees/
LOCATION:Pasadena Scottish Rite\, 150 N Madison Ave\, Pasadena\, CA\, United States
GEO:34.148783;-118.138333
X-APPLE-STRUCTURED-LOCATION;VALUE=URI;X-ADDRESS=Pasadena Scottish Rite 150 N Madison Ave Pasadena CA United States;X-APPLE-RADIUS=500;X-TITLE=150 N Madison Ave:geo:-118.138333,34.148783
END:VEVENT
BEGIN:VEVENT
DTSTART;TZID=America/Los_Angeles:20260823T180000
DTEND;TZID=America/Los_Angeles:20260823T210000
DTSTAMP:20260420T002640
CREATED:20250902T063350Z
LAST-MODIFIED:20260418T045900Z
UID:10000514-1787508000-1787518800@yorkritesandiego.org
SUMMARY:RCC Summer Social
DESCRIPTION:
URL:https://yorkritesandiego.org/event/rcc-summer-social/
LOCATION:San Diego\, CA\, USA
END:VEVENT
BEGIN:VEVENT
DTSTART;TZID=America/Los_Angeles:20260825T190000
DTEND;TZID=America/Los_Angeles:20260825T200000
DTSTAMP:20260420T002640
CREATED:20250902T063351Z
LAST-MODIFIED:20260418T045902Z
UID:10000516-1787684400-1787688000@yorkritesandiego.org
SUMMARY:Helix Council No. 58 - Stated Assembly
DESCRIPTION:
URL:https://yorkritesandiego.org/event/helix-council-no-58-stated-assembly-5/
LOCATION:Escondido Masonic Center\, 1331 S Escondido Blvd\, Escondido\, CA\, United States
GEO:33.109201;-117.076437
X-APPLE-STRUCTURED-LOCATION;VALUE=URI;X-ADDRESS=Escondido Masonic Center 1331 S Escondido Blvd Escondido CA United States;X-APPLE-RADIUS=500;X-TITLE=1331 S Escondido Blvd:geo:-117.076437,33.109201
END:VEVENT
BEGIN:VEVENT
DTSTART;TZID=America/Los_Angeles:20260825T190000
DTEND;TZID=America/Los_Angeles:20260825T203000
DTSTAMP:20260420T002640
CREATED:20250902T063350Z
LAST-MODIFIED:20260418T045901Z
UID:10000515-1787684400-1787689800@yorkritesandiego.org
SUMMARY:San Diego Commandery No. 25 - Stated Conclave
DESCRIPTION:
URL:https://yorkritesandiego.org/event/san-diego-commandery-no-25-stated-conclave-12/
LOCATION:Al Bahr Shriners\, 5440 Kearny Mesa Rd\, San Diego\, CA\, United States
GEO:32.83319;-117.143529
X-APPLE-STRUCTURED-LOCATION;VALUE=URI;X-ADDRESS=Al Bahr Shriners 5440 Kearny Mesa Rd San Diego CA United States;X-APPLE-RADIUS=500;X-TITLE=5440 Kearny Mesa Rd:geo:-117.143529,32.83319
END:VEVENT
BEGIN:VEVENT
DTSTART;TZID=America/Los_Angeles:20260826T120000
DTEND;TZID=America/Los_Angeles:20260826T130000
DTSTAMP:20260420T002640
CREATED:20250902T063351Z
LAST-MODIFIED:20260418T045902Z
UID:10000517-1787745600-1787749200@yorkritesandiego.org
SUMMARY:Sojourners
DESCRIPTION:
URL:https://yorkritesandiego.org/event/sojourners-12/
END:VEVENT
BEGIN:VEVENT
DTSTART;TZID=America/Los_Angeles:20260826T180000
DTEND;TZID=America/Los_Angeles:20260826T190000
DTSTAMP:20260420T002640
CREATED:20250909T051756Z
LAST-MODIFIED:20260418T045903Z
UID:10000649-1787767200-1787770800@yorkritesandiego.org
SUMMARY:SGIG Meeting
DESCRIPTION:
URL:https://yorkritesandiego.org/event/sgig-meeting-3/
LOCATION:Scottish Rite of SanDiego\, 1561 Cam del Rio S\, San Diego\, CA\, United States
GEO:32.766557;-117.147702
X-APPLE-STRUCTURED-LOCATION;VALUE=URI;X-ADDRESS=Scottish Rite of SanDiego 1561 Cam del Rio S San Diego CA United States;X-APPLE-RADIUS=500;X-TITLE=1561 Cam del Rio S:geo:-117.147702,32.766557
END:VEVENT
BEGIN:VEVENT
DTSTART;TZID=America/Los_Angeles:20260827T183000
DTEND;TZID=America/Los_Angeles:20260827T193000
DTSTAMP:20260420T002640
CREATED:20260122T050003Z
LAST-MODIFIED:20260418T045904Z
UID:10000737-1787855400-1787859000@yorkritesandiego.org
SUMMARY:San Diego Chapter No. 61 - Stated Convocation
DESCRIPTION:
URL:https://yorkritesandiego.org/event/san-diego-chapter-no-61-stated-convocation-33/
LOCATION:Al Bahr Shriners\, 5440 Kearny Mesa Rd\, San Diego\, CA\, United States
GEO:32.83319;-117.143529
X-APPLE-STRUCTURED-LOCATION;VALUE=URI;X-ADDRESS=Al Bahr Shriners 5440 Kearny Mesa Rd San Diego CA United States;X-APPLE-RADIUS=500;X-TITLE=5440 Kearny Mesa Rd:geo:-117.143529,32.83319
END:VEVENT
BEGIN:VEVENT
DTSTART;TZID=America/Los_Angeles:20260827T190000
DTEND;TZID=America/Los_Angeles:20260827T200000
DTSTAMP:20260420T002640
CREATED:20250902T063352Z
LAST-MODIFIED:20260120T001524Z
UID:10000519-1787857200-1787860800@yorkritesandiego.org
SUMMARY:San Diego Chapter No. 61 - Stated Convocation
DESCRIPTION:
URL:https://yorkritesandiego.org/event/san-diego-chapter-no-61-stated-convocation-12/
LOCATION:Al Bahr Shriners\, 5440 Kearny Mesa Rd\, San Diego\, CA\, United States
GEO:32.83319;-117.143529
X-APPLE-STRUCTURED-LOCATION;VALUE=URI;X-ADDRESS=Al Bahr Shriners 5440 Kearny Mesa Rd San Diego CA United States;X-APPLE-RADIUS=500;X-TITLE=5440 Kearny Mesa Rd:geo:-117.143529,32.83319
END:VEVENT
BEGIN:VEVENT
DTSTART;TZID=America/Los_Angeles:20260827T193000
DTEND;TZID=America/Los_Angeles:20260827T203000
DTSTAMP:20260420T002640
CREATED:20260122T050004Z
LAST-MODIFIED:20260418T045905Z
UID:10000738-1787859000-1787862600@yorkritesandiego.org
SUMMARY:San Diego Council No. 23 - Stated Assembly
DESCRIPTION:
URL:https://yorkritesandiego.org/event/san-diego-council-no-23-stated-assembly-33/
LOCATION:Al Bahr Shriners\, 5440 Kearny Mesa Rd\, San Diego\, CA\, United States
GEO:32.83319;-117.143529
X-APPLE-STRUCTURED-LOCATION;VALUE=URI;X-ADDRESS=Al Bahr Shriners 5440 Kearny Mesa Rd San Diego CA United States;X-APPLE-RADIUS=500;X-TITLE=5440 Kearny Mesa Rd:geo:-117.143529,32.83319
END:VEVENT
BEGIN:VEVENT
DTSTART;TZID=America/Los_Angeles:20260827T200000
DTEND;TZID=America/Los_Angeles:20260827T210000
DTSTAMP:20260420T002640
CREATED:20250902T063351Z
LAST-MODIFIED:20260120T001523Z
UID:10000518-1787860800-1787864400@yorkritesandiego.org
SUMMARY:San Diego Council No. 23 - Stated Assembly
DESCRIPTION:
URL:https://yorkritesandiego.org/event/san-diego-council-no-23-stated-assembly-12/
LOCATION:Al Bahr Shriners\, 5440 Kearny Mesa Rd\, San Diego\, CA\, United States
GEO:32.83319;-117.143529
X-APPLE-STRUCTURED-LOCATION;VALUE=URI;X-ADDRESS=Al Bahr Shriners 5440 Kearny Mesa Rd San Diego CA United States;X-APPLE-RADIUS=500;X-TITLE=5440 Kearny Mesa Rd:geo:-117.143529,32.83319
END:VEVENT
BEGIN:VEVENT
DTSTART;TZID=America/Los_Angeles:20260828T183000
DTEND;TZID=America/Los_Angeles:20260829T200000
DTSTAMP:20260420T002640
CREATED:20250902T063352Z
LAST-MODIFIED:20260418T045906Z
UID:10000520-1787941800-1788033600@yorkritesandiego.org
SUMMARY:Athelstan
DESCRIPTION:
URL:https://yorkritesandiego.org/event/athelstan-3/
LOCATION:57 W. Sunset Way\, Issaquah\, WA\, United States
GEO:47.497419;-122.010699
END:VEVENT
BEGIN:VEVENT
DTSTART;TZID=America/Los_Angeles:20260829T130000
DTEND;TZID=America/Los_Angeles:20260829T170000
DTSTAMP:20260420T002640
CREATED:20250902T063333Z
LAST-MODIFIED:20260418T045907Z
UID:10000510-1788008400-1788022800@yorkritesandiego.org
SUMMARY:SRICF - California College
DESCRIPTION:
URL:https://yorkritesandiego.org/event/sricf-california-college-4/
LOCATION:Saddleback Laguna Masonic Lodge No. 672\, 23685 Birtcher Dr\, Lake Forest\, CA\, United States
GEO:33.63367;-117.716807
X-APPLE-STRUCTURED-LOCATION;VALUE=URI;X-ADDRESS=Saddleback Laguna Masonic Lodge No. 672 23685 Birtcher Dr Lake Forest CA United States;X-APPLE-RADIUS=500;X-TITLE=23685 Birtcher Dr:geo:-117.716807,33.63367
END:VEVENT
END:VCALENDAR