BEGIN:VCALENDAR
VERSION:2.0
PRODID:-//San Diego York Rite - ECPv6.15.20//NONSGML v1.0//EN
CALSCALE:GREGORIAN
METHOD:PUBLISH
X-WR-CALNAME:San Diego York Rite
X-ORIGINAL-URL:https://yorkritesandiego.org
X-WR-CALDESC:Events for San Diego York Rite
REFRESH-INTERVAL;VALUE=DURATION:PT1H
X-Robots-Tag:noindex
X-PUBLISHED-TTL:PT1H
BEGIN:VTIMEZONE
TZID:America/Los_Angeles
BEGIN:DAYLIGHT
TZOFFSETFROM:-0800
TZOFFSETTO:-0700
TZNAME:PDT
DTSTART:20270314T100000
END:DAYLIGHT
BEGIN:STANDARD
TZOFFSETFROM:-0700
TZOFFSETTO:-0800
TZNAME:PST
DTSTART:20271107T090000
END:STANDARD
BEGIN:DAYLIGHT
TZOFFSETFROM:-0800
TZOFFSETTO:-0700
TZNAME:PDT
DTSTART:20280312T100000
END:DAYLIGHT
BEGIN:STANDARD
TZOFFSETFROM:-0700
TZOFFSETTO:-0800
TZNAME:PST
DTSTART:20281105T090000
END:STANDARD
BEGIN:DAYLIGHT
TZOFFSETFROM:-0800
TZOFFSETTO:-0700
TZNAME:PDT
DTSTART:20290311T100000
END:DAYLIGHT
BEGIN:STANDARD
TZOFFSETFROM:-0700
TZOFFSETTO:-0800
TZNAME:PST
DTSTART:20291104T090000
END:STANDARD
END:VTIMEZONE
BEGIN:VEVENT
DTSTART;TZID=America/Los_Angeles:20280111T190000
DTEND;TZID=America/Los_Angeles:20280111T210000
DTSTAMP:20260421T164639
CREATED:20260406T050322Z
LAST-MODIFIED:20260418T050228Z
UID:10000813-1831230000-1831237200@yorkritesandiego.org
SUMMARY:Beauséant Commandery No. 81 - Stated Conclave
DESCRIPTION:
URL:https://yorkritesandiego.org/event/beauseant-commandery-no-81-stated-conclave-13/
LOCATION:Escondido Masonic Center\, 1331 S Escondido Blvd\, Escondido\, CA\, United States
GEO:33.109201;-117.076437
X-APPLE-STRUCTURED-LOCATION;VALUE=URI;X-ADDRESS=Escondido Masonic Center 1331 S Escondido Blvd Escondido CA United States;X-APPLE-RADIUS=500;X-TITLE=1331 S Escondido Blvd:geo:-117.076437,33.109201
END:VEVENT
BEGIN:VEVENT
DTSTART;TZID=America/Los_Angeles:20280114T180000
DTEND;TZID=America/Los_Angeles:20280114T210000
DTSTAMP:20260421T164639
CREATED:20260411T050316Z
LAST-MODIFIED:20260418T050229Z
UID:10000814-1831485600-1831496400@yorkritesandiego.org
SUMMARY:Al Bahr Shrine
DESCRIPTION:
URL:https://yorkritesandiego.org/event/al-bahr-shrine-10/
LOCATION:CA
END:VEVENT
BEGIN:VEVENT
DTSTART;VALUE=DATE:20280117
DTEND;VALUE=DATE:20280118
DTSTAMP:20260421T164639
CREATED:20260416T201824Z
LAST-MODIFIED:20260418T050230Z
UID:10000815-1831680000-1831766399@yorkritesandiego.org
SUMMARY:Martin Luther King Jr. Day
DESCRIPTION:
URL:https://yorkritesandiego.org/event/martin-luther-king-jr-day-3/
LOCATION:CA
END:VEVENT
END:VCALENDAR