BEGIN:VCALENDAR
VERSION:2.0
PRODID:-//San Diego York Rite - ECPv6.15.20//NONSGML v1.0//EN
CALSCALE:GREGORIAN
METHOD:PUBLISH
X-ORIGINAL-URL:https://yorkritesandiego.org
X-WR-CALDESC:Events for San Diego York Rite
REFRESH-INTERVAL;VALUE=DURATION:PT1H
X-Robots-Tag:noindex
X-PUBLISHED-TTL:PT1H
BEGIN:VTIMEZONE
TZID:America/Los_Angeles
BEGIN:DAYLIGHT
TZOFFSETFROM:-0800
TZOFFSETTO:-0700
TZNAME:PDT
DTSTART:20250309T100000
END:DAYLIGHT
BEGIN:STANDARD
TZOFFSETFROM:-0700
TZOFFSETTO:-0800
TZNAME:PST
DTSTART:20251102T090000
END:STANDARD
BEGIN:DAYLIGHT
TZOFFSETFROM:-0800
TZOFFSETTO:-0700
TZNAME:PDT
DTSTART:20260308T100000
END:DAYLIGHT
BEGIN:STANDARD
TZOFFSETFROM:-0700
TZOFFSETTO:-0800
TZNAME:PST
DTSTART:20261101T090000
END:STANDARD
BEGIN:DAYLIGHT
TZOFFSETFROM:-0800
TZOFFSETTO:-0700
TZNAME:PDT
DTSTART:20270314T100000
END:DAYLIGHT
BEGIN:STANDARD
TZOFFSETFROM:-0700
TZOFFSETTO:-0800
TZNAME:PST
DTSTART:20271107T090000
END:STANDARD
BEGIN:DAYLIGHT
TZOFFSETFROM:-0800
TZOFFSETTO:-0700
TZNAME:PDT
DTSTART:20280312T100000
END:DAYLIGHT
BEGIN:STANDARD
TZOFFSETFROM:-0700
TZOFFSETTO:-0800
TZNAME:PST
DTSTART:20281105T090000
END:STANDARD
END:VTIMEZONE
BEGIN:VEVENT
DTSTART;VALUE=DATE:20261126
DTEND;VALUE=DATE:20261127
DTSTAMP:20260420T163037
CREATED:20250902T063506Z
LAST-MODIFIED:20260418T045945Z
UID:10000562-1795651200-1795737599@yorkritesandiego.org
SUMMARY:Thanksgiving Day
DESCRIPTION:
URL:https://yorkritesandiego.org/event/thanksgiving-day-2/
LOCATION:CA
END:VEVENT
BEGIN:VEVENT
DTSTART;TZID=America/Los_Angeles:20261126T183000
DTEND;TZID=America/Los_Angeles:20261126T193000
DTSTAMP:20260420T163037
CREATED:20260122T050055Z
LAST-MODIFIED:20260303T050041Z
UID:10000744-1795717800-1795721400@yorkritesandiego.org
SUMMARY:San Diego Chapter No. 61 - Stated Convocation
DESCRIPTION:
URL:https://yorkritesandiego.org/event/san-diego-chapter-no-61-stated-convocation-36/
LOCATION:Al Bahr Shriners\, 5440 Kearny Mesa Rd\, San Diego\, CA\, United States
GEO:32.83319;-117.143529
X-APPLE-STRUCTURED-LOCATION;VALUE=URI;X-ADDRESS=Al Bahr Shriners 5440 Kearny Mesa Rd San Diego CA United States;X-APPLE-RADIUS=500;X-TITLE=5440 Kearny Mesa Rd:geo:-117.143529,32.83319
END:VEVENT
BEGIN:VEVENT
DTSTART;TZID=America/Los_Angeles:20261126T190000
DTEND;TZID=America/Los_Angeles:20261126T200000
DTSTAMP:20260420T163037
CREATED:20250902T063522Z
LAST-MODIFIED:20260120T001613Z
UID:10000563-1795719600-1795723200@yorkritesandiego.org
SUMMARY:San Diego Chapter No. 61 - Stated Convocation
DESCRIPTION:
URL:https://yorkritesandiego.org/event/san-diego-chapter-no-61-stated-convocation-15/
LOCATION:Al Bahr Shriners\, 5440 Kearny Mesa Rd\, San Diego\, CA\, United States
GEO:32.83319;-117.143529
X-APPLE-STRUCTURED-LOCATION;VALUE=URI;X-ADDRESS=Al Bahr Shriners 5440 Kearny Mesa Rd San Diego CA United States;X-APPLE-RADIUS=500;X-TITLE=5440 Kearny Mesa Rd:geo:-117.143529,32.83319
END:VEVENT
BEGIN:VEVENT
DTSTART;TZID=America/Los_Angeles:20261126T193000
DTEND;TZID=America/Los_Angeles:20261126T203000
DTSTAMP:20260420T163037
CREATED:20260122T050054Z
LAST-MODIFIED:20260303T050040Z
UID:10000743-1795721400-1795725000@yorkritesandiego.org
SUMMARY:San Diego Council No. 23 - Stated Assembly
DESCRIPTION:
URL:https://yorkritesandiego.org/event/san-diego-council-no-23-stated-assembly-36/
LOCATION:Al Bahr Shriners\, 5440 Kearny Mesa Rd\, San Diego\, CA\, United States
GEO:32.83319;-117.143529
X-APPLE-STRUCTURED-LOCATION;VALUE=URI;X-ADDRESS=Al Bahr Shriners 5440 Kearny Mesa Rd San Diego CA United States;X-APPLE-RADIUS=500;X-TITLE=5440 Kearny Mesa Rd:geo:-117.143529,32.83319
END:VEVENT
BEGIN:VEVENT
DTSTART;TZID=America/Los_Angeles:20261126T200000
DTEND;TZID=America/Los_Angeles:20261126T210000
DTSTAMP:20260420T163037
CREATED:20250902T063522Z
LAST-MODIFIED:20260120T001614Z
UID:10000564-1795723200-1795726800@yorkritesandiego.org
SUMMARY:San Diego Council No. 23 - Stated Assembly
DESCRIPTION:
URL:https://yorkritesandiego.org/event/san-diego-council-no-23-stated-assembly-15/
LOCATION:Al Bahr Shriners\, 5440 Kearny Mesa Rd\, San Diego\, CA\, United States
GEO:32.83319;-117.143529
X-APPLE-STRUCTURED-LOCATION;VALUE=URI;X-ADDRESS=Al Bahr Shriners 5440 Kearny Mesa Rd San Diego CA United States;X-APPLE-RADIUS=500;X-TITLE=5440 Kearny Mesa Rd:geo:-117.143529,32.83319
END:VEVENT
BEGIN:VEVENT
DTSTART;TZID=America/Los_Angeles:20261202T180000
DTEND;TZID=America/Los_Angeles:20261202T210000
DTSTAMP:20260420T163037
CREATED:20250902T063522Z
LAST-MODIFIED:20260418T045946Z
UID:10000565-1796234400-1796245200@yorkritesandiego.org
SUMMARY:Scottish Rite
DESCRIPTION:
URL:https://yorkritesandiego.org/event/scottish-rite-16/
LOCATION:CA
END:VEVENT
BEGIN:VEVENT
DTSTART;TZID=America/Los_Angeles:20261203T120000
DTEND;TZID=America/Los_Angeles:20261203T130000
DTSTAMP:20260420T163037
CREATED:20250902T063522Z
LAST-MODIFIED:20260418T045947Z
UID:10000566-1796299200-1796302800@yorkritesandiego.org
SUMMARY:RCC
DESCRIPTION:
URL:https://yorkritesandiego.org/event/rcc-16/
LOCATION:CA
END:VEVENT
BEGIN:VEVENT
DTSTART;VALUE=DATE:20261204
DTEND;VALUE=DATE:20261206
DTSTAMP:20260420T163037
CREATED:20250902T063523Z
LAST-MODIFIED:20260418T045948Z
UID:10000567-1796342400-1796515199@yorkritesandiego.org
SUMMARY:Acon/Operatives - SLC\, UT
DESCRIPTION:
URL:https://yorkritesandiego.org/event/acon-operatives-slc-ut-5/
LOCATION:Salt Lake Masonic Temple\, 650 N Temple St\, Salt Lake City\, UT\, United States
GEO:40.771615;-111.909161
X-APPLE-STRUCTURED-LOCATION;VALUE=URI;X-ADDRESS=Salt Lake Masonic Temple 650 N Temple St Salt Lake City UT United States;X-APPLE-RADIUS=500;X-TITLE=650 N Temple St:geo:-111.909161,40.771615
END:VEVENT
BEGIN:VEVENT
DTSTART;TZID=America/Los_Angeles:20261206T143000
DTEND;TZID=America/Los_Angeles:20261206T153000
DTSTAMP:20260420T163037
CREATED:20250902T063523Z
LAST-MODIFIED:20260418T045949Z
UID:10000568-1796567400-1796571000@yorkritesandiego.org
SUMMARY:Inkopah Council No. 86 Allied Masonic Degrees
DESCRIPTION:
URL:https://yorkritesandiego.org/event/inkopah-council-no-86-allied-masonic-degrees-6/
LOCATION:Scottish Rite Childhood\, 1895 Cam del Rio S\, San Diego\, CA\, United States
GEO:32.767967;-117.144285
X-APPLE-STRUCTURED-LOCATION;VALUE=URI;X-ADDRESS=Scottish Rite Childhood 1895 Cam del Rio S San Diego CA United States;X-APPLE-RADIUS=500;X-TITLE=1895 Cam del Rio S:geo:-117.144285,32.767967
END:VEVENT
BEGIN:VEVENT
DTSTART;TZID=America/Los_Angeles:20261208T190000
DTEND;TZID=America/Los_Angeles:20261208T200000
DTSTAMP:20260420T163037
CREATED:20250902T063524Z
LAST-MODIFIED:20260418T045950Z
UID:10000569-1796756400-1796760000@yorkritesandiego.org
SUMMARY:Beauséant Commandery No. 81 - Stated Conclave
DESCRIPTION:
URL:https://yorkritesandiego.org/event/beauseant-commandery-no-81-stated-conclave-7/
LOCATION:Escondido Masonic Center\, 1331 S Escondido Blvd\, Escondido\, CA\, United States
GEO:33.109201;-117.076437
X-APPLE-STRUCTURED-LOCATION;VALUE=URI;X-ADDRESS=Escondido Masonic Center 1331 S Escondido Blvd Escondido CA United States;X-APPLE-RADIUS=500;X-TITLE=1331 S Escondido Blvd:geo:-117.076437,33.109201
END:VEVENT
BEGIN:VEVENT
DTSTART;TZID=America/Los_Angeles:20261213T110000
DTEND;TZID=America/Los_Angeles:20261213T123000
DTSTAMP:20260420T163037
CREATED:20250902T063524Z
LAST-MODIFIED:20260418T045951Z
UID:10000570-1797159600-1797165000@yorkritesandiego.org
SUMMARY:Killarney Council No. 56 Knight Masons
DESCRIPTION:
URL:https://yorkritesandiego.org/event/killarney-council-no-56-knight-masons-6/
LOCATION:Escondido Masonic Center\, 1331 S Escondido Blvd\, Escondido\, CA\, United States
GEO:33.109201;-117.076437
X-APPLE-STRUCTURED-LOCATION;VALUE=URI;X-ADDRESS=Escondido Masonic Center 1331 S Escondido Blvd Escondido CA United States;X-APPLE-RADIUS=500;X-TITLE=1331 S Escondido Blvd:geo:-117.076437,33.109201
END:VEVENT
BEGIN:VEVENT
DTSTART;TZID=America/Los_Angeles:20261213T120000
DTEND;TZID=America/Los_Angeles:20261213T130000
DTSTAMP:20260420T163037
CREATED:20250902T063524Z
LAST-MODIFIED:20260418T045950Z
UID:10000571-1797163200-1797166800@yorkritesandiego.org
SUMMARY:Mull of Galloway - Royal Order of Scotland
DESCRIPTION:St. Andrew’s Day – November 30th
URL:https://yorkritesandiego.org/event/mull-of-galloway-royal-order-of-scotland-2/
LOCATION:CA
END:VEVENT
BEGIN:VEVENT
DTSTART;TZID=America/Los_Angeles:20261213T143000
DTEND;TZID=America/Los_Angeles:20261213T163000
DTSTAMP:20260420T163037
CREATED:20250902T063525Z
LAST-MODIFIED:20260418T045952Z
UID:10000572-1797172200-1797179400@yorkritesandiego.org
SUMMARY:Kit Carson Council No. 237 Allied Masonic Degrees
DESCRIPTION:
URL:https://yorkritesandiego.org/event/kit-carson-council-no-237-allied-masonic-degrees-6/
LOCATION:Escondido Masonic Center\, 1331 S Escondido Blvd\, Escondido\, CA\, United States
GEO:33.109201;-117.076437
X-APPLE-STRUCTURED-LOCATION;VALUE=URI;X-ADDRESS=Escondido Masonic Center 1331 S Escondido Blvd Escondido CA United States;X-APPLE-RADIUS=500;X-TITLE=1331 S Escondido Blvd:geo:-117.076437,33.109201
END:VEVENT
BEGIN:VEVENT
DTSTART;TZID=America/Los_Angeles:20261215T190000
DTEND;TZID=America/Los_Angeles:20261215T200000
DTSTAMP:20260420T163037
CREATED:20250902T063539Z
LAST-MODIFIED:20260418T045953Z
UID:10000573-1797361200-1797364800@yorkritesandiego.org
SUMMARY:Jerrold A. Wohlfarth Chapter No. 130 - Stated Convocation - Election/Installation
DESCRIPTION:
URL:https://yorkritesandiego.org/event/jerrold-a-wohlfarth-chapter-no-130-stated-convocation-election-installation-2/
LOCATION:Vista Masonic Lodge No. 687 – Free and Accepted Masons\, 761 Eucalyptus Ave\, Vista\, CA\, United States
GEO:33.201288;-117.231988
X-APPLE-STRUCTURED-LOCATION;VALUE=URI;X-ADDRESS=Vista Masonic Lodge No. 687 – Free and Accepted Masons 761 Eucalyptus Ave Vista CA United States;X-APPLE-RADIUS=500;X-TITLE=761 Eucalyptus Ave:geo:-117.231988,33.201288
END:VEVENT
BEGIN:VEVENT
DTSTART;VALUE=DATE:20261220
DTEND;VALUE=DATE:20261221
DTSTAMP:20260420T163037
CREATED:20250902T063539Z
LAST-MODIFIED:20260418T045954Z
UID:10000574-1797724800-1797811199@yorkritesandiego.org
SUMMARY:HRAKTP
DESCRIPTION:
URL:https://yorkritesandiego.org/event/hraktp-3/
LOCATION:CA
END:VEVENT
BEGIN:VEVENT
DTSTART;TZID=America/Los_Angeles:20261222T190000
DTEND;TZID=America/Los_Angeles:20261222T203000
DTSTAMP:20260420T163037
CREATED:20250902T063540Z
LAST-MODIFIED:20260418T045955Z
UID:10000575-1797966000-1797971400@yorkritesandiego.org
SUMMARY:San Diego Commandery No. 25 - Stated Conclave
DESCRIPTION:
URL:https://yorkritesandiego.org/event/san-diego-commandery-no-25-stated-conclave-16/
LOCATION:Al Bahr Shriners\, 5440 Kearny Mesa Rd\, San Diego\, CA\, United States
GEO:32.83319;-117.143529
X-APPLE-STRUCTURED-LOCATION;VALUE=URI;X-ADDRESS=Al Bahr Shriners 5440 Kearny Mesa Rd San Diego CA United States;X-APPLE-RADIUS=500;X-TITLE=5440 Kearny Mesa Rd:geo:-117.143529,32.83319
END:VEVENT
BEGIN:VEVENT
DTSTART;TZID=America/Los_Angeles:20261223T120000
DTEND;TZID=America/Los_Angeles:20261223T130000
DTSTAMP:20260420T163037
CREATED:20250902T063540Z
LAST-MODIFIED:20260418T045956Z
UID:10000576-1798027200-1798030800@yorkritesandiego.org
SUMMARY:Sojourners
DESCRIPTION:
URL:https://yorkritesandiego.org/event/sojourners-16/
LOCATION:CA
END:VEVENT
BEGIN:VEVENT
DTSTART;TZID=America/Los_Angeles:20261224T183000
DTEND;TZID=America/Los_Angeles:20261224T193000
DTSTAMP:20260420T163037
CREATED:20260122T050111Z
LAST-MODIFIED:20260303T050054Z
UID:10000746-1798137000-1798140600@yorkritesandiego.org
SUMMARY:San Diego Chapter No. 61 - Stated Convocation
DESCRIPTION:
URL:https://yorkritesandiego.org/event/san-diego-chapter-no-61-stated-convocation-37/
LOCATION:Al Bahr Shriners\, 5440 Kearny Mesa Rd\, San Diego\, CA\, United States
GEO:32.83319;-117.143529
X-APPLE-STRUCTURED-LOCATION;VALUE=URI;X-ADDRESS=Al Bahr Shriners 5440 Kearny Mesa Rd San Diego CA United States;X-APPLE-RADIUS=500;X-TITLE=5440 Kearny Mesa Rd:geo:-117.143529,32.83319
END:VEVENT
BEGIN:VEVENT
DTSTART;TZID=America/Los_Angeles:20261224T190000
DTEND;TZID=America/Los_Angeles:20261224T200000
DTSTAMP:20260420T163037
CREATED:20250902T063541Z
LAST-MODIFIED:20260120T001630Z
UID:10000579-1798138800-1798142400@yorkritesandiego.org
SUMMARY:San Diego Chapter No. 61 - Stated Convocation
DESCRIPTION:
URL:https://yorkritesandiego.org/event/san-diego-chapter-no-61-stated-convocation-16/
LOCATION:Al Bahr Shriners\, 5440 Kearny Mesa Rd\, San Diego\, CA\, United States
GEO:32.83319;-117.143529
X-APPLE-STRUCTURED-LOCATION;VALUE=URI;X-ADDRESS=Al Bahr Shriners 5440 Kearny Mesa Rd San Diego CA United States;X-APPLE-RADIUS=500;X-TITLE=5440 Kearny Mesa Rd:geo:-117.143529,32.83319
END:VEVENT
BEGIN:VEVENT
DTSTART;TZID=America/Los_Angeles:20261224T193000
DTEND;TZID=America/Los_Angeles:20261224T203000
DTSTAMP:20260420T163037
CREATED:20260122T050109Z
LAST-MODIFIED:20260303T050056Z
UID:10000745-1798140600-1798144200@yorkritesandiego.org
SUMMARY:San Diego Council No. 23 - Stated Assembly
DESCRIPTION:
URL:https://yorkritesandiego.org/event/san-diego-council-no-23-stated-assembly-37/
LOCATION:Al Bahr Shriners\, 5440 Kearny Mesa Rd\, San Diego\, CA\, United States
GEO:32.83319;-117.143529
X-APPLE-STRUCTURED-LOCATION;VALUE=URI;X-ADDRESS=Al Bahr Shriners 5440 Kearny Mesa Rd San Diego CA United States;X-APPLE-RADIUS=500;X-TITLE=5440 Kearny Mesa Rd:geo:-117.143529,32.83319
END:VEVENT
BEGIN:VEVENT
DTSTART;TZID=America/Los_Angeles:20261224T200000
DTEND;TZID=America/Los_Angeles:20261224T210000
DTSTAMP:20260420T163037
CREATED:20250902T063540Z
LAST-MODIFIED:20260120T001627Z
UID:10000577-1798142400-1798146000@yorkritesandiego.org
SUMMARY:San Diego Council No. 23 - Stated Assembly
DESCRIPTION:
URL:https://yorkritesandiego.org/event/san-diego-council-no-23-stated-assembly-16/
LOCATION:Al Bahr Shriners\, 5440 Kearny Mesa Rd\, San Diego\, CA\, United States
GEO:32.83319;-117.143529
X-APPLE-STRUCTURED-LOCATION;VALUE=URI;X-ADDRESS=Al Bahr Shriners 5440 Kearny Mesa Rd San Diego CA United States;X-APPLE-RADIUS=500;X-TITLE=5440 Kearny Mesa Rd:geo:-117.143529,32.83319
END:VEVENT
BEGIN:VEVENT
DTSTART;VALUE=DATE:20261225
DTEND;VALUE=DATE:20261226
DTSTAMP:20260420T163037
CREATED:20250902T063540Z
LAST-MODIFIED:20260418T045957Z
UID:10000578-1798156800-1798243199@yorkritesandiego.org
SUMMARY:Christmas Day
DESCRIPTION:
URL:https://yorkritesandiego.org/event/christmas-day-2/
LOCATION:CA
END:VEVENT
BEGIN:VEVENT
DTSTART;VALUE=DATE:20261227
DTEND;VALUE=DATE:20261228
DTSTAMP:20260420T163037
CREATED:20250902T063541Z
LAST-MODIFIED:20260418T045958Z
UID:10000580-1798329600-1798415999@yorkritesandiego.org
SUMMARY:St. John the Evangelist day
DESCRIPTION:
URL:https://yorkritesandiego.org/event/st-john-the-evangelist-day-2/
LOCATION:CA
END:VEVENT
BEGIN:VEVENT
DTSTART;VALUE=DATE:20270101
DTEND;VALUE=DATE:20270102
DTSTAMP:20260420T163037
CREATED:20250902T063541Z
LAST-MODIFIED:20260418T045959Z
UID:10000581-1798761600-1798847999@yorkritesandiego.org
SUMMARY:New Year's Day
DESCRIPTION:
URL:https://yorkritesandiego.org/event/new-years-day-2/
LOCATION:CA
END:VEVENT
BEGIN:VEVENT
DTSTART;TZID=America/Los_Angeles:20270103T143000
DTEND;TZID=America/Los_Angeles:20270103T163000
DTSTAMP:20260420T163037
CREATED:20250902T063541Z
LAST-MODIFIED:20260418T050000Z
UID:10000582-1798986600-1798993800@yorkritesandiego.org
SUMMARY:San Diego No. 148 York Rite Sovereign College
DESCRIPTION:
URL:https://yorkritesandiego.org/event/san-diego-no-148-york-rite-sovereign-college-3/
LOCATION:East San Diego Masonic Lodge\, 7849 Tommy Dr\, San Diego\, CA\, United States
GEO:32.804368;-117.026413
X-APPLE-STRUCTURED-LOCATION;VALUE=URI;X-ADDRESS=East San Diego Masonic Lodge 7849 Tommy Dr San Diego CA United States;X-APPLE-RADIUS=500;X-TITLE=7849 Tommy Dr:geo:-117.026413,32.804368
END:VEVENT
BEGIN:VEVENT
DTSTART;TZID=America/Los_Angeles:20270106T180000
DTEND;TZID=America/Los_Angeles:20270106T210000
DTSTAMP:20260420T163037
CREATED:20250902T063558Z
LAST-MODIFIED:20260418T050000Z
UID:10000583-1799258400-1799269200@yorkritesandiego.org
SUMMARY:Scottish Rite
DESCRIPTION:
URL:https://yorkritesandiego.org/event/scottish-rite-17/
LOCATION:CA
END:VEVENT
BEGIN:VEVENT
DTSTART;TZID=America/Los_Angeles:20270107T120000
DTEND;TZID=America/Los_Angeles:20270107T130000
DTSTAMP:20260420T163037
CREATED:20250902T063558Z
LAST-MODIFIED:20260418T050001Z
UID:10000584-1799323200-1799326800@yorkritesandiego.org
SUMMARY:RCC
DESCRIPTION:
URL:https://yorkritesandiego.org/event/rcc-17/
LOCATION:CA
END:VEVENT
BEGIN:VEVENT
DTSTART;TZID=America/Los_Angeles:20270108T180000
DTEND;TZID=America/Los_Angeles:20270108T210000
DTSTAMP:20260420T163037
CREATED:20250902T063558Z
LAST-MODIFIED:20260418T050002Z
UID:10000585-1799431200-1799442000@yorkritesandiego.org
SUMMARY:Al Bahr Shrine
DESCRIPTION:
URL:https://yorkritesandiego.org/event/al-bahr-shrine-6/
LOCATION:CA
END:VEVENT
BEGIN:VEVENT
DTSTART;TZID=America/Los_Angeles:20270112T190000
DTEND;TZID=America/Los_Angeles:20270112T210000
DTSTAMP:20260420T163037
CREATED:20250902T063558Z
LAST-MODIFIED:20260418T050003Z
UID:10000586-1799780400-1799787600@yorkritesandiego.org
SUMMARY:Beauséant Commandery No. 81 - Stated Conclave
DESCRIPTION:
URL:https://yorkritesandiego.org/event/beauseant-commandery-no-81-stated-conclave-8/
LOCATION:Escondido Masonic Center\, 1331 S Escondido Blvd\, Escondido\, CA\, United States
GEO:33.109201;-117.076437
X-APPLE-STRUCTURED-LOCATION;VALUE=URI;X-ADDRESS=Escondido Masonic Center 1331 S Escondido Blvd Escondido CA United States;X-APPLE-RADIUS=500;X-TITLE=1331 S Escondido Blvd:geo:-117.076437,33.109201
END:VEVENT
BEGIN:VEVENT
DTSTART;VALUE=DATE:20270118
DTEND;VALUE=DATE:20270119
DTSTAMP:20260420T163037
CREATED:20250902T063559Z
LAST-MODIFIED:20260418T050004Z
UID:10000587-1800230400-1800316799@yorkritesandiego.org
SUMMARY:Martin Luther King Jr. Day
DESCRIPTION:
URL:https://yorkritesandiego.org/event/martin-luther-king-jr-day-2/
LOCATION:CA
END:VEVENT
END:VCALENDAR