BEGIN:VCALENDAR
VERSION:2.0
PRODID:-//San Diego York Rite - ECPv6.15.20//NONSGML v1.0//EN
CALSCALE:GREGORIAN
METHOD:PUBLISH
X-WR-CALNAME:San Diego York Rite
X-ORIGINAL-URL:https://yorkritesandiego.org
X-WR-CALDESC:Events for San Diego York Rite
REFRESH-INTERVAL;VALUE=DURATION:PT1H
X-Robots-Tag:noindex
X-PUBLISHED-TTL:PT1H
BEGIN:VTIMEZONE
TZID:America/Los_Angeles
BEGIN:DAYLIGHT
TZOFFSETFROM:-0800
TZOFFSETTO:-0700
TZNAME:PDT
DTSTART:20260308T100000
END:DAYLIGHT
BEGIN:STANDARD
TZOFFSETFROM:-0700
TZOFFSETTO:-0800
TZNAME:PST
DTSTART:20261101T090000
END:STANDARD
BEGIN:DAYLIGHT
TZOFFSETFROM:-0800
TZOFFSETTO:-0700
TZNAME:PDT
DTSTART:20270314T100000
END:DAYLIGHT
BEGIN:STANDARD
TZOFFSETFROM:-0700
TZOFFSETTO:-0800
TZNAME:PST
DTSTART:20271107T090000
END:STANDARD
BEGIN:DAYLIGHT
TZOFFSETFROM:-0800
TZOFFSETTO:-0700
TZNAME:PDT
DTSTART:20280312T100000
END:DAYLIGHT
BEGIN:STANDARD
TZOFFSETFROM:-0700
TZOFFSETTO:-0800
TZNAME:PST
DTSTART:20281105T090000
END:STANDARD
END:VTIMEZONE
BEGIN:VEVENT
DTSTART;TZID=America/Los_Angeles:20270923T183000
DTEND;TZID=America/Los_Angeles:20270923T193000
DTSTAMP:20260421T101910
CREATED:20260122T050316Z
LAST-MODIFIED:20260418T050146Z
UID:10000763-1821724200-1821727800@yorkritesandiego.org
SUMMARY:San Diego Chapter No. 61 - Stated Convocation
DESCRIPTION:
URL:https://yorkritesandiego.org/event/san-diego-chapter-no-61-stated-convocation-46/
LOCATION:Al Bahr Shriners\, 5440 Kearny Mesa Rd\, San Diego\, CA\, United States
GEO:32.83319;-117.143529
X-APPLE-STRUCTURED-LOCATION;VALUE=URI;X-ADDRESS=Al Bahr Shriners 5440 Kearny Mesa Rd San Diego CA United States;X-APPLE-RADIUS=500;X-TITLE=5440 Kearny Mesa Rd:geo:-117.143529,32.83319
END:VEVENT
BEGIN:VEVENT
DTSTART;TZID=America/Los_Angeles:20270923T190000
DTEND;TZID=America/Los_Angeles:20270923T200000
DTSTAMP:20260421T101910
CREATED:20260114T084914Z
LAST-MODIFIED:20260120T001831Z
UID:10000718-1821726000-1821729600@yorkritesandiego.org
SUMMARY:San Diego Chapter No. 61 - Stated Convocation
DESCRIPTION:
URL:https://yorkritesandiego.org/event/san-diego-chapter-no-61-stated-convocation-25/
LOCATION:Al Bahr Shriners\, 5440 Kearny Mesa Rd\, San Diego\, CA\, United States
GEO:32.83319;-117.143529
X-APPLE-STRUCTURED-LOCATION;VALUE=URI;X-ADDRESS=Al Bahr Shriners 5440 Kearny Mesa Rd San Diego CA United States;X-APPLE-RADIUS=500;X-TITLE=5440 Kearny Mesa Rd:geo:-117.143529,32.83319
END:VEVENT
BEGIN:VEVENT
DTSTART;TZID=America/Los_Angeles:20270923T193000
DTEND;TZID=America/Los_Angeles:20270923T203000
DTSTAMP:20260421T101910
CREATED:20260122T050317Z
LAST-MODIFIED:20260418T050145Z
UID:10000764-1821727800-1821731400@yorkritesandiego.org
SUMMARY:San Diego Council No. 23 - Stated Assembly
DESCRIPTION:
URL:https://yorkritesandiego.org/event/san-diego-council-no-23-stated-assembly-46/
LOCATION:Al Bahr Shriners\, 5440 Kearny Mesa Rd\, San Diego\, CA\, United States
GEO:32.83319;-117.143529
X-APPLE-STRUCTURED-LOCATION;VALUE=URI;X-ADDRESS=Al Bahr Shriners 5440 Kearny Mesa Rd San Diego CA United States;X-APPLE-RADIUS=500;X-TITLE=5440 Kearny Mesa Rd:geo:-117.143529,32.83319
END:VEVENT
BEGIN:VEVENT
DTSTART;TZID=America/Los_Angeles:20270923T200000
DTEND;TZID=America/Los_Angeles:20270923T210000
DTSTAMP:20260421T101910
CREATED:20260114T084915Z
LAST-MODIFIED:20260120T001832Z
UID:10000719-1821729600-1821733200@yorkritesandiego.org
SUMMARY:San Diego Council No. 23 - Stated Assembly
DESCRIPTION:
URL:https://yorkritesandiego.org/event/san-diego-council-no-23-stated-assembly-25/
LOCATION:Al Bahr Shriners\, 5440 Kearny Mesa Rd\, San Diego\, CA\, United States
GEO:32.83319;-117.143529
X-APPLE-STRUCTURED-LOCATION;VALUE=URI;X-ADDRESS=Al Bahr Shriners 5440 Kearny Mesa Rd San Diego CA United States;X-APPLE-RADIUS=500;X-TITLE=5440 Kearny Mesa Rd:geo:-117.143529,32.83319
END:VEVENT
BEGIN:VEVENT
DTSTART;TZID=America/Los_Angeles:20270928T190000
DTEND;TZID=America/Los_Angeles:20270928T203000
DTSTAMP:20260421T101910
CREATED:20260114T084917Z
LAST-MODIFIED:20260418T050147Z
UID:10000720-1822158000-1822163400@yorkritesandiego.org
SUMMARY:San Diego Commandery No. 25 - Stated Conclave
DESCRIPTION:
URL:https://yorkritesandiego.org/event/san-diego-commandery-no-25-stated-conclave-25/
LOCATION:Al Bahr Shriners\, 5440 Kearny Mesa Rd\, San Diego\, CA\, United States
GEO:32.83319;-117.143529
X-APPLE-STRUCTURED-LOCATION;VALUE=URI;X-ADDRESS=Al Bahr Shriners 5440 Kearny Mesa Rd San Diego CA United States;X-APPLE-RADIUS=500;X-TITLE=5440 Kearny Mesa Rd:geo:-117.143529,32.83319
END:VEVENT
BEGIN:VEVENT
DTSTART;TZID=America/Los_Angeles:20271002T080000
DTEND;TZID=America/Los_Angeles:20271002T150000
DTSTAMP:20260421T101910
CREATED:20260124T121910Z
LAST-MODIFIED:20260418T050148Z
UID:10000765-1822464000-1822489200@yorkritesandiego.org
SUMMARY:Commandery Orders
DESCRIPTION:
URL:https://yorkritesandiego.org/event/commandery-orders-5/
LOCATION:San Bernardino York Rite Temple\, 2888 N Arrowhead Ave\, San Bernardino\, CA\, United States
GEO:34.144353;-117.289704
X-APPLE-STRUCTURED-LOCATION;VALUE=URI;X-ADDRESS=San Bernardino York Rite Temple 2888 N Arrowhead Ave San Bernardino CA United States;X-APPLE-RADIUS=500;X-TITLE=2888 N Arrowhead Ave:geo:-117.289704,34.144353
END:VEVENT
BEGIN:VEVENT
DTSTART;TZID=America/Los_Angeles:20271006T180000
DTEND;TZID=America/Los_Angeles:20271006T210000
DTSTAMP:20260421T101910
CREATED:20260124T121911Z
LAST-MODIFIED:20260418T050149Z
UID:10000766-1822845600-1822856400@yorkritesandiego.org
SUMMARY:Scottish Rite
DESCRIPTION:
URL:https://yorkritesandiego.org/event/scottish-rite-26/
END:VEVENT
BEGIN:VEVENT
DTSTART;TZID=America/Los_Angeles:20271007T120000
DTEND;TZID=America/Los_Angeles:20271007T130000
DTSTAMP:20260421T101910
CREATED:20260126T050322Z
LAST-MODIFIED:20260418T050150Z
UID:10000768-1822910400-1822914000@yorkritesandiego.org
SUMMARY:RCC
DESCRIPTION:
URL:https://yorkritesandiego.org/event/rcc-26/
END:VEVENT
BEGIN:VEVENT
DTSTART;VALUE=DATE:20271008
DTEND;VALUE=DATE:20271011
DTSTAMP:20260421T101910
CREATED:20260128T000432Z
LAST-MODIFIED:20260418T050151Z
UID:10000769-1822953600-1823212799@yorkritesandiego.org
SUMMARY:Annual Communication
DESCRIPTION:
URL:https://yorkritesandiego.org/event/annual-communication-2/
END:VEVENT
BEGIN:VEVENT
DTSTART;TZID=America/Los_Angeles:20271008T180000
DTEND;TZID=America/Los_Angeles:20271008T210000
DTSTAMP:20260421T101910
CREATED:20260126T050323Z
LAST-MODIFIED:20260418T050151Z
UID:10000767-1823018400-1823029200@yorkritesandiego.org
SUMMARY:Al Bahr Shrine
DESCRIPTION:
URL:https://yorkritesandiego.org/event/al-bahr-shrine-9/
END:VEVENT
BEGIN:VEVENT
DTSTART;VALUE=DATE:20271013
DTEND;VALUE=DATE:20271014
DTSTAMP:20260421T101910
CREATED:20260202T000322Z
LAST-MODIFIED:20260418T050152Z
UID:10000770-1823385600-1823471999@yorkritesandiego.org
SUMMARY:Indigenous Peoples' Day
DESCRIPTION:
URL:https://yorkritesandiego.org/event/indigenous-peoples-day-3/
END:VEVENT
BEGIN:VEVENT
DTSTART;VALUE=DATE:20271017
DTEND;VALUE=DATE:20271020
DTSTAMP:20260421T101910
CREATED:20260202T000323Z
LAST-MODIFIED:20260418T050153Z
UID:10000771-1823731200-1823990399@yorkritesandiego.org
SUMMARY:Colorado River Festival - York Rite Degrees
DESCRIPTION:
URL:https://yorkritesandiego.org/event/colorado-river-festival-york-rite-degrees-3/
LOCATION:Don Laughlin’s Riverside Resort Hotel and Casino\, 1650 S Casino Dr\, Laughlin\, NV\, United States
GEO:35.166554;-114.572881
X-APPLE-STRUCTURED-LOCATION;VALUE=URI;X-ADDRESS=Don Laughlin’s Riverside Resort Hotel and Casino 1650 S Casino Dr Laughlin NV United States;X-APPLE-RADIUS=500;X-TITLE=1650 S Casino Dr:geo:-114.572881,35.166554
END:VEVENT
BEGIN:VEVENT
DTSTART;TZID=America/Los_Angeles:20271019T190000
DTEND;TZID=America/Los_Angeles:20271019T200000
DTSTAMP:20260421T101910
CREATED:20260206T000544Z
LAST-MODIFIED:20260418T050154Z
UID:10000772-1823972400-1823976000@yorkritesandiego.org
SUMMARY:Jerrold A. Wohlfarth Chapter No. 130 - Stated Convocation
DESCRIPTION:
URL:https://yorkritesandiego.org/event/jerrold-a-wohlfarth-chapter-no-130-stated-convocation-12/
LOCATION:Vista Masonic Center – Rental Hall and Event Venue\, 761 Eucalyptus Ave\, Vista\, CA\, United States
GEO:33.201288;-117.231988
X-APPLE-STRUCTURED-LOCATION;VALUE=URI;X-ADDRESS=Vista Masonic Center – Rental Hall and Event Venue 761 Eucalyptus Ave Vista CA United States;X-APPLE-RADIUS=500;X-TITLE=761 Eucalyptus Ave:geo:-117.231988,33.201288
END:VEVENT
BEGIN:VEVENT
DTSTART;VALUE=DATE:20271022
DTEND;VALUE=DATE:20271024
DTSTAMP:20260421T101910
CREATED:20260206T000546Z
LAST-MODIFIED:20260418T050155Z
UID:10000773-1824163200-1824335999@yorkritesandiego.org
SUMMARY:Scottish Rite - Fall Reunion
DESCRIPTION:
URL:https://yorkritesandiego.org/event/scottish-rite-fall-reunion-3/
END:VEVENT
BEGIN:VEVENT
DTSTART;TZID=America/Los_Angeles:20271026T190000
DTEND;TZID=America/Los_Angeles:20271026T203000
DTSTAMP:20260421T101910
CREATED:20260208T133223Z
LAST-MODIFIED:20260418T050156Z
UID:10000774-1824577200-1824582600@yorkritesandiego.org
SUMMARY:San Diego Commandery No. 25 - Stated Conclave
DESCRIPTION:
URL:https://yorkritesandiego.org/event/san-diego-commandery-no-25-stated-conclave-26/
LOCATION:Al Bahr Shriners\, 5440 Kearny Mesa Rd\, San Diego\, CA\, United States
GEO:32.83319;-117.143529
X-APPLE-STRUCTURED-LOCATION;VALUE=URI;X-ADDRESS=Al Bahr Shriners 5440 Kearny Mesa Rd San Diego CA United States;X-APPLE-RADIUS=500;X-TITLE=5440 Kearny Mesa Rd:geo:-117.143529,32.83319
END:VEVENT
BEGIN:VEVENT
DTSTART;TZID=America/Los_Angeles:20271026T190000
DTEND;TZID=America/Los_Angeles:20271026T203000
DTSTAMP:20260421T101910
CREATED:20260210T012008Z
LAST-MODIFIED:20260418T050155Z
UID:10000775-1824577200-1824582600@yorkritesandiego.org
SUMMARY:Helix Council No. 58 - Stated Assembly - Step-up
DESCRIPTION:
URL:https://yorkritesandiego.org/event/helix-council-no-58-stated-assembly-step-up-3/
LOCATION:Escondido Masonic Center\, 1331 S Escondido Blvd\, Escondido\, CA\, United States
GEO:33.109201;-117.076437
X-APPLE-STRUCTURED-LOCATION;VALUE=URI;X-ADDRESS=Escondido Masonic Center 1331 S Escondido Blvd Escondido CA United States;X-APPLE-RADIUS=500;X-TITLE=1331 S Escondido Blvd:geo:-117.076437,33.109201
END:VEVENT
BEGIN:VEVENT
DTSTART;TZID=America/Los_Angeles:20271027T120000
DTEND;TZID=America/Los_Angeles:20271027T130000
DTSTAMP:20260421T101910
CREATED:20260215T050326Z
LAST-MODIFIED:20260418T050157Z
UID:10000776-1824638400-1824642000@yorkritesandiego.org
SUMMARY:Sojourners
DESCRIPTION:
URL:https://yorkritesandiego.org/event/sojourners-26/
END:VEVENT
BEGIN:VEVENT
DTSTART;TZID=America/Los_Angeles:20271028T183000
DTEND;TZID=America/Los_Angeles:20271028T193000
DTSTAMP:20260421T101910
CREATED:20260223T210449Z
LAST-MODIFIED:20260418T050158Z
UID:10000777-1824748200-1824751800@yorkritesandiego.org
SUMMARY:San Diego Chapter No. 61 - Stated Convocation
DESCRIPTION:
URL:https://yorkritesandiego.org/event/san-diego-chapter-no-61-stated-convocation-47/
LOCATION:Al Bahr Shriners\, 5440 Kearny Mesa Rd\, San Diego\, CA\, United States
GEO:32.83319;-117.143529
X-APPLE-STRUCTURED-LOCATION;VALUE=URI;X-ADDRESS=Al Bahr Shriners 5440 Kearny Mesa Rd San Diego CA United States;X-APPLE-RADIUS=500;X-TITLE=5440 Kearny Mesa Rd:geo:-117.143529,32.83319
END:VEVENT
BEGIN:VEVENT
DTSTART;TZID=America/Los_Angeles:20271028T193000
DTEND;TZID=America/Los_Angeles:20271028T203000
DTSTAMP:20260421T101910
CREATED:20260223T210450Z
LAST-MODIFIED:20260418T050159Z
UID:10000778-1824751800-1824755400@yorkritesandiego.org
SUMMARY:San Diego Council No. 23 - Stated Assembly
DESCRIPTION:
URL:https://yorkritesandiego.org/event/san-diego-council-no-23-stated-assembly-47/
LOCATION:Al Bahr Shriners\, 5440 Kearny Mesa Rd\, San Diego\, CA\, United States
GEO:32.83319;-117.143529
X-APPLE-STRUCTURED-LOCATION;VALUE=URI;X-ADDRESS=Al Bahr Shriners 5440 Kearny Mesa Rd San Diego CA United States;X-APPLE-RADIUS=500;X-TITLE=5440 Kearny Mesa Rd:geo:-117.143529,32.83319
END:VEVENT
BEGIN:VEVENT
DTSTART;VALUE=DATE:20271031
DTEND;VALUE=DATE:20271101
DTSTAMP:20260421T101910
CREATED:20260223T210452Z
LAST-MODIFIED:20260418T050159Z
UID:10000779-1824940800-1825027199@yorkritesandiego.org
SUMMARY:Halloween
DESCRIPTION:
URL:https://yorkritesandiego.org/event/halloween-3/
END:VEVENT
BEGIN:VEVENT
DTSTART;VALUE=DATE:20271102
DTEND;VALUE=DATE:20271103
DTSTAMP:20260421T101910
CREATED:20260225T170315Z
LAST-MODIFIED:20260418T050200Z
UID:10000780-1825113600-1825199999@yorkritesandiego.org
SUMMARY:Election Day
DESCRIPTION:
URL:https://yorkritesandiego.org/event/election-day-3/
END:VEVENT
BEGIN:VEVENT
DTSTART;TZID=America/Los_Angeles:20271103T180000
DTEND;TZID=America/Los_Angeles:20271103T210000
DTSTAMP:20260421T101910
CREATED:20260225T170316Z
LAST-MODIFIED:20260418T050201Z
UID:10000781-1825264800-1825275600@yorkritesandiego.org
SUMMARY:Scottish Rite
DESCRIPTION:
URL:https://yorkritesandiego.org/event/scottish-rite-27/
END:VEVENT
BEGIN:VEVENT
DTSTART;TZID=America/Los_Angeles:20271104T120000
DTEND;TZID=America/Los_Angeles:20271104T130000
DTSTAMP:20260421T101910
CREATED:20260227T003219Z
LAST-MODIFIED:20260418T050202Z
UID:10000782-1825329600-1825333200@yorkritesandiego.org
SUMMARY:RCC
DESCRIPTION:
URL:https://yorkritesandiego.org/event/rcc-27/
END:VEVENT
BEGIN:VEVENT
DTSTART;TZID=America/Los_Angeles:20271106T130000
DTEND;TZID=America/Los_Angeles:20271106T170000
DTSTAMP:20260421T101910
CREATED:20260227T003220Z
LAST-MODIFIED:20260418T050203Z
UID:10000783-1825506000-1825520400@yorkritesandiego.org
SUMMARY:SRICF - California College
DESCRIPTION:
URL:https://yorkritesandiego.org/event/sricf-california-college-10/
LOCATION:Saddleback Laguna Masonic Lodge No. 672\, 23685 Birtcher Dr\, Lake Forest\, CA\, United States
GEO:33.63367;-117.716807
X-APPLE-STRUCTURED-LOCATION;VALUE=URI;X-ADDRESS=Saddleback Laguna Masonic Lodge No. 672 23685 Birtcher Dr Lake Forest CA United States;X-APPLE-RADIUS=500;X-TITLE=23685 Birtcher Dr:geo:-117.716807,33.63367
END:VEVENT
BEGIN:VEVENT
DTSTART;TZID=America/Los_Angeles:20271109T190000
DTEND;TZID=America/Los_Angeles:20271109T210000
DTSTAMP:20260421T101910
CREATED:20260301T001923Z
LAST-MODIFIED:20260418T050204Z
UID:10000784-1825786800-1825794000@yorkritesandiego.org
SUMMARY:Beauséant Commandery No. 81 - Stated Conclave - Step-up
DESCRIPTION:
URL:https://yorkritesandiego.org/event/beauseant-commandery-no-81-stated-conclave-step-up-3/
LOCATION:Escondido Masonic Center\, 1331 S Escondido Blvd\, Escondido\, CA\, United States
GEO:33.109201;-117.076437
X-APPLE-STRUCTURED-LOCATION;VALUE=URI;X-ADDRESS=Escondido Masonic Center 1331 S Escondido Blvd Escondido CA United States;X-APPLE-RADIUS=500;X-TITLE=1331 S Escondido Blvd:geo:-117.076437,33.109201
END:VEVENT
BEGIN:VEVENT
DTSTART;VALUE=DATE:20271111
DTEND;VALUE=DATE:20271112
DTSTAMP:20260421T101910
CREATED:20260301T001925Z
LAST-MODIFIED:20260418T050205Z
UID:10000786-1825891200-1825977599@yorkritesandiego.org
SUMMARY:Veterans Day
DESCRIPTION:
URL:https://yorkritesandiego.org/event/veterans-day-3/
END:VEVENT
BEGIN:VEVENT
DTSTART;VALUE=DATE:20271111
DTEND;VALUE=DATE:20271113
DTSTAMP:20260421T101910
CREATED:20260301T001924Z
LAST-MODIFIED:20260418T050206Z
UID:10000785-1825891200-1826063999@yorkritesandiego.org
SUMMARY:SRICF High Council
DESCRIPTION:
URL:https://yorkritesandiego.org/event/sricf-high-council-3/
END:VEVENT
BEGIN:VEVENT
DTSTART;TZID=America/Los_Angeles:20271123T190000
DTEND;TZID=America/Los_Angeles:20271123T200000
DTSTAMP:20260421T101910
CREATED:20260303T050331Z
LAST-MODIFIED:20260418T050207Z
UID:10000788-1826996400-1827000000@yorkritesandiego.org
SUMMARY:Helix Council No. 58 - Stated Assembly
DESCRIPTION:
URL:https://yorkritesandiego.org/event/helix-council-no-58-stated-assembly-11/
LOCATION:Escondido Masonic Center\, 1331 S Escondido Blvd\, Escondido\, CA\, United States
GEO:33.109201;-117.076437
X-APPLE-STRUCTURED-LOCATION;VALUE=URI;X-ADDRESS=Escondido Masonic Center 1331 S Escondido Blvd Escondido CA United States;X-APPLE-RADIUS=500;X-TITLE=1331 S Escondido Blvd:geo:-117.076437,33.109201
END:VEVENT
BEGIN:VEVENT
DTSTART;TZID=America/Los_Angeles:20271123T190000
DTEND;TZID=America/Los_Angeles:20271123T203000
DTSTAMP:20260421T101910
CREATED:20260301T001927Z
LAST-MODIFIED:20260418T050206Z
UID:10000787-1826996400-1827001800@yorkritesandiego.org
SUMMARY:San Diego Commandery No. 25 - Stated Conclave
DESCRIPTION:
URL:https://yorkritesandiego.org/event/san-diego-commandery-no-25-stated-conclave-27/
LOCATION:Al Bahr Shriners\, 5440 Kearny Mesa Rd\, San Diego\, CA\, United States
GEO:32.83319;-117.143529
X-APPLE-STRUCTURED-LOCATION;VALUE=URI;X-ADDRESS=Al Bahr Shriners 5440 Kearny Mesa Rd San Diego CA United States;X-APPLE-RADIUS=500;X-TITLE=5440 Kearny Mesa Rd:geo:-117.143529,32.83319
END:VEVENT
BEGIN:VEVENT
DTSTART;TZID=America/Los_Angeles:20271124T120000
DTEND;TZID=America/Los_Angeles:20271124T130000
DTSTAMP:20260421T101910
CREATED:20260303T050332Z
LAST-MODIFIED:20260418T050208Z
UID:10000789-1827057600-1827061200@yorkritesandiego.org
SUMMARY:Sojourners
DESCRIPTION:
URL:https://yorkritesandiego.org/event/sojourners-27/
END:VEVENT
END:VCALENDAR