BEGIN:VCALENDAR
VERSION:2.0
PRODID:-//San Diego York Rite - ECPv6.15.20//NONSGML v1.0//EN
CALSCALE:GREGORIAN
METHOD:PUBLISH
X-ORIGINAL-URL:https://yorkritesandiego.org
X-WR-CALDESC:Events for San Diego York Rite
REFRESH-INTERVAL;VALUE=DURATION:PT1H
X-Robots-Tag:noindex
X-PUBLISHED-TTL:PT1H
BEGIN:VTIMEZONE
TZID:America/Los_Angeles
BEGIN:DAYLIGHT
TZOFFSETFROM:-0800
TZOFFSETTO:-0700
TZNAME:PDT
DTSTART:20250309T100000
END:DAYLIGHT
BEGIN:STANDARD
TZOFFSETFROM:-0700
TZOFFSETTO:-0800
TZNAME:PST
DTSTART:20251102T090000
END:STANDARD
BEGIN:DAYLIGHT
TZOFFSETFROM:-0800
TZOFFSETTO:-0700
TZNAME:PDT
DTSTART:20260308T100000
END:DAYLIGHT
BEGIN:STANDARD
TZOFFSETFROM:-0700
TZOFFSETTO:-0800
TZNAME:PST
DTSTART:20261101T090000
END:STANDARD
BEGIN:DAYLIGHT
TZOFFSETFROM:-0800
TZOFFSETTO:-0700
TZNAME:PDT
DTSTART:20270314T100000
END:DAYLIGHT
BEGIN:STANDARD
TZOFFSETFROM:-0700
TZOFFSETTO:-0800
TZNAME:PST
DTSTART:20271107T090000
END:STANDARD
END:VTIMEZONE
BEGIN:VTIMEZONE
TZID:America/Chicago
BEGIN:DAYLIGHT
TZOFFSETFROM:-0600
TZOFFSETTO:-0500
TZNAME:CDT
DTSTART:20250309T080000
END:DAYLIGHT
BEGIN:STANDARD
TZOFFSETFROM:-0500
TZOFFSETTO:-0600
TZNAME:CST
DTSTART:20251102T070000
END:STANDARD
BEGIN:DAYLIGHT
TZOFFSETFROM:-0600
TZOFFSETTO:-0500
TZNAME:CDT
DTSTART:20260308T080000
END:DAYLIGHT
BEGIN:STANDARD
TZOFFSETFROM:-0500
TZOFFSETTO:-0600
TZNAME:CST
DTSTART:20261101T070000
END:STANDARD
BEGIN:DAYLIGHT
TZOFFSETFROM:-0600
TZOFFSETTO:-0500
TZNAME:CDT
DTSTART:20270314T080000
END:DAYLIGHT
BEGIN:STANDARD
TZOFFSETFROM:-0500
TZOFFSETTO:-0600
TZNAME:CST
DTSTART:20271107T070000
END:STANDARD
END:VTIMEZONE
BEGIN:VEVENT
DTSTART;VALUE=DATE:20260620
DTEND;VALUE=DATE:20260621
DTSTAMP:20260420T002931
CREATED:20251020T233026Z
LAST-MODIFIED:20260418T045838Z
UID:10000664-1781913600-1781999999@yorkritesandiego.org
SUMMARY:250th All Masonic Event
DESCRIPTION:More info to come
URL:https://yorkritesandiego.org/event/250th-all-masonic-event/
END:VEVENT
BEGIN:VEVENT
DTSTART;VALUE=DATE:20260621
DTEND;VALUE=DATE:20260622
DTSTAMP:20260420T002931
CREATED:20250902T063254Z
LAST-MODIFIED:20260418T045837Z
UID:10000490-1782000000-1782086399@yorkritesandiego.org
SUMMARY:Father's Day
DESCRIPTION:
URL:https://yorkritesandiego.org/event/fathers-day/
END:VEVENT
BEGIN:VEVENT
DTSTART;TZID=America/Los_Angeles:20260623T190000
DTEND;TZID=America/Los_Angeles:20260623T203000
DTSTAMP:20260420T002931
CREATED:20250902T063255Z
LAST-MODIFIED:20260418T045840Z
UID:10000492-1782241200-1782246600@yorkritesandiego.org
SUMMARY:San Diego Commandery No. 25 - Stated Conclave
DESCRIPTION:
URL:https://yorkritesandiego.org/event/san-diego-commandery-no-25-stated-conclave-10/
LOCATION:Al Bahr Shriners\, 5440 Kearny Mesa Rd\, San Diego\, CA\, United States
GEO:32.83319;-117.143529
X-APPLE-STRUCTURED-LOCATION;VALUE=URI;X-ADDRESS=Al Bahr Shriners 5440 Kearny Mesa Rd San Diego CA United States;X-APPLE-RADIUS=500;X-TITLE=5440 Kearny Mesa Rd:geo:-117.143529,32.83319
END:VEVENT
BEGIN:VEVENT
DTSTART;VALUE=DATE:20260624
DTEND;VALUE=DATE:20260625
DTSTAMP:20260420T002931
CREATED:20250902T063254Z
LAST-MODIFIED:20260418T045839Z
UID:10000491-1782259200-1782345599@yorkritesandiego.org
SUMMARY:St. John the Baptist Day
DESCRIPTION:
URL:https://yorkritesandiego.org/event/st-john-the-baptist-day/
END:VEVENT
BEGIN:VEVENT
DTSTART;TZID=America/Los_Angeles:20260624T120000
DTEND;TZID=America/Los_Angeles:20260624T130000
DTSTAMP:20260420T002931
CREATED:20250902T063311Z
LAST-MODIFIED:20260418T045838Z
UID:10000493-1782302400-1782306000@yorkritesandiego.org
SUMMARY:Sojourners
DESCRIPTION:
URL:https://yorkritesandiego.org/event/sojourners-10/
END:VEVENT
BEGIN:VEVENT
DTSTART;TZID=America/Los_Angeles:20260625T183000
DTEND;TZID=America/Los_Angeles:20260625T193000
DTSTAMP:20260420T002931
CREATED:20260122T045934Z
LAST-MODIFIED:20260418T045842Z
UID:10000734-1782412200-1782415800@yorkritesandiego.org
SUMMARY:San Diego Chapter No. 61 - Stated Convocation
DESCRIPTION:
URL:https://yorkritesandiego.org/event/san-diego-chapter-no-61-stated-convocation-31/
LOCATION:Al Bahr Shriners\, 5440 Kearny Mesa Rd\, San Diego\, CA\, United States
GEO:32.83319;-117.143529
X-APPLE-STRUCTURED-LOCATION;VALUE=URI;X-ADDRESS=Al Bahr Shriners 5440 Kearny Mesa Rd San Diego CA United States;X-APPLE-RADIUS=500;X-TITLE=5440 Kearny Mesa Rd:geo:-117.143529,32.83319
END:VEVENT
BEGIN:VEVENT
DTSTART;TZID=America/Los_Angeles:20260625T190000
DTEND;TZID=America/Los_Angeles:20260625T200000
DTSTAMP:20260420T002931
CREATED:20250902T063312Z
LAST-MODIFIED:20260120T001454Z
UID:10000495-1782414000-1782417600@yorkritesandiego.org
SUMMARY:San Diego Chapter No. 61 - Stated Convocation
DESCRIPTION:
URL:https://yorkritesandiego.org/event/san-diego-chapter-no-61-stated-convocation-10/
LOCATION:Al Bahr Shriners\, 5440 Kearny Mesa Rd\, San Diego\, CA\, United States
GEO:32.83319;-117.143529
X-APPLE-STRUCTURED-LOCATION;VALUE=URI;X-ADDRESS=Al Bahr Shriners 5440 Kearny Mesa Rd San Diego CA United States;X-APPLE-RADIUS=500;X-TITLE=5440 Kearny Mesa Rd:geo:-117.143529,32.83319
END:VEVENT
BEGIN:VEVENT
DTSTART;TZID=America/Los_Angeles:20260625T193000
DTEND;TZID=America/Los_Angeles:20260625T203000
DTSTAMP:20260420T002931
CREATED:20260122T045933Z
LAST-MODIFIED:20260418T045841Z
UID:10000733-1782415800-1782419400@yorkritesandiego.org
SUMMARY:San Diego Council No. 23 - Stated Assembly
DESCRIPTION:
URL:https://yorkritesandiego.org/event/san-diego-council-no-23-stated-assembly-31/
LOCATION:Al Bahr Shriners\, 5440 Kearny Mesa Rd\, San Diego\, CA\, United States
GEO:32.83319;-117.143529
X-APPLE-STRUCTURED-LOCATION;VALUE=URI;X-ADDRESS=Al Bahr Shriners 5440 Kearny Mesa Rd San Diego CA United States;X-APPLE-RADIUS=500;X-TITLE=5440 Kearny Mesa Rd:geo:-117.143529,32.83319
END:VEVENT
BEGIN:VEVENT
DTSTART;TZID=America/Los_Angeles:20260625T200000
DTEND;TZID=America/Los_Angeles:20260625T210000
DTSTAMP:20260420T002931
CREATED:20250902T063311Z
LAST-MODIFIED:20260120T001455Z
UID:10000494-1782417600-1782421200@yorkritesandiego.org
SUMMARY:San Diego Council No. 23 - Stated Assembly
DESCRIPTION:
URL:https://yorkritesandiego.org/event/san-diego-council-no-23-stated-assembly-10/
LOCATION:Al Bahr Shriners\, 5440 Kearny Mesa Rd\, San Diego\, CA\, United States
GEO:32.83319;-117.143529
X-APPLE-STRUCTURED-LOCATION;VALUE=URI;X-ADDRESS=Al Bahr Shriners 5440 Kearny Mesa Rd San Diego CA United States;X-APPLE-RADIUS=500;X-TITLE=5440 Kearny Mesa Rd:geo:-117.143529,32.83319
END:VEVENT
BEGIN:VEVENT
DTSTART;TZID=America/Los_Angeles:20260627T130000
DTEND;TZID=America/Los_Angeles:20260627T170000
DTSTAMP:20260420T002931
CREATED:20260114T084500Z
LAST-MODIFIED:20260418T045843Z
UID:10000713-1782565200-1782579600@yorkritesandiego.org
SUMMARY:SRICF California College
DESCRIPTION:
URL:https://yorkritesandiego.org/event/sricf-california-college-9/
LOCATION:Saddleback Laguna Masonic Lodge No. 672\, 23685 Birtcher Dr\, Lake Forest\, CA\, United States
GEO:33.63367;-117.716807
X-APPLE-STRUCTURED-LOCATION;VALUE=URI;X-ADDRESS=Saddleback Laguna Masonic Lodge No. 672 23685 Birtcher Dr Lake Forest CA United States;X-APPLE-RADIUS=500;X-TITLE=23685 Birtcher Dr:geo:-117.716807,33.63367
END:VEVENT
BEGIN:VEVENT
DTSTART;VALUE=DATE:20260628
DTEND;VALUE=DATE:20260629
DTSTAMP:20260420T002931
CREATED:20250902T063312Z
LAST-MODIFIED:20260418T045844Z
UID:10000496-1782604800-1782691199@yorkritesandiego.org
SUMMARY:HRAKTP
DESCRIPTION:
URL:https://yorkritesandiego.org/event/hraktp-2/
END:VEVENT
BEGIN:VEVENT
DTSTART;TZID=America/Los_Angeles:20260628T102500
DTEND;TZID=America/Los_Angeles:20260628T122500
DTSTAMP:20260420T002931
CREATED:20251024T233025Z
LAST-MODIFIED:20260418T045843Z
UID:10000672-1782642300-1782649500@yorkritesandiego.org
SUMMARY:HRAKTP
DESCRIPTION:
URL:https://yorkritesandiego.org/event/hraktp-7/
END:VEVENT
BEGIN:VEVENT
DTSTART;TZID=America/Chicago:20260628T122500
DTEND;TZID=America/Chicago:20260628T142500
DTSTAMP:20260420T002931
CREATED:20251024T233025Z
LAST-MODIFIED:20260418T045845Z
UID:10000671-1782649500-1782656700@yorkritesandiego.org
SUMMARY:HRAKTP
DESCRIPTION:
URL:https://yorkritesandiego.org/event/hraktp-6/
END:VEVENT
BEGIN:VEVENT
DTSTART;TZID=America/Los_Angeles:20260701T180000
DTEND;TZID=America/Los_Angeles:20260701T210000
DTSTAMP:20260420T002931
CREATED:20250902T063312Z
LAST-MODIFIED:20260418T045846Z
UID:10000497-1782928800-1782939600@yorkritesandiego.org
SUMMARY:Scottish Rite
DESCRIPTION:
URL:https://yorkritesandiego.org/event/scottish-rite-11/
END:VEVENT
BEGIN:VEVENT
DTSTART;TZID=America/Los_Angeles:20260702T120000
DTEND;TZID=America/Los_Angeles:20260702T130000
DTSTAMP:20260420T002931
CREATED:20250902T063313Z
LAST-MODIFIED:20260418T045846Z
UID:10000498-1782993600-1782997200@yorkritesandiego.org
SUMMARY:RCC
DESCRIPTION:
URL:https://yorkritesandiego.org/event/rcc-11/
END:VEVENT
BEGIN:VEVENT
DTSTART;VALUE=DATE:20260704
DTEND;VALUE=DATE:20260705
DTSTAMP:20260420T002931
CREATED:20250902T063313Z
LAST-MODIFIED:20260418T045847Z
UID:10000499-1783123200-1783209599@yorkritesandiego.org
SUMMARY:Independence Day
DESCRIPTION:
URL:https://yorkritesandiego.org/event/independence-day/
END:VEVENT
BEGIN:VEVENT
DTSTART;VALUE=DATE:20260710
DTEND;VALUE=DATE:20260712
DTSTAMP:20260420T002931
CREATED:20250902T063330Z
LAST-MODIFIED:20260418T045849Z
UID:10000503-1783641600-1783814399@yorkritesandiego.org
SUMMARY:Southwest Conference - RCC
DESCRIPTION:UTAH
URL:https://yorkritesandiego.org/event/southwest-conference-rcc/
END:VEVENT
BEGIN:VEVENT
DTSTART;TZID=America/Los_Angeles:20260710T180000
DTEND;TZID=America/Los_Angeles:20260710T210000
DTSTAMP:20260420T002931
CREATED:20250902T063314Z
LAST-MODIFIED:20260418T045850Z
UID:10000500-1783706400-1783717200@yorkritesandiego.org
SUMMARY:Al Bahr Shrine
DESCRIPTION:
URL:https://yorkritesandiego.org/event/al-bahr-shrine-4/
END:VEVENT
BEGIN:VEVENT
DTSTART;VALUE=DATE:20260711
DTEND;VALUE=DATE:20260712
DTSTAMP:20260420T002931
CREATED:20250902T063315Z
LAST-MODIFIED:20260418T045851Z
UID:10000501-1783728000-1783814399@yorkritesandiego.org
SUMMARY:Robert the Bruce Day
DESCRIPTION:
URL:https://yorkritesandiego.org/event/robert-the-bruce-day/
END:VEVENT
BEGIN:VEVENT
DTSTART;VALUE=DATE:20260712
DTEND;VALUE=DATE:20260717
DTSTAMP:20260420T002931
CREATED:20250902T063315Z
LAST-MODIFIED:20260418T045848Z
UID:10000502-1783814400-1784246399@yorkritesandiego.org
SUMMARY:Shrine Imperial Session
DESCRIPTION:
URL:https://yorkritesandiego.org/event/shrine-imperial-session/
END:VEVENT
BEGIN:VEVENT
DTSTART;TZID=America/Los_Angeles:20260719T120000
DTEND;TZID=America/Los_Angeles:20260719T150000
DTSTAMP:20260420T002931
CREATED:20250902T063330Z
LAST-MODIFIED:20260418T045852Z
UID:10000504-1784462400-1784473200@yorkritesandiego.org
SUMMARY:Robert the Bruce Association - Annual Meeting
DESCRIPTION:On or around Robert the Bruce Day (11 July)
URL:https://yorkritesandiego.org/event/robert-the-bruce-association-annual-meeting/
LOCATION:Snooty Frog\, 3300 Coach Ln\, Shingle Springs\, CA\, United States
GEO:38.658028;-120.974606
X-APPLE-STRUCTURED-LOCATION;VALUE=URI;X-ADDRESS=Snooty Frog 3300 Coach Ln Shingle Springs CA United States;X-APPLE-RADIUS=500;X-TITLE=3300 Coach Ln:geo:-120.974606,38.658028
END:VEVENT
BEGIN:VEVENT
DTSTART;TZID=America/Los_Angeles:20260721T190000
DTEND;TZID=America/Los_Angeles:20260721T200000
DTSTAMP:20260420T002931
CREATED:20250902T063331Z
LAST-MODIFIED:20260418T045852Z
UID:10000505-1784660400-1784664000@yorkritesandiego.org
SUMMARY:Jerrold A. Wohlfarth Chapter No. 130 - Stated Convocation
DESCRIPTION:
URL:https://yorkritesandiego.org/event/jerrold-a-wohlfarth-chapter-no-130-stated-convocation-5/
LOCATION:Vista Masonic Center – Rental Hall and Event Venue\, 761 Eucalyptus Ave\, Vista\, CA\, United States
GEO:33.201288;-117.231988
X-APPLE-STRUCTURED-LOCATION;VALUE=URI;X-ADDRESS=Vista Masonic Center – Rental Hall and Event Venue 761 Eucalyptus Ave Vista CA United States;X-APPLE-RADIUS=500;X-TITLE=761 Eucalyptus Ave:geo:-117.231988,33.201288
END:VEVENT
BEGIN:VEVENT
DTSTART;TZID=America/Los_Angeles:20260722T120000
DTEND;TZID=America/Los_Angeles:20260722T130000
DTSTAMP:20260420T002931
CREATED:20250902T063331Z
LAST-MODIFIED:20260418T045853Z
UID:10000506-1784721600-1784725200@yorkritesandiego.org
SUMMARY:Sojourners
DESCRIPTION:
URL:https://yorkritesandiego.org/event/sojourners-11/
END:VEVENT
BEGIN:VEVENT
DTSTART;TZID=America/Los_Angeles:20260723T183000
DTEND;TZID=America/Los_Angeles:20260723T193000
DTSTAMP:20260420T002931
CREATED:20260122T045950Z
LAST-MODIFIED:20260418T045855Z
UID:10000735-1784831400-1784835000@yorkritesandiego.org
SUMMARY:San Diego Chapter No. 61 - Stated Convocation
DESCRIPTION:
URL:https://yorkritesandiego.org/event/san-diego-chapter-no-61-stated-convocation-32/
LOCATION:Al Bahr Shriners\, 5440 Kearny Mesa Rd\, San Diego\, CA\, United States
GEO:32.83319;-117.143529
X-APPLE-STRUCTURED-LOCATION;VALUE=URI;X-ADDRESS=Al Bahr Shriners 5440 Kearny Mesa Rd San Diego CA United States;X-APPLE-RADIUS=500;X-TITLE=5440 Kearny Mesa Rd:geo:-117.143529,32.83319
END:VEVENT
BEGIN:VEVENT
DTSTART;TZID=America/Los_Angeles:20260723T190000
DTEND;TZID=America/Los_Angeles:20260723T200000
DTSTAMP:20260420T002931
CREATED:20250902T063332Z
LAST-MODIFIED:20260120T001512Z
UID:10000508-1784833200-1784836800@yorkritesandiego.org
SUMMARY:San Diego Chapter No. 61 - Stated Convocation
DESCRIPTION:
URL:https://yorkritesandiego.org/event/san-diego-chapter-no-61-stated-convocation-11/
LOCATION:Al Bahr Shriners\, 5440 Kearny Mesa Rd\, San Diego\, CA\, United States
GEO:32.83319;-117.143529
X-APPLE-STRUCTURED-LOCATION;VALUE=URI;X-ADDRESS=Al Bahr Shriners 5440 Kearny Mesa Rd San Diego CA United States;X-APPLE-RADIUS=500;X-TITLE=5440 Kearny Mesa Rd:geo:-117.143529,32.83319
END:VEVENT
BEGIN:VEVENT
DTSTART;TZID=America/Los_Angeles:20260723T193000
DTEND;TZID=America/Los_Angeles:20260723T203000
DTSTAMP:20260420T002931
CREATED:20260122T045951Z
LAST-MODIFIED:20260418T045854Z
UID:10000736-1784835000-1784838600@yorkritesandiego.org
SUMMARY:San Diego Council No. 23 - Stated Assembly
DESCRIPTION:
URL:https://yorkritesandiego.org/event/san-diego-council-no-23-stated-assembly-32/
LOCATION:Al Bahr Shriners\, 5440 Kearny Mesa Rd\, San Diego\, CA\, United States
GEO:32.83319;-117.143529
X-APPLE-STRUCTURED-LOCATION;VALUE=URI;X-ADDRESS=Al Bahr Shriners 5440 Kearny Mesa Rd San Diego CA United States;X-APPLE-RADIUS=500;X-TITLE=5440 Kearny Mesa Rd:geo:-117.143529,32.83319
END:VEVENT
BEGIN:VEVENT
DTSTART;TZID=America/Los_Angeles:20260723T200000
DTEND;TZID=America/Los_Angeles:20260723T210000
DTSTAMP:20260420T002931
CREATED:20250902T063331Z
LAST-MODIFIED:20260120T001511Z
UID:10000507-1784836800-1784840400@yorkritesandiego.org
SUMMARY:San Diego Council No. 23 - Stated Assembly
DESCRIPTION:
URL:https://yorkritesandiego.org/event/san-diego-council-no-23-stated-assembly-11/
LOCATION:Al Bahr Shriners\, 5440 Kearny Mesa Rd\, San Diego\, CA\, United States
GEO:32.83319;-117.143529
X-APPLE-STRUCTURED-LOCATION;VALUE=URI;X-ADDRESS=Al Bahr Shriners 5440 Kearny Mesa Rd San Diego CA United States;X-APPLE-RADIUS=500;X-TITLE=5440 Kearny Mesa Rd:geo:-117.143529,32.83319
END:VEVENT
BEGIN:VEVENT
DTSTART;TZID=America/Los_Angeles:20260725T120000
DTEND;TZID=America/Los_Angeles:20260725T160000
DTSTAMP:20260420T002931
CREATED:20251022T233100Z
LAST-MODIFIED:20260418T045856Z
UID:10000667-1784980800-1784995200@yorkritesandiego.org
SUMMARY:Concordia SRICF
DESCRIPTION:
URL:https://yorkritesandiego.org/event/concordia-sricf-3/
END:VEVENT
BEGIN:VEVENT
DTSTART;TZID=America/Los_Angeles:20260728T190000
DTEND;TZID=America/Los_Angeles:20260728T203000
DTSTAMP:20260420T002931
CREATED:20250902T063332Z
LAST-MODIFIED:20260418T045857Z
UID:10000509-1785265200-1785270600@yorkritesandiego.org
SUMMARY:San Diego Commandery No. 25 - Stated Conclave
DESCRIPTION:
URL:https://yorkritesandiego.org/event/san-diego-commandery-no-25-stated-conclave-11/
LOCATION:Al Bahr Shriners\, 5440 Kearny Mesa Rd\, San Diego\, CA\, United States
GEO:32.83319;-117.143529
X-APPLE-STRUCTURED-LOCATION;VALUE=URI;X-ADDRESS=Al Bahr Shriners 5440 Kearny Mesa Rd San Diego CA United States;X-APPLE-RADIUS=500;X-TITLE=5440 Kearny Mesa Rd:geo:-117.143529,32.83319
END:VEVENT
BEGIN:VEVENT
DTSTART;TZID=America/Los_Angeles:20260805T180000
DTEND;TZID=America/Los_Angeles:20260805T210000
DTSTAMP:20260420T002931
CREATED:20250902T063333Z
LAST-MODIFIED:20260418T045857Z
UID:10000511-1785952800-1785963600@yorkritesandiego.org
SUMMARY:Scottish Rite
DESCRIPTION:
URL:https://yorkritesandiego.org/event/scottish-rite-12/
END:VEVENT
END:VCALENDAR