BEGIN:VCALENDAR
VERSION:2.0
PRODID:-//San Diego York Rite - ECPv6.15.20//NONSGML v1.0//EN
CALSCALE:GREGORIAN
METHOD:PUBLISH
X-WR-CALNAME:San Diego York Rite
X-ORIGINAL-URL:https://yorkritesandiego.org
X-WR-CALDESC:Events for San Diego York Rite
REFRESH-INTERVAL;VALUE=DURATION:PT1H
X-Robots-Tag:noindex
X-PUBLISHED-TTL:PT1H
BEGIN:VTIMEZONE
TZID:America/Los_Angeles
BEGIN:DAYLIGHT
TZOFFSETFROM:-0800
TZOFFSETTO:-0700
TZNAME:PDT
DTSTART:20260308T100000
END:DAYLIGHT
BEGIN:STANDARD
TZOFFSETFROM:-0700
TZOFFSETTO:-0800
TZNAME:PST
DTSTART:20261101T090000
END:STANDARD
BEGIN:DAYLIGHT
TZOFFSETFROM:-0800
TZOFFSETTO:-0700
TZNAME:PDT
DTSTART:20270314T100000
END:DAYLIGHT
BEGIN:STANDARD
TZOFFSETFROM:-0700
TZOFFSETTO:-0800
TZNAME:PST
DTSTART:20271107T090000
END:STANDARD
BEGIN:DAYLIGHT
TZOFFSETFROM:-0800
TZOFFSETTO:-0700
TZNAME:PDT
DTSTART:20280312T100000
END:DAYLIGHT
BEGIN:STANDARD
TZOFFSETFROM:-0700
TZOFFSETTO:-0800
TZNAME:PST
DTSTART:20281105T090000
END:STANDARD
END:VTIMEZONE
BEGIN:VEVENT
DTSTART;TZID=America/Los_Angeles:20270225T190000
DTEND;TZID=America/Los_Angeles:20270225T200000
DTSTAMP:20260420T122948
CREATED:20250902T063639Z
LAST-MODIFIED:20260120T001656Z
UID:10000604-1803582000-1803585600@yorkritesandiego.org
SUMMARY:San Diego Chapter No. 61 - Stated Convocation
DESCRIPTION:
URL:https://yorkritesandiego.org/event/san-diego-chapter-no-61-stated-convocation-18/
LOCATION:Al Bahr Shriners\, 5440 Kearny Mesa Rd\, San Diego\, CA\, United States
GEO:32.83319;-117.143529
X-APPLE-STRUCTURED-LOCATION;VALUE=URI;X-ADDRESS=Al Bahr Shriners 5440 Kearny Mesa Rd San Diego CA United States;X-APPLE-RADIUS=500;X-TITLE=5440 Kearny Mesa Rd:geo:-117.143529,32.83319
END:VEVENT
BEGIN:VEVENT
DTSTART;TZID=America/Los_Angeles:20270225T193000
DTEND;TZID=America/Los_Angeles:20270225T203000
DTSTAMP:20260420T122948
CREATED:20260122T050136Z
LAST-MODIFIED:20260418T050021Z
UID:10000749-1803583800-1803587400@yorkritesandiego.org
SUMMARY:San Diego Council No. 23 - Stated Assembly
DESCRIPTION:
URL:https://yorkritesandiego.org/event/san-diego-council-no-23-stated-assembly-39/
LOCATION:Al Bahr Shriners\, 5440 Kearny Mesa Rd\, San Diego\, CA\, United States
GEO:32.83319;-117.143529
X-APPLE-STRUCTURED-LOCATION;VALUE=URI;X-ADDRESS=Al Bahr Shriners 5440 Kearny Mesa Rd San Diego CA United States;X-APPLE-RADIUS=500;X-TITLE=5440 Kearny Mesa Rd:geo:-117.143529,32.83319
END:VEVENT
BEGIN:VEVENT
DTSTART;TZID=America/Los_Angeles:20270225T200000
DTEND;TZID=America/Los_Angeles:20270225T210000
DTSTAMP:20260420T122948
CREATED:20250902T063639Z
LAST-MODIFIED:20260120T001657Z
UID:10000605-1803585600-1803589200@yorkritesandiego.org
SUMMARY:San Diego Council No. 23 - Stated Assembly
DESCRIPTION:
URL:https://yorkritesandiego.org/event/san-diego-council-no-23-stated-assembly-18/
LOCATION:Al Bahr Shriners\, 5440 Kearny Mesa Rd\, San Diego\, CA\, United States
GEO:32.83319;-117.143529
X-APPLE-STRUCTURED-LOCATION;VALUE=URI;X-ADDRESS=Al Bahr Shriners 5440 Kearny Mesa Rd San Diego CA United States;X-APPLE-RADIUS=500;X-TITLE=5440 Kearny Mesa Rd:geo:-117.143529,32.83319
END:VEVENT
BEGIN:VEVENT
DTSTART;TZID=America/Los_Angeles:20270227T170000
DTEND;TZID=America/Los_Angeles:20270227T210000
DTSTAMP:20260420T122948
CREATED:20250902T063640Z
LAST-MODIFIED:20260418T050023Z
UID:10000606-1803747600-1803762000@yorkritesandiego.org
SUMMARY:Southern California Past Masters Association - Annual Banquet and Meeting
DESCRIPTION:
URL:https://yorkritesandiego.org/event/southern-california-past-masters-association-annual-banquet-and-meeting-2/
LOCATION:Pasadena Scottish Rite\, 150 N Madison Ave\, Pasadena\, CA\, United States
GEO:34.148783;-118.138333
X-APPLE-STRUCTURED-LOCATION;VALUE=URI;X-ADDRESS=Pasadena Scottish Rite 150 N Madison Ave Pasadena CA United States;X-APPLE-RADIUS=500;X-TITLE=150 N Madison Ave:geo:-118.138333,34.148783
END:VEVENT
BEGIN:VEVENT
DTSTART;TZID=America/Los_Angeles:20270303T180000
DTEND;TZID=America/Los_Angeles:20270303T210000
DTSTAMP:20260420T122948
CREATED:20250902T063640Z
LAST-MODIFIED:20260418T050024Z
UID:10000607-1804096800-1804107600@yorkritesandiego.org
SUMMARY:Scottish Rite
DESCRIPTION:
URL:https://yorkritesandiego.org/event/scottish-rite-19/
END:VEVENT
BEGIN:VEVENT
DTSTART;TZID=America/Los_Angeles:20270304T120000
DTEND;TZID=America/Los_Angeles:20270304T130000
DTSTAMP:20260420T122948
CREATED:20250902T063640Z
LAST-MODIFIED:20260418T050025Z
UID:10000608-1804161600-1804165200@yorkritesandiego.org
SUMMARY:RCC
DESCRIPTION:
URL:https://yorkritesandiego.org/event/rcc-19/
END:VEVENT
BEGIN:VEVENT
DTSTART;VALUE=DATE:20270305
DTEND;VALUE=DATE:20270307
DTSTAMP:20260420T122948
CREATED:20250902T063640Z
LAST-MODIFIED:20260112T001654Z
UID:10000609-1804204800-1804377599@yorkritesandiego.org
SUMMARY:Grand York Rite Officers Conference
DESCRIPTION:
URL:https://yorkritesandiego.org/event/grand-york-rite-officers-conference-3/
LOCATION:San Ramon Marriott\, 2600 Bishop Dr\, San Ramon\, CA\, United States
GEO:37.767176;-121.969081
X-APPLE-STRUCTURED-LOCATION;VALUE=URI;X-ADDRESS=San Ramon Marriott 2600 Bishop Dr San Ramon CA United States;X-APPLE-RADIUS=500;X-TITLE=2600 Bishop Dr:geo:-121.969081,37.767176
END:VEVENT
BEGIN:VEVENT
DTSTART;TZID=America/Los_Angeles:20270307T143000
DTEND;TZID=America/Los_Angeles:20270307T153000
DTSTAMP:20260420T122948
CREATED:20250902T063641Z
LAST-MODIFIED:20260418T050026Z
UID:10000610-1804429800-1804433400@yorkritesandiego.org
SUMMARY:Inkopah Council No. 86 Allied Masonic Degrees
DESCRIPTION:
URL:https://yorkritesandiego.org/event/inkopah-council-no-86-allied-masonic-degrees-7/
LOCATION:Scottish Rite Childhood\, 1895 Cam del Rio S\, San Diego\, CA\, United States
GEO:32.767967;-117.144285
X-APPLE-STRUCTURED-LOCATION;VALUE=URI;X-ADDRESS=Scottish Rite Childhood 1895 Cam del Rio S San Diego CA United States;X-APPLE-RADIUS=500;X-TITLE=1895 Cam del Rio S:geo:-117.144285,32.767967
END:VEVENT
BEGIN:VEVENT
DTSTART;TZID=America/Los_Angeles:20270309T190000
DTEND;TZID=America/Los_Angeles:20270309T200000
DTSTAMP:20260420T122948
CREATED:20250902T063641Z
LAST-MODIFIED:20260418T050027Z
UID:10000611-1804618800-1804622400@yorkritesandiego.org
SUMMARY:Beauséant Commandery No. 81 - Stated Conclave
DESCRIPTION:
URL:https://yorkritesandiego.org/event/beauseant-commandery-no-81-stated-conclave-9/
LOCATION:Escondido Masonic Center\, 1331 S Escondido Blvd\, Escondido\, CA\, United States
GEO:33.109201;-117.076437
X-APPLE-STRUCTURED-LOCATION;VALUE=URI;X-ADDRESS=Escondido Masonic Center 1331 S Escondido Blvd Escondido CA United States;X-APPLE-RADIUS=500;X-TITLE=1331 S Escondido Blvd:geo:-117.076437,33.109201
END:VEVENT
BEGIN:VEVENT
DTSTART;TZID=America/Los_Angeles:20270313T120000
DTEND;TZID=America/Los_Angeles:20270313T130000
DTSTAMP:20260420T122948
CREATED:20250902T063641Z
LAST-MODIFIED:20260418T050027Z
UID:10000612-1804939200-1804942800@yorkritesandiego.org
SUMMARY:KYCH
DESCRIPTION:
URL:https://yorkritesandiego.org/event/kych-3/
END:VEVENT
BEGIN:VEVENT
DTSTART;VALUE=DATE:20270314
DTEND;VALUE=DATE:20270315
DTSTAMP:20260420T122948
CREATED:20250902T063657Z
LAST-MODIFIED:20260418T050028Z
UID:10000613-1804982400-1805068799@yorkritesandiego.org
SUMMARY:Daylight Saving Time starts
DESCRIPTION:
URL:https://yorkritesandiego.org/event/daylight-saving-time-starts-2/
END:VEVENT
BEGIN:VEVENT
DTSTART;TZID=America/Los_Angeles:20270314T110000
DTEND;TZID=America/Los_Angeles:20270314T123000
DTSTAMP:20260420T122948
CREATED:20250902T063658Z
LAST-MODIFIED:20260418T050029Z
UID:10000614-1805022000-1805027400@yorkritesandiego.org
SUMMARY:Killarney Council No. 56 Knight Masons
DESCRIPTION:
URL:https://yorkritesandiego.org/event/killarney-council-no-56-knight-masons-7/
LOCATION:Escondido Masonic Center\, 1331 S Escondido Blvd\, Escondido\, CA\, United States
GEO:33.109201;-117.076437
X-APPLE-STRUCTURED-LOCATION;VALUE=URI;X-ADDRESS=Escondido Masonic Center 1331 S Escondido Blvd Escondido CA United States;X-APPLE-RADIUS=500;X-TITLE=1331 S Escondido Blvd:geo:-117.076437,33.109201
END:VEVENT
BEGIN:VEVENT
DTSTART;TZID=America/Los_Angeles:20270314T143000
DTEND;TZID=America/Los_Angeles:20270314T163000
DTSTAMP:20260420T122948
CREATED:20250902T063658Z
LAST-MODIFIED:20260418T050030Z
UID:10000615-1805034600-1805041800@yorkritesandiego.org
SUMMARY:Kit Carson Council No. 237 Allied Masonic Degrees
DESCRIPTION:
URL:https://yorkritesandiego.org/event/kit-carson-council-no-237-allied-masonic-degrees-7/
LOCATION:Escondido Masonic Center\, 1331 S Escondido Blvd\, Escondido\, CA\, United States
GEO:33.109201;-117.076437
X-APPLE-STRUCTURED-LOCATION;VALUE=URI;X-ADDRESS=Escondido Masonic Center 1331 S Escondido Blvd Escondido CA United States;X-APPLE-RADIUS=500;X-TITLE=1331 S Escondido Blvd:geo:-117.076437,33.109201
END:VEVENT
BEGIN:VEVENT
DTSTART;VALUE=DATE:20270317
DTEND;VALUE=DATE:20270318
DTSTAMP:20260420T122948
CREATED:20250902T063658Z
LAST-MODIFIED:20260418T050031Z
UID:10000616-1805241600-1805327999@yorkritesandiego.org
SUMMARY:St. Patrick's Day
DESCRIPTION:
URL:https://yorkritesandiego.org/event/st-patricks-day-2/
END:VEVENT
BEGIN:VEVENT
DTSTART;VALUE=DATE:20270319
DTEND;VALUE=DATE:20270321
DTSTAMP:20260420T122948
CREATED:20250902T063659Z
LAST-MODIFIED:20260418T050032Z
UID:10000617-1805414400-1805587199@yorkritesandiego.org
SUMMARY:Grand York Rite Officers Conference
DESCRIPTION:
URL:https://yorkritesandiego.org/event/grand-york-rite-officers-conference-4/
LOCATION:San Ramon Marriott\, 2600 Bishop Dr\, San Ramon\, CA\, United States
GEO:37.767176;-121.969081
X-APPLE-STRUCTURED-LOCATION;VALUE=URI;X-ADDRESS=San Ramon Marriott 2600 Bishop Dr San Ramon CA United States;X-APPLE-RADIUS=500;X-TITLE=2600 Bishop Dr:geo:-121.969081,37.767176
END:VEVENT
BEGIN:VEVENT
DTSTART;VALUE=DATE:20270320
DTEND;VALUE=DATE:20270321
DTSTAMP:20260420T122948
CREATED:20250902T063659Z
LAST-MODIFIED:20260418T050033Z
UID:10000618-1805500800-1805587199@yorkritesandiego.org
SUMMARY:Shrine - Corned Beef Cabbage
DESCRIPTION:
URL:https://yorkritesandiego.org/event/shrine-corned-beef-cabbage-2/
END:VEVENT
BEGIN:VEVENT
DTSTART;TZID=America/Los_Angeles:20270323T190000
DTEND;TZID=America/Los_Angeles:20270323T200000
DTSTAMP:20260420T122948
CREATED:20250902T063700Z
LAST-MODIFIED:20260418T050035Z
UID:10000620-1805828400-1805832000@yorkritesandiego.org
SUMMARY:Helix Council No. 58 - Stated Assembly
DESCRIPTION:
URL:https://yorkritesandiego.org/event/helix-council-no-58-stated-assembly-8/
LOCATION:Escondido Masonic Center\, 1331 S Escondido Blvd\, Escondido\, CA\, United States
GEO:33.109201;-117.076437
X-APPLE-STRUCTURED-LOCATION;VALUE=URI;X-ADDRESS=Escondido Masonic Center 1331 S Escondido Blvd Escondido CA United States;X-APPLE-RADIUS=500;X-TITLE=1331 S Escondido Blvd:geo:-117.076437,33.109201
END:VEVENT
BEGIN:VEVENT
DTSTART;TZID=America/Los_Angeles:20270323T190000
DTEND;TZID=America/Los_Angeles:20270323T203000
DTSTAMP:20260420T122948
CREATED:20250902T063659Z
LAST-MODIFIED:20260418T050034Z
UID:10000619-1805828400-1805833800@yorkritesandiego.org
SUMMARY:San Diego Commandery No. 25 - Stated Conclave
DESCRIPTION:
URL:https://yorkritesandiego.org/event/san-diego-commandery-no-25-stated-conclave-19/
LOCATION:Al Bahr Shriners\, 5440 Kearny Mesa Rd\, San Diego\, CA\, United States
GEO:32.83319;-117.143529
X-APPLE-STRUCTURED-LOCATION;VALUE=URI;X-ADDRESS=Al Bahr Shriners 5440 Kearny Mesa Rd San Diego CA United States;X-APPLE-RADIUS=500;X-TITLE=5440 Kearny Mesa Rd:geo:-117.143529,32.83319
END:VEVENT
BEGIN:VEVENT
DTSTART;TZID=America/Los_Angeles:20270324T120000
DTEND;TZID=America/Los_Angeles:20270324T130000
DTSTAMP:20260420T122948
CREATED:20250902T063700Z
LAST-MODIFIED:20260418T050036Z
UID:10000621-1805889600-1805893200@yorkritesandiego.org
SUMMARY:Sojourners
DESCRIPTION:
URL:https://yorkritesandiego.org/event/sojourners-19/
END:VEVENT
BEGIN:VEVENT
DTSTART;TZID=America/Los_Angeles:20270325T183000
DTEND;TZID=America/Los_Angeles:20270325T193000
DTSTAMP:20260420T122948
CREATED:20260122T050155Z
LAST-MODIFIED:20260418T050037Z
UID:10000752-1805999400-1806003000@yorkritesandiego.org
SUMMARY:San Diego Chapter No. 61 - Stated Convocation
DESCRIPTION:
URL:https://yorkritesandiego.org/event/san-diego-chapter-no-61-stated-convocation-40/
LOCATION:Al Bahr Shriners\, 5440 Kearny Mesa Rd\, San Diego\, CA\, United States
GEO:32.83319;-117.143529
X-APPLE-STRUCTURED-LOCATION;VALUE=URI;X-ADDRESS=Al Bahr Shriners 5440 Kearny Mesa Rd San Diego CA United States;X-APPLE-RADIUS=500;X-TITLE=5440 Kearny Mesa Rd:geo:-117.143529,32.83319
END:VEVENT
BEGIN:VEVENT
DTSTART;TZID=America/Los_Angeles:20270325T190000
DTEND;TZID=America/Los_Angeles:20270325T200000
DTSTAMP:20260420T122948
CREATED:20250902T063700Z
LAST-MODIFIED:20260120T001714Z
UID:10000622-1806001200-1806004800@yorkritesandiego.org
SUMMARY:San Diego Chapter No. 61 - Stated Convocation
DESCRIPTION:
URL:https://yorkritesandiego.org/event/san-diego-chapter-no-61-stated-convocation-19/
LOCATION:Al Bahr Shriners\, 5440 Kearny Mesa Rd\, San Diego\, CA\, United States
GEO:32.83319;-117.143529
X-APPLE-STRUCTURED-LOCATION;VALUE=URI;X-ADDRESS=Al Bahr Shriners 5440 Kearny Mesa Rd San Diego CA United States;X-APPLE-RADIUS=500;X-TITLE=5440 Kearny Mesa Rd:geo:-117.143529,32.83319
END:VEVENT
BEGIN:VEVENT
DTSTART;TZID=America/Los_Angeles:20270325T193000
DTEND;TZID=America/Los_Angeles:20270325T203000
DTSTAMP:20260420T122948
CREATED:20260122T050154Z
LAST-MODIFIED:20260418T050038Z
UID:10000751-1806003000-1806006600@yorkritesandiego.org
SUMMARY:San Diego Council No. 23 - Stated Assembly
DESCRIPTION:
URL:https://yorkritesandiego.org/event/san-diego-council-no-23-stated-assembly-40/
LOCATION:Al Bahr Shriners\, 5440 Kearny Mesa Rd\, San Diego\, CA\, United States
GEO:32.83319;-117.143529
X-APPLE-STRUCTURED-LOCATION;VALUE=URI;X-ADDRESS=Al Bahr Shriners 5440 Kearny Mesa Rd San Diego CA United States;X-APPLE-RADIUS=500;X-TITLE=5440 Kearny Mesa Rd:geo:-117.143529,32.83319
END:VEVENT
BEGIN:VEVENT
DTSTART;TZID=America/Los_Angeles:20270325T200000
DTEND;TZID=America/Los_Angeles:20270325T210000
DTSTAMP:20260420T122948
CREATED:20250902T063716Z
LAST-MODIFIED:20260120T001715Z
UID:10000623-1806004800-1806008400@yorkritesandiego.org
SUMMARY:San Diego Council No. 23 - Stated Assembly
DESCRIPTION:
URL:https://yorkritesandiego.org/event/san-diego-council-no-23-stated-assembly-19/
LOCATION:Al Bahr Shriners\, 5440 Kearny Mesa Rd\, San Diego\, CA\, United States
GEO:32.83319;-117.143529
X-APPLE-STRUCTURED-LOCATION;VALUE=URI;X-ADDRESS=Al Bahr Shriners 5440 Kearny Mesa Rd San Diego CA United States;X-APPLE-RADIUS=500;X-TITLE=5440 Kearny Mesa Rd:geo:-117.143529,32.83319
END:VEVENT
BEGIN:VEVENT
DTSTART;VALUE=DATE:20270328
DTEND;VALUE=DATE:20270329
DTSTAMP:20260420T122948
CREATED:20250902T063716Z
LAST-MODIFIED:20260418T050039Z
UID:10000624-1806192000-1806278399@yorkritesandiego.org
SUMMARY:Easter Sunday
DESCRIPTION:
URL:https://yorkritesandiego.org/event/easter-sunday-2/
END:VEVENT
BEGIN:VEVENT
DTSTART;TZID=America/Los_Angeles:20270401T120000
DTEND;TZID=America/Los_Angeles:20270401T130000
DTSTAMP:20260420T122948
CREATED:20250902T063716Z
LAST-MODIFIED:20260418T050040Z
UID:10000625-1806580800-1806584400@yorkritesandiego.org
SUMMARY:RCC
DESCRIPTION:
URL:https://yorkritesandiego.org/event/rcc-20/
END:VEVENT
BEGIN:VEVENT
DTSTART;TZID=America/Los_Angeles:20270403T080000
DTEND;TZID=America/Los_Angeles:20270403T150000
DTSTAMP:20260420T122948
CREATED:20250902T063717Z
LAST-MODIFIED:20260418T050041Z
UID:10000626-1806739200-1806764400@yorkritesandiego.org
SUMMARY:COMMANDERY ORDERS
DESCRIPTION:
URL:https://yorkritesandiego.org/event/commandery-orders-4/
LOCATION:San Bernardino York Rite Temple\, 2888 N Arrowhead Ave\, San Bernardino\, CA\, United States
GEO:34.144353;-117.289704
X-APPLE-STRUCTURED-LOCATION;VALUE=URI;X-ADDRESS=San Bernardino York Rite Temple 2888 N Arrowhead Ave San Bernardino CA United States;X-APPLE-RADIUS=500;X-TITLE=2888 N Arrowhead Ave:geo:-117.289704,34.144353
END:VEVENT
BEGIN:VEVENT
DTSTART;TZID=America/Los_Angeles:20270407T180000
DTEND;TZID=America/Los_Angeles:20270407T210000
DTSTAMP:20260420T122948
CREATED:20250902T063717Z
LAST-MODIFIED:20260418T050042Z
UID:10000627-1807120800-1807131600@yorkritesandiego.org
SUMMARY:Scottish Rite
DESCRIPTION:
URL:https://yorkritesandiego.org/event/scottish-rite-20/
END:VEVENT
BEGIN:VEVENT
DTSTART;VALUE=DATE:20270409
DTEND;VALUE=DATE:20270411
DTSTAMP:20260420T122948
CREATED:20250902T063717Z
LAST-MODIFIED:20260418T050044Z
UID:10000628-1807228800-1807401599@yorkritesandiego.org
SUMMARY:Acon/Operatives - SLC\, UT
DESCRIPTION:
URL:https://yorkritesandiego.org/event/acon-operatives-slc-ut-6/
LOCATION:Salt Lake Masonic Temple\, 650 N Temple St\, Salt Lake City\, UT\, United States
GEO:40.771615;-111.909161
X-APPLE-STRUCTURED-LOCATION;VALUE=URI;X-ADDRESS=Salt Lake Masonic Temple 650 N Temple St Salt Lake City UT United States;X-APPLE-RADIUS=500;X-TITLE=650 N Temple St:geo:-111.909161,40.771615
END:VEVENT
BEGIN:VEVENT
DTSTART;TZID=America/Los_Angeles:20270409T180000
DTEND;TZID=America/Los_Angeles:20270409T210000
DTSTAMP:20260420T122948
CREATED:20250902T063718Z
LAST-MODIFIED:20260418T050043Z
UID:10000629-1807293600-1807304400@yorkritesandiego.org
SUMMARY:Al Bahr Shrine
DESCRIPTION:
URL:https://yorkritesandiego.org/event/al-bahr-shrine-7/
END:VEVENT
BEGIN:VEVENT
DTSTART;TZID=America/Los_Angeles:20270411T180000
DTEND;TZID=America/Los_Angeles:20270411T210000
DTSTAMP:20260420T122948
CREATED:20250902T063718Z
LAST-MODIFIED:20260418T050044Z
UID:10000630-1807466400-1807477200@yorkritesandiego.org
SUMMARY:RCC Formal
DESCRIPTION:
URL:https://yorkritesandiego.org/event/rcc-formal-2/
END:VEVENT
END:VCALENDAR