BEGIN:VCALENDAR
VERSION:2.0
PRODID:-//San Diego York Rite - ECPv6.15.20//NONSGML v1.0//EN
CALSCALE:GREGORIAN
METHOD:PUBLISH
X-ORIGINAL-URL:https://yorkritesandiego.org
X-WR-CALDESC:Events for San Diego York Rite
REFRESH-INTERVAL;VALUE=DURATION:PT1H
X-Robots-Tag:noindex
X-PUBLISHED-TTL:PT1H
BEGIN:VTIMEZONE
TZID:America/Los_Angeles
BEGIN:DAYLIGHT
TZOFFSETFROM:-0800
TZOFFSETTO:-0700
TZNAME:PDT
DTSTART:20260308T100000
END:DAYLIGHT
BEGIN:STANDARD
TZOFFSETFROM:-0700
TZOFFSETTO:-0800
TZNAME:PST
DTSTART:20261101T090000
END:STANDARD
BEGIN:DAYLIGHT
TZOFFSETFROM:-0800
TZOFFSETTO:-0700
TZNAME:PDT
DTSTART:20270314T100000
END:DAYLIGHT
BEGIN:STANDARD
TZOFFSETFROM:-0700
TZOFFSETTO:-0800
TZNAME:PST
DTSTART:20271107T090000
END:STANDARD
BEGIN:DAYLIGHT
TZOFFSETFROM:-0800
TZOFFSETTO:-0700
TZNAME:PDT
DTSTART:20280312T100000
END:DAYLIGHT
BEGIN:STANDARD
TZOFFSETFROM:-0700
TZOFFSETTO:-0800
TZNAME:PST
DTSTART:20281105T090000
END:STANDARD
END:VTIMEZONE
BEGIN:VEVENT
DTSTART;VALUE=DATE:20270501
DTEND;VALUE=DATE:20270502
DTSTAMP:20260420T201208
CREATED:20250902T063736Z
LAST-MODIFIED:20260418T050051Z
UID:10000636-1809129600-1809215999@yorkritesandiego.org
SUMMARY:First Day of Asian Pacific American Heritage Month
DESCRIPTION:
URL:https://yorkritesandiego.org/event/first-day-of-asian-pacific-american-heritage-month-2/
END:VEVENT
BEGIN:VEVENT
DTSTART;TZID=America/Los_Angeles:20270501T130000
DTEND;TZID=America/Los_Angeles:20270501T170000
DTSTAMP:20260420T201208
CREATED:20250902T063737Z
LAST-MODIFIED:20260418T050050Z
UID:10000637-1809176400-1809190800@yorkritesandiego.org
SUMMARY:SRICF - California College
DESCRIPTION:
URL:https://yorkritesandiego.org/event/sricf-california-college-7/
LOCATION:Saddleback Laguna Masonic Lodge No. 672\, 23685 Birtcher Dr\, Lake Forest\, CA\, United States
GEO:33.63367;-117.716807
X-APPLE-STRUCTURED-LOCATION;VALUE=URI;X-ADDRESS=Saddleback Laguna Masonic Lodge No. 672 23685 Birtcher Dr Lake Forest CA United States;X-APPLE-RADIUS=500;X-TITLE=23685 Birtcher Dr:geo:-117.716807,33.63367
END:VEVENT
BEGIN:VEVENT
DTSTART;TZID=America/Los_Angeles:20270505T180000
DTEND;TZID=America/Los_Angeles:20270505T210000
DTSTAMP:20260420T201208
CREATED:20250902T063737Z
LAST-MODIFIED:20260418T050052Z
UID:10000638-1809540000-1809550800@yorkritesandiego.org
SUMMARY:Scottish Rite
DESCRIPTION:
URL:https://yorkritesandiego.org/event/scottish-rite-21/
END:VEVENT
BEGIN:VEVENT
DTSTART;TZID=America/Los_Angeles:20270506T120000
DTEND;TZID=America/Los_Angeles:20270506T130000
DTSTAMP:20260420T201208
CREATED:20250902T063737Z
LAST-MODIFIED:20260418T050053Z
UID:10000639-1809604800-1809608400@yorkritesandiego.org
SUMMARY:RCC
DESCRIPTION:
URL:https://yorkritesandiego.org/event/rcc-21/
END:VEVENT
BEGIN:VEVENT
DTSTART;VALUE=DATE:20270509
DTEND;VALUE=DATE:20270510
DTSTAMP:20260420T201208
CREATED:20250902T063738Z
LAST-MODIFIED:20260418T050053Z
UID:10000640-1809820800-1809907199@yorkritesandiego.org
SUMMARY:Mother's Day
DESCRIPTION:
URL:https://yorkritesandiego.org/event/mothers-day-2/
END:VEVENT
BEGIN:VEVENT
DTSTART;VALUE=DATE:20270520
DTEND;VALUE=DATE:20270525
DTSTAMP:20260420T201208
CREATED:20250902T063739Z
LAST-MODIFIED:20260418T050055Z
UID:10000642-1810771200-1811203199@yorkritesandiego.org
SUMMARY:Grand York Rite Sessions
DESCRIPTION:
URL:https://yorkritesandiego.org/event/grand-york-rite-sessions-2/
LOCATION:San Ramon Marriott\, 2600 Bishop Dr\, San Ramon\, CA\, United States
GEO:37.767176;-121.969081
X-APPLE-STRUCTURED-LOCATION;VALUE=URI;X-ADDRESS=San Ramon Marriott 2600 Bishop Dr San Ramon CA United States;X-APPLE-RADIUS=500;X-TITLE=2600 Bishop Dr:geo:-121.969081,37.767176
END:VEVENT
BEGIN:VEVENT
DTSTART;VALUE=DATE:20270521
DTEND;VALUE=DATE:20270523
DTSTAMP:20260420T201208
CREATED:20250902T063738Z
LAST-MODIFIED:20260418T050054Z
UID:10000641-1810857600-1811030399@yorkritesandiego.org
SUMMARY:Scottish Rite - Spring Reunion
DESCRIPTION:
URL:https://yorkritesandiego.org/event/scottish-rite-spring-reunion-2/
END:VEVENT
BEGIN:VEVENT
DTSTART;TZID=America/Los_Angeles:20270525T190000
DTEND;TZID=America/Los_Angeles:20270525T200000
DTSTAMP:20260420T201208
CREATED:20250904T050319Z
LAST-MODIFIED:20260418T050056Z
UID:10000643-1811271600-1811275200@yorkritesandiego.org
SUMMARY:Helix Council No. 58 - Stated Assembly
DESCRIPTION:
URL:https://yorkritesandiego.org/event/helix-council-no-58-stated-assembly-9/
LOCATION:Escondido Masonic Center\, 1331 S Escondido Blvd\, Escondido\, CA\, United States
GEO:33.109201;-117.076437
X-APPLE-STRUCTURED-LOCATION;VALUE=URI;X-ADDRESS=Escondido Masonic Center 1331 S Escondido Blvd Escondido CA United States;X-APPLE-RADIUS=500;X-TITLE=1331 S Escondido Blvd:geo:-117.076437,33.109201
END:VEVENT
BEGIN:VEVENT
DTSTART;TZID=America/Los_Angeles:20270525T190000
DTEND;TZID=America/Los_Angeles:20270525T203000
DTSTAMP:20260420T201208
CREATED:20250904T205659Z
LAST-MODIFIED:20260418T050057Z
UID:10000644-1811271600-1811277000@yorkritesandiego.org
SUMMARY:San Diego Commandery No. 25 - Stated Conclave
DESCRIPTION:
URL:https://yorkritesandiego.org/event/san-diego-commandery-no-25-stated-conclave-21/
LOCATION:Al Bahr Shriners\, 5440 Kearny Mesa Rd\, San Diego\, CA\, United States
GEO:32.83319;-117.143529
X-APPLE-STRUCTURED-LOCATION;VALUE=URI;X-ADDRESS=Al Bahr Shriners 5440 Kearny Mesa Rd San Diego CA United States;X-APPLE-RADIUS=500;X-TITLE=5440 Kearny Mesa Rd:geo:-117.143529,32.83319
END:VEVENT
BEGIN:VEVENT
DTSTART;TZID=America/Los_Angeles:20270526T120000
DTEND;TZID=America/Los_Angeles:20270526T130000
DTSTAMP:20260420T201208
CREATED:20250907T225640Z
LAST-MODIFIED:20260418T050058Z
UID:10000645-1811332800-1811336400@yorkritesandiego.org
SUMMARY:Sojourners
DESCRIPTION:
URL:https://yorkritesandiego.org/event/sojourners-21/
END:VEVENT
BEGIN:VEVENT
DTSTART;TZID=America/Los_Angeles:20270527T183000
DTEND;TZID=America/Los_Angeles:20270527T193000
DTSTAMP:20260420T201208
CREATED:20260122T050218Z
LAST-MODIFIED:20260418T050100Z
UID:10000755-1811442600-1811446200@yorkritesandiego.org
SUMMARY:San Diego Chapter No. 61 - Stated Convocation
DESCRIPTION:
URL:https://yorkritesandiego.org/event/san-diego-chapter-no-61-stated-convocation-42/
LOCATION:Al Bahr Shriners\, 5440 Kearny Mesa Rd\, San Diego\, CA\, United States
GEO:32.83319;-117.143529
X-APPLE-STRUCTURED-LOCATION;VALUE=URI;X-ADDRESS=Al Bahr Shriners 5440 Kearny Mesa Rd San Diego CA United States;X-APPLE-RADIUS=500;X-TITLE=5440 Kearny Mesa Rd:geo:-117.143529,32.83319
END:VEVENT
BEGIN:VEVENT
DTSTART;TZID=America/Los_Angeles:20270527T190000
DTEND;TZID=America/Los_Angeles:20270527T200000
DTSTAMP:20260420T201208
CREATED:20250922T233539Z
LAST-MODIFIED:20260120T001738Z
UID:10000652-1811444400-1811448000@yorkritesandiego.org
SUMMARY:San Diego Chapter No. 61 - Stated Convocation
DESCRIPTION:
URL:https://yorkritesandiego.org/event/san-diego-chapter-no-61-stated-convocation-21/
LOCATION:Al Bahr Shriners\, 5440 Kearny Mesa Rd\, San Diego\, CA\, United States
GEO:32.83319;-117.143529
X-APPLE-STRUCTURED-LOCATION;VALUE=URI;X-ADDRESS=Al Bahr Shriners 5440 Kearny Mesa Rd San Diego CA United States;X-APPLE-RADIUS=500;X-TITLE=5440 Kearny Mesa Rd:geo:-117.143529,32.83319
END:VEVENT
BEGIN:VEVENT
DTSTART;TZID=America/Los_Angeles:20270527T193000
DTEND;TZID=America/Los_Angeles:20270527T203000
DTSTAMP:20260420T201208
CREATED:20260122T050219Z
LAST-MODIFIED:20260418T050059Z
UID:10000756-1811446200-1811449800@yorkritesandiego.org
SUMMARY:San Diego Council No. 23 - Stated Assembly
DESCRIPTION:
URL:https://yorkritesandiego.org/event/san-diego-council-no-23-stated-assembly-42/
LOCATION:Al Bahr Shriners\, 5440 Kearny Mesa Rd\, San Diego\, CA\, United States
GEO:32.83319;-117.143529
X-APPLE-STRUCTURED-LOCATION;VALUE=URI;X-ADDRESS=Al Bahr Shriners 5440 Kearny Mesa Rd San Diego CA United States;X-APPLE-RADIUS=500;X-TITLE=5440 Kearny Mesa Rd:geo:-117.143529,32.83319
END:VEVENT
BEGIN:VEVENT
DTSTART;TZID=America/Los_Angeles:20270527T200000
DTEND;TZID=America/Los_Angeles:20270527T210000
DTSTAMP:20260420T201208
CREATED:20250917T035737Z
LAST-MODIFIED:20260120T001739Z
UID:10000651-1811448000-1811451600@yorkritesandiego.org
SUMMARY:San Diego Council No. 23 - Stated Assembly
DESCRIPTION:
URL:https://yorkritesandiego.org/event/san-diego-council-no-23-stated-assembly-21/
LOCATION:Al Bahr Shriners\, 5440 Kearny Mesa Rd\, San Diego\, CA\, United States
GEO:32.83319;-117.143529
X-APPLE-STRUCTURED-LOCATION;VALUE=URI;X-ADDRESS=Al Bahr Shriners 5440 Kearny Mesa Rd San Diego CA United States;X-APPLE-RADIUS=500;X-TITLE=5440 Kearny Mesa Rd:geo:-117.143529,32.83319
END:VEVENT
BEGIN:VEVENT
DTSTART;TZID=America/Los_Angeles:20270528T120000
DTEND;TZID=America/Los_Angeles:20270530T120000
DTSTAMP:20260420T201208
CREATED:20250924T233414Z
LAST-MODIFIED:20260418T050101Z
UID:10000653-1811505600-1811678400@yorkritesandiego.org
SUMMARY:California Widows Sons - State Gathering
DESCRIPTION:
URL:https://yorkritesandiego.org/event/california-widows-sons-state-gathering-2/
LOCATION:Los Alamos\, CA\, USA
END:VEVENT
BEGIN:VEVENT
DTSTART;VALUE=DATE:20270531
DTEND;VALUE=DATE:20270601
DTSTAMP:20260420T201208
CREATED:20250924T233414Z
LAST-MODIFIED:20260418T050102Z
UID:10000654-1811721600-1811807999@yorkritesandiego.org
SUMMARY:Memorial Day
DESCRIPTION:
URL:https://yorkritesandiego.org/event/memorial-day-2/
END:VEVENT
BEGIN:VEVENT
DTSTART;TZID=America/Los_Angeles:20270602T180000
DTEND;TZID=America/Los_Angeles:20270602T210000
DTSTAMP:20260420T201208
CREATED:20250924T233414Z
LAST-MODIFIED:20260418T050102Z
UID:10000655-1811959200-1811970000@yorkritesandiego.org
SUMMARY:Scottish Rite
DESCRIPTION:
URL:https://yorkritesandiego.org/event/scottish-rite-22/
END:VEVENT
BEGIN:VEVENT
DTSTART;TZID=America/Los_Angeles:20270603T120000
DTEND;TZID=America/Los_Angeles:20270603T130000
DTSTAMP:20260420T201208
CREATED:20250926T235026Z
LAST-MODIFIED:20260418T050103Z
UID:10000656-1812024000-1812027600@yorkritesandiego.org
SUMMARY:RCC
DESCRIPTION:
URL:https://yorkritesandiego.org/event/rcc-22/
END:VEVENT
BEGIN:VEVENT
DTSTART;TZID=America/Los_Angeles:20270605T120000
DTEND;TZID=America/Los_Angeles:20270605T130000
DTSTAMP:20260420T201208
CREATED:20250926T235026Z
LAST-MODIFIED:20260418T050104Z
UID:10000657-1812196800-1812200400@yorkritesandiego.org
SUMMARY:KYCH
DESCRIPTION:
URL:https://yorkritesandiego.org/event/kych-4/
END:VEVENT
BEGIN:VEVENT
DTSTART;TZID=America/Los_Angeles:20270606T143000
DTEND;TZID=America/Los_Angeles:20270606T153000
DTSTAMP:20260420T201208
CREATED:20251002T233424Z
LAST-MODIFIED:20260418T050106Z
UID:10000659-1812292200-1812295800@yorkritesandiego.org
SUMMARY:Inkopah Council No. 86 Allied Masonic Degrees
DESCRIPTION:
URL:https://yorkritesandiego.org/event/inkopah-council-no-86-allied-masonic-degrees-8/
LOCATION:Scottish Rite Childhood\, 1895 Cam del Rio S\, San Diego\, CA\, United States
GEO:32.767967;-117.144285
X-APPLE-STRUCTURED-LOCATION;VALUE=URI;X-ADDRESS=Scottish Rite Childhood 1895 Cam del Rio S San Diego CA United States;X-APPLE-RADIUS=500;X-TITLE=1895 Cam del Rio S:geo:-117.144285,32.767967
END:VEVENT
BEGIN:VEVENT
DTSTART;TZID=America/Los_Angeles:20270606T143000
DTEND;TZID=America/Los_Angeles:20270606T163000
DTSTAMP:20260420T201208
CREATED:20251002T233424Z
LAST-MODIFIED:20260418T050105Z
UID:10000658-1812292200-1812299400@yorkritesandiego.org
SUMMARY:San Diego No. 148 York Rite Sovereign College
DESCRIPTION:
URL:https://yorkritesandiego.org/event/san-diego-no-148-york-rite-sovereign-college-4/
LOCATION:East San Diego Masonic Lodge\, 7849 Tommy Dr\, San Diego\, CA\, United States
GEO:32.804368;-117.026413
X-APPLE-STRUCTURED-LOCATION;VALUE=URI;X-ADDRESS=East San Diego Masonic Lodge 7849 Tommy Dr San Diego CA United States;X-APPLE-RADIUS=500;X-TITLE=7849 Tommy Dr:geo:-117.026413,32.804368
END:VEVENT
BEGIN:VEVENT
DTSTART;TZID=America/Los_Angeles:20270608T190000
DTEND;TZID=America/Los_Angeles:20270608T200000
DTSTAMP:20260420T201208
CREATED:20251004T233418Z
LAST-MODIFIED:20260418T050107Z
UID:10000660-1812481200-1812484800@yorkritesandiego.org
SUMMARY:Beauséant Commandery No. 81 - Stated Conclave
DESCRIPTION:
URL:https://yorkritesandiego.org/event/beauseant-commandery-no-81-stated-conclave-10/
LOCATION:Escondido Masonic Center\, 1331 S Escondido Blvd\, Escondido\, CA\, United States
GEO:33.109201;-117.076437
X-APPLE-STRUCTURED-LOCATION;VALUE=URI;X-ADDRESS=Escondido Masonic Center 1331 S Escondido Blvd Escondido CA United States;X-APPLE-RADIUS=500;X-TITLE=1331 S Escondido Blvd:geo:-117.076437,33.109201
END:VEVENT
BEGIN:VEVENT
DTSTART;TZID=America/Los_Angeles:20270613T110000
DTEND;TZID=America/Los_Angeles:20270613T123000
DTSTAMP:20260420T201208
CREATED:20251012T233420Z
LAST-MODIFIED:20260418T050108Z
UID:10000661-1812884400-1812889800@yorkritesandiego.org
SUMMARY:Killarney Council No. 56 Knight Masons
DESCRIPTION:
URL:https://yorkritesandiego.org/event/killarney-council-no-56-knight-masons-8/
LOCATION:Escondido Masonic Center\, 1331 S Escondido Blvd\, Escondido\, CA\, United States
GEO:33.109201;-117.076437
X-APPLE-STRUCTURED-LOCATION;VALUE=URI;X-ADDRESS=Escondido Masonic Center 1331 S Escondido Blvd Escondido CA United States;X-APPLE-RADIUS=500;X-TITLE=1331 S Escondido Blvd:geo:-117.076437,33.109201
END:VEVENT
BEGIN:VEVENT
DTSTART;TZID=America/Los_Angeles:20270613T143000
DTEND;TZID=America/Los_Angeles:20270613T163000
DTSTAMP:20260420T201208
CREATED:20251014T233420Z
LAST-MODIFIED:20260418T050109Z
UID:10000662-1812897000-1812904200@yorkritesandiego.org
SUMMARY:Kit Carson Council No. 237 Allied Masonic Degrees
DESCRIPTION:
URL:https://yorkritesandiego.org/event/kit-carson-council-no-237-allied-masonic-degrees-8/
LOCATION:Escondido Masonic Center\, 1331 S Escondido Blvd\, Escondido\, CA\, United States
GEO:33.109201;-117.076437
X-APPLE-STRUCTURED-LOCATION;VALUE=URI;X-ADDRESS=Escondido Masonic Center 1331 S Escondido Blvd Escondido CA United States;X-APPLE-RADIUS=500;X-TITLE=1331 S Escondido Blvd:geo:-117.076437,33.109201
END:VEVENT
BEGIN:VEVENT
DTSTART;VALUE=DATE:20270619
DTEND;VALUE=DATE:20270620
DTSTAMP:20260420T201208
CREATED:20251018T233416Z
LAST-MODIFIED:20260418T050110Z
UID:10000663-1813363200-1813449599@yorkritesandiego.org
SUMMARY:Juneteenth
DESCRIPTION:
URL:https://yorkritesandiego.org/event/juneteenth-2/
END:VEVENT
BEGIN:VEVENT
DTSTART;VALUE=DATE:20270620
DTEND;VALUE=DATE:20270621
DTSTAMP:20260420T201208
CREATED:20251030T233422Z
LAST-MODIFIED:20260418T050111Z
UID:10000673-1813449600-1813535999@yorkritesandiego.org
SUMMARY:HRAKTP
DESCRIPTION:
URL:https://yorkritesandiego.org/event/hraktp-8/
END:VEVENT
BEGIN:VEVENT
DTSTART;VALUE=DATE:20270620
DTEND;VALUE=DATE:20270621
DTSTAMP:20260420T201208
CREATED:20251031T001924Z
LAST-MODIFIED:20260418T050112Z
UID:10000674-1813449600-1813535999@yorkritesandiego.org
SUMMARY:Father's Day
DESCRIPTION:
URL:https://yorkritesandiego.org/event/fathers-day-2/
END:VEVENT
BEGIN:VEVENT
DTSTART;TZID=America/Los_Angeles:20270622T190000
DTEND;TZID=America/Los_Angeles:20270622T203000
DTSTAMP:20260420T201208
CREATED:20251103T233433Z
LAST-MODIFIED:20260418T050113Z
UID:10000675-1813690800-1813696200@yorkritesandiego.org
SUMMARY:San Diego Commandery No. 25 - Stated Conclave
DESCRIPTION:
URL:https://yorkritesandiego.org/event/san-diego-commandery-no-25-stated-conclave-22/
LOCATION:Al Bahr Shriners\, 5440 Kearny Mesa Rd\, San Diego\, CA\, United States
GEO:32.83319;-117.143529
X-APPLE-STRUCTURED-LOCATION;VALUE=URI;X-ADDRESS=Al Bahr Shriners 5440 Kearny Mesa Rd San Diego CA United States;X-APPLE-RADIUS=500;X-TITLE=5440 Kearny Mesa Rd:geo:-117.143529,32.83319
END:VEVENT
BEGIN:VEVENT
DTSTART;TZID=America/Los_Angeles:20270623T120000
DTEND;TZID=America/Los_Angeles:20270623T130000
DTSTAMP:20260420T201208
CREATED:20251105T233414Z
LAST-MODIFIED:20260418T050114Z
UID:10000676-1813752000-1813755600@yorkritesandiego.org
SUMMARY:Sojourners
DESCRIPTION:
URL:https://yorkritesandiego.org/event/sojourners-22/
END:VEVENT
BEGIN:VEVENT
DTSTART;VALUE=DATE:20270624
DTEND;VALUE=DATE:20270625
DTSTAMP:20260420T201208
CREATED:20251106T235027Z
LAST-MODIFIED:20260418T050114Z
UID:10000677-1813795200-1813881599@yorkritesandiego.org
SUMMARY:St. John the Baptist Day
DESCRIPTION:
URL:https://yorkritesandiego.org/event/st-john-the-baptist-day-2/
END:VEVENT
END:VCALENDAR