BEGIN:VCALENDAR
VERSION:2.0
PRODID:-//San Diego York Rite - ECPv6.15.20//NONSGML v1.0//EN
CALSCALE:GREGORIAN
METHOD:PUBLISH
X-WR-CALNAME:San Diego York Rite
X-ORIGINAL-URL:https://yorkritesandiego.org
X-WR-CALDESC:Events for San Diego York Rite
REFRESH-INTERVAL;VALUE=DURATION:PT1H
X-Robots-Tag:noindex
X-PUBLISHED-TTL:PT1H
BEGIN:VTIMEZONE
TZID:America/Los_Angeles
BEGIN:DAYLIGHT
TZOFFSETFROM:-0800
TZOFFSETTO:-0700
TZNAME:PDT
DTSTART:20250309T100000
END:DAYLIGHT
BEGIN:STANDARD
TZOFFSETFROM:-0700
TZOFFSETTO:-0800
TZNAME:PST
DTSTART:20251102T090000
END:STANDARD
BEGIN:DAYLIGHT
TZOFFSETFROM:-0800
TZOFFSETTO:-0700
TZNAME:PDT
DTSTART:20260308T100000
END:DAYLIGHT
BEGIN:STANDARD
TZOFFSETFROM:-0700
TZOFFSETTO:-0800
TZNAME:PST
DTSTART:20261101T090000
END:STANDARD
BEGIN:DAYLIGHT
TZOFFSETFROM:-0800
TZOFFSETTO:-0700
TZNAME:PDT
DTSTART:20270314T100000
END:DAYLIGHT
BEGIN:STANDARD
TZOFFSETFROM:-0700
TZOFFSETTO:-0800
TZNAME:PST
DTSTART:20271107T090000
END:STANDARD
END:VTIMEZONE
BEGIN:VEVENT
DTSTART;TZID=America/Los_Angeles:20260423T190000
DTEND;TZID=America/Los_Angeles:20260423T200000
DTSTAMP:20260420T204827
CREATED:20250902T063200Z
LAST-MODIFIED:20260120T001418Z
UID:10000462-1776970800-1776974400@yorkritesandiego.org
SUMMARY:San Diego Chapter No. 61 - Stated Convocation
DESCRIPTION:
URL:https://yorkritesandiego.org/event/san-diego-chapter-no-61-stated-convocation-8/
LOCATION:Al Bahr Shriners\, 5440 Kearny Mesa Rd\, San Diego\, CA\, United States
GEO:32.83319;-117.143529
X-APPLE-STRUCTURED-LOCATION;VALUE=URI;X-ADDRESS=Al Bahr Shriners 5440 Kearny Mesa Rd San Diego CA United States;X-APPLE-RADIUS=500;X-TITLE=5440 Kearny Mesa Rd:geo:-117.143529,32.83319
END:VEVENT
BEGIN:VEVENT
DTSTART;TZID=America/Los_Angeles:20260423T183000
DTEND;TZID=America/Los_Angeles:20260423T193000
DTSTAMP:20260420T204827
CREATED:20260122T045857Z
LAST-MODIFIED:20260418T045812Z
UID:10000729-1776969000-1776972600@yorkritesandiego.org
SUMMARY:San Diego Chapter No. 61 - Stated Convocation
DESCRIPTION:
URL:https://yorkritesandiego.org/event/san-diego-chapter-no-61-stated-convocation-29/
LOCATION:Al Bahr Shriners\, 5440 Kearny Mesa Rd\, San Diego\, CA\, United States
GEO:32.83319;-117.143529
X-APPLE-STRUCTURED-LOCATION;VALUE=URI;X-ADDRESS=Al Bahr Shriners 5440 Kearny Mesa Rd San Diego CA United States;X-APPLE-RADIUS=500;X-TITLE=5440 Kearny Mesa Rd:geo:-117.143529,32.83319
END:VEVENT
BEGIN:VEVENT
DTSTART;TZID=America/Los_Angeles:20260422T120000
DTEND;TZID=America/Los_Angeles:20260422T130000
DTSTAMP:20260420T204827
CREATED:20250902T063200Z
LAST-MODIFIED:20260418T045810Z
UID:10000461-1776859200-1776862800@yorkritesandiego.org
SUMMARY:Sojourners
DESCRIPTION:
URL:https://yorkritesandiego.org/event/sojourners-8/
LOCATION:UT
END:VEVENT
BEGIN:VEVENT
DTSTART;TZID=America/Los_Angeles:20260421T190000
DTEND;TZID=America/Los_Angeles:20260421T200000
DTSTAMP:20260420T204827
CREATED:20250902T063159Z
LAST-MODIFIED:20260418T045809Z
UID:10000460-1776798000-1776801600@yorkritesandiego.org
SUMMARY:Jerrold A. Wohlfarth Chapter No. 130 - Stated Convocation
DESCRIPTION:
URL:https://yorkritesandiego.org/event/jerrold-a-wohlfarth-chapter-no-130-stated-convocation-4/
LOCATION:Vista Masonic Center – Rental Hall and Event Venue\, 761 Eucalyptus Ave\, Vista\, CA\, United States
GEO:33.201288;-117.231988
X-APPLE-STRUCTURED-LOCATION;VALUE=URI;X-ADDRESS=Vista Masonic Center – Rental Hall and Event Venue 761 Eucalyptus Ave Vista CA United States;X-APPLE-RADIUS=500;X-TITLE=761 Eucalyptus Ave:geo:-117.231988,33.201288
END:VEVENT
BEGIN:VEVENT
DTSTART;TZID=America/Los_Angeles:20260418T120000
DTEND;TZID=America/Los_Angeles:20260418T160000
DTSTAMP:20260420T204827
CREATED:20251022T232934Z
LAST-MODIFIED:20260418T045808Z
UID:10000666-1776513600-1776528000@yorkritesandiego.org
SUMMARY:Concordia SRICF
DESCRIPTION:
URL:https://yorkritesandiego.org/event/concordia-sricf-2/
LOCATION:San Bernardino York Rite Temple\, 2888 N Arrowhead Ave\, San Bernardino\, CA\, United States
GEO:34.144353;-117.289704
X-APPLE-STRUCTURED-LOCATION;VALUE=URI;X-ADDRESS=San Bernardino York Rite Temple 2888 N Arrowhead Ave San Bernardino CA United States;X-APPLE-RADIUS=500;X-TITLE=2888 N Arrowhead Ave:geo:-117.289704,34.144353
END:VEVENT
BEGIN:VEVENT
DTSTART;TZID=America/Los_Angeles:20260412T180000
DTEND;TZID=America/Los_Angeles:20260412T210000
DTSTAMP:20260420T204827
CREATED:20250902T063159Z
LAST-MODIFIED:20260102T051425Z
UID:10000459-1776016800-1776027600@yorkritesandiego.org
SUMMARY:RCC Formal
DESCRIPTION:
URL:https://yorkritesandiego.org/event/rcc-formal/
LOCATION:UT
END:VEVENT
BEGIN:VEVENT
DTSTART;TZID=America/Los_Angeles:20260410T180000
DTEND;TZID=America/Los_Angeles:20260410T210000
DTSTAMP:20260420T204827
CREATED:20250902T063159Z
LAST-MODIFIED:20260409T035826Z
UID:10000458-1775844000-1775854800@yorkritesandiego.org
SUMMARY:Al Bahr Shrine
DESCRIPTION:
URL:https://yorkritesandiego.org/event/al-bahr-shrine-3/
LOCATION:UT
END:VEVENT
BEGIN:VEVENT
DTSTART;VALUE=DATE:20260410
DTEND;VALUE=DATE:20260412
DTSTAMP:20260420T204827
CREATED:20250902T063158Z
LAST-MODIFIED:20260411T045808Z
UID:10000457-1775779200-1775951999@yorkritesandiego.org
SUMMARY:Acon/Operatives - SLC\, UT
DESCRIPTION:
URL:https://yorkritesandiego.org/event/acon-operatives-slc-ut-3/
LOCATION:Salt Lake Masonic Temple\, 650 N Temple St\, Salt Lake City\, UT\, United States
GEO:40.771615;-111.909161
X-APPLE-STRUCTURED-LOCATION;VALUE=URI;X-ADDRESS=Salt Lake Masonic Temple 650 N Temple St Salt Lake City UT United States;X-APPLE-RADIUS=500;X-TITLE=650 N Temple St:geo:-111.909161,40.771615
END:VEVENT
BEGIN:VEVENT
DTSTART;VALUE=DATE:20260405
DTEND;VALUE=DATE:20260406
DTSTAMP:20260420T204827
CREATED:20250902T063158Z
LAST-MODIFIED:20260404T045811Z
UID:10000456-1775347200-1775433599@yorkritesandiego.org
SUMMARY:Easter Sunday
DESCRIPTION:
URL:https://yorkritesandiego.org/event/easter-sunday/
LOCATION:UT
END:VEVENT
BEGIN:VEVENT
DTSTART;TZID=America/Los_Angeles:20260404T080000
DTEND;TZID=America/Los_Angeles:20260404T150000
DTSTAMP:20260420T204827
CREATED:20250902T063158Z
LAST-MODIFIED:20260404T045810Z
UID:10000455-1775289600-1775314800@yorkritesandiego.org
SUMMARY:COMMANDERY ORDERS
DESCRIPTION:
URL:https://yorkritesandiego.org/event/commandery-orders-2/
LOCATION:San Bernardino York Rite Temple\, 2888 N Arrowhead Ave\, San Bernardino\, CA\, United States
GEO:34.144353;-117.289704
X-APPLE-STRUCTURED-LOCATION;VALUE=URI;X-ADDRESS=San Bernardino York Rite Temple 2888 N Arrowhead Ave San Bernardino CA United States;X-APPLE-RADIUS=500;X-TITLE=2888 N Arrowhead Ave:geo:-117.289704,34.144353
END:VEVENT
BEGIN:VEVENT
DTSTART;TZID=America/Los_Angeles:20260402T120000
DTEND;TZID=America/Los_Angeles:20260402T130000
DTSTAMP:20260420T204827
CREATED:20250902T063157Z
LAST-MODIFIED:20260402T011328Z
UID:10000454-1775131200-1775134800@yorkritesandiego.org
SUMMARY:RCC
DESCRIPTION:
URL:https://yorkritesandiego.org/event/rcc-8/
LOCATION:UT
END:VEVENT
BEGIN:VEVENT
DTSTART;TZID=America/Los_Angeles:20260401T180000
DTEND;TZID=America/Los_Angeles:20260401T210000
DTSTAMP:20260420T204827
CREATED:20250902T063157Z
LAST-MODIFIED:20260402T011327Z
UID:10000453-1775066400-1775077200@yorkritesandiego.org
SUMMARY:Scottish Rite
DESCRIPTION:
URL:https://yorkritesandiego.org/event/scottish-rite-8/
LOCATION:UT
END:VEVENT
BEGIN:VEVENT
DTSTART;TZID=America/Los_Angeles:20260326T200000
DTEND;TZID=America/Los_Angeles:20260326T210000
DTSTAMP:20260420T204827
CREATED:20250902T063141Z
LAST-MODIFIED:20260120T001408Z
UID:10000452-1774555200-1774558800@yorkritesandiego.org
SUMMARY:San Diego Council No. 23 - Stated Assembly
DESCRIPTION:
URL:https://yorkritesandiego.org/event/san-diego-council-no-23-stated-assembly-7/
LOCATION:Al Bahr Shriners\, 5440 Kearny Mesa Rd\, San Diego\, CA\, United States
GEO:32.83319;-117.143529
X-APPLE-STRUCTURED-LOCATION;VALUE=URI;X-ADDRESS=Al Bahr Shriners 5440 Kearny Mesa Rd San Diego CA United States;X-APPLE-RADIUS=500;X-TITLE=5440 Kearny Mesa Rd:geo:-117.143529,32.83319
END:VEVENT
BEGIN:VEVENT
DTSTART;TZID=America/Los_Angeles:20260326T193000
DTEND;TZID=America/Los_Angeles:20260326T203000
DTSTAMP:20260420T204827
CREATED:20260122T045849Z
LAST-MODIFIED:20260322T034331Z
UID:10000728-1774553400-1774557000@yorkritesandiego.org
SUMMARY:San Diego Council No. 23 - Stated Assembly
DESCRIPTION:
URL:https://yorkritesandiego.org/event/san-diego-council-no-23-stated-assembly-28/
LOCATION:Al Bahr Shriners\, 5440 Kearny Mesa Rd\, San Diego\, CA\, United States
GEO:32.83319;-117.143529
X-APPLE-STRUCTURED-LOCATION;VALUE=URI;X-ADDRESS=Al Bahr Shriners 5440 Kearny Mesa Rd San Diego CA United States;X-APPLE-RADIUS=500;X-TITLE=5440 Kearny Mesa Rd:geo:-117.143529,32.83319
END:VEVENT
BEGIN:VEVENT
DTSTART;TZID=America/Los_Angeles:20260326T190000
DTEND;TZID=America/Los_Angeles:20260326T200000
DTSTAMP:20260420T204827
CREATED:20250902T063141Z
LAST-MODIFIED:20260120T001409Z
UID:10000451-1774551600-1774555200@yorkritesandiego.org
SUMMARY:San Diego Chapter No. 61 - Stated Convocation
DESCRIPTION:
URL:https://yorkritesandiego.org/event/san-diego-chapter-no-61-stated-convocation-7/
LOCATION:Al Bahr Shriners\, 5440 Kearny Mesa Rd\, San Diego\, CA\, United States
GEO:32.83319;-117.143529
X-APPLE-STRUCTURED-LOCATION;VALUE=URI;X-ADDRESS=Al Bahr Shriners 5440 Kearny Mesa Rd San Diego CA United States;X-APPLE-RADIUS=500;X-TITLE=5440 Kearny Mesa Rd:geo:-117.143529,32.83319
END:VEVENT
BEGIN:VEVENT
DTSTART;TZID=America/Los_Angeles:20260326T183000
DTEND;TZID=America/Los_Angeles:20260326T193000
DTSTAMP:20260420T204827
CREATED:20260122T045848Z
LAST-MODIFIED:20260322T034332Z
UID:10000727-1774549800-1774553400@yorkritesandiego.org
SUMMARY:San Diego Chapter No. 61 - Stated Convocation
DESCRIPTION:
URL:https://yorkritesandiego.org/event/san-diego-chapter-no-61-stated-convocation-28/
LOCATION:Al Bahr Shriners\, 5440 Kearny Mesa Rd\, San Diego\, CA\, United States
GEO:32.83319;-117.143529
X-APPLE-STRUCTURED-LOCATION;VALUE=URI;X-ADDRESS=Al Bahr Shriners 5440 Kearny Mesa Rd San Diego CA United States;X-APPLE-RADIUS=500;X-TITLE=5440 Kearny Mesa Rd:geo:-117.143529,32.83319
END:VEVENT
BEGIN:VEVENT
DTSTART;TZID=America/Los_Angeles:20260325T120000
DTEND;TZID=America/Los_Angeles:20260325T130000
DTSTAMP:20260420T204827
CREATED:20250902T063141Z
LAST-MODIFIED:20260322T034330Z
UID:10000450-1774440000-1774443600@yorkritesandiego.org
SUMMARY:Sojourners
DESCRIPTION:
URL:https://yorkritesandiego.org/event/sojourners-7/
LOCATION:UT
END:VEVENT
BEGIN:VEVENT
DTSTART;TZID=America/Los_Angeles:20260324T190000
DTEND;TZID=America/Los_Angeles:20260324T203000
DTSTAMP:20260420T204827
CREATED:20250902T063140Z
LAST-MODIFIED:20260322T034329Z
UID:10000448-1774378800-1774384200@yorkritesandiego.org
SUMMARY:San Diego Commandery No. 25 - Stated Conclave
DESCRIPTION:
URL:https://yorkritesandiego.org/event/san-diego-commandery-no-25-stated-conclave-7/
LOCATION:Al Bahr Shriners\, 5440 Kearny Mesa Rd\, San Diego\, CA\, United States
GEO:32.83319;-117.143529
X-APPLE-STRUCTURED-LOCATION;VALUE=URI;X-ADDRESS=Al Bahr Shriners 5440 Kearny Mesa Rd San Diego CA United States;X-APPLE-RADIUS=500;X-TITLE=5440 Kearny Mesa Rd:geo:-117.143529,32.83319
END:VEVENT
BEGIN:VEVENT
DTSTART;TZID=America/Los_Angeles:20260324T190000
DTEND;TZID=America/Los_Angeles:20260324T200000
DTSTAMP:20260420T204827
CREATED:20250902T063140Z
LAST-MODIFIED:20260322T034328Z
UID:10000449-1774378800-1774382400@yorkritesandiego.org
SUMMARY:Helix Council No. 58 - Stated Assembly
DESCRIPTION:
URL:https://yorkritesandiego.org/event/helix-council-no-58-stated-assembly-3/
LOCATION:Escondido Masonic Center\, 1331 S Escondido Blvd\, Escondido\, CA\, United States
GEO:33.109201;-117.076437
X-APPLE-STRUCTURED-LOCATION;VALUE=URI;X-ADDRESS=Escondido Masonic Center 1331 S Escondido Blvd Escondido CA United States;X-APPLE-RADIUS=500;X-TITLE=1331 S Escondido Blvd:geo:-117.076437,33.109201
END:VEVENT
BEGIN:VEVENT
DTSTART;TZID=America/Los_Angeles:20260321T180000
DTEND;TZID=America/Los_Angeles:20260321T200000
DTSTAMP:20260420T204827
CREATED:20250902T063140Z
LAST-MODIFIED:20260322T025824Z
UID:10000447-1774116000-1774123200@yorkritesandiego.org
SUMMARY:SD/SB 3-Way
DESCRIPTION:
URL:https://yorkritesandiego.org/event/sd-sb-3-way/
LOCATION:UT
END:VEVENT
BEGIN:VEVENT
DTSTART;TZID=America/Los_Angeles:20260321T120000
DTEND;TZID=America/Los_Angeles:20260321T130000
DTSTAMP:20260420T204827
CREATED:20250902T063139Z
LAST-MODIFIED:20260319T112751Z
UID:10000444-1774094400-1774098000@yorkritesandiego.org
SUMMARY:KYCH
DESCRIPTION:
URL:https://yorkritesandiego.org/event/kych/
LOCATION:UT
END:VEVENT
BEGIN:VEVENT
DTSTART;VALUE=DATE:20260320
DTEND;VALUE=DATE:20260321
DTSTAMP:20260420T204827
CREATED:20250902T063140Z
LAST-MODIFIED:20260319T112750Z
UID:10000446-1773964800-1774051199@yorkritesandiego.org
SUMMARY:Shrine - Corned Beef Cabbage
DESCRIPTION:
URL:https://yorkritesandiego.org/event/shrine-corned-beef-cabbage/
LOCATION:UT
END:VEVENT
BEGIN:VEVENT
DTSTART;VALUE=DATE:20260317
DTEND;VALUE=DATE:20260318
DTSTAMP:20260420T204827
CREATED:20250902T063139Z
LAST-MODIFIED:20260317T045813Z
UID:10000445-1773705600-1773791999@yorkritesandiego.org
SUMMARY:St. Patrick's Day
DESCRIPTION:
URL:https://yorkritesandiego.org/event/st-patricks-day/
LOCATION:UT
END:VEVENT
BEGIN:VEVENT
DTSTART;TZID=America/Los_Angeles:20260314T083000
DTEND;TZID=America/Los_Angeles:20260314T110000
DTSTAMP:20260420T204827
CREATED:20250902T063139Z
LAST-MODIFIED:20260313T065826Z
UID:10000443-1773477000-1773486000@yorkritesandiego.org
SUMMARY:August Order of Light
DESCRIPTION:INVITE ONLY
URL:https://yorkritesandiego.org/event/august-order-of-light-4/
LOCATION:323 Charles St\, Coopersburg\, PA\, United States
GEO:40.502424;-75.411145
END:VEVENT
BEGIN:VEVENT
DTSTART;VALUE=DATE:20260313
DTEND;VALUE=DATE:20260316
DTSTAMP:20260420T204827
CREATED:20250902T063122Z
LAST-MODIFIED:20260315T045821Z
UID:10000442-1773360000-1773619199@yorkritesandiego.org
SUMMARY:Grand York Rite Officers Conference
DESCRIPTION:
URL:https://yorkritesandiego.org/event/grand-york-rite-officers-conference-2/
LOCATION:Los Angeles Marriott Burbank Airport\, 2500 N Hollywood Way\, Burbank\, CA\, United States
GEO:34.193897;-118.348941
X-APPLE-STRUCTURED-LOCATION;VALUE=URI;X-ADDRESS=Los Angeles Marriott Burbank Airport 2500 N Hollywood Way Burbank CA United States;X-APPLE-RADIUS=500;X-TITLE=2500 N Hollywood Way:geo:-118.348941,34.193897
END:VEVENT
BEGIN:VEVENT
DTSTART;TZID=America/Los_Angeles:20260310T190000
DTEND;TZID=America/Los_Angeles:20260310T200000
DTSTAMP:20260420T204827
CREATED:20250902T063122Z
LAST-MODIFIED:20260310T045813Z
UID:10000441-1773169200-1773172800@yorkritesandiego.org
SUMMARY:Beauséant Commandery No. 81 - Stated Conclave
DESCRIPTION:
URL:https://yorkritesandiego.org/event/beauseant-commandery-no-81-stated-conclave-4/
LOCATION:Escondido Masonic Center\, 1331 S Escondido Blvd\, Escondido\, CA\, United States
GEO:33.109201;-117.076437
X-APPLE-STRUCTURED-LOCATION;VALUE=URI;X-ADDRESS=Escondido Masonic Center 1331 S Escondido Blvd Escondido CA United States;X-APPLE-RADIUS=500;X-TITLE=1331 S Escondido Blvd:geo:-117.076437,33.109201
END:VEVENT
BEGIN:VEVENT
DTSTART;TZID=America/Los_Angeles:20260308T143000
DTEND;TZID=America/Los_Angeles:20260308T163000
DTSTAMP:20260420T204827
CREATED:20250902T063121Z
LAST-MODIFIED:20260308T094328Z
UID:10000440-1772980200-1772987400@yorkritesandiego.org
SUMMARY:Kit Carson Council No. 237 Allied Masonic Degrees
DESCRIPTION:
URL:https://yorkritesandiego.org/event/kit-carson-council-no-237-allied-masonic-degrees-3/
LOCATION:Escondido Masonic Center\, 1331 S Escondido Blvd\, Escondido\, CA\, United States
GEO:33.109201;-117.076437
X-APPLE-STRUCTURED-LOCATION;VALUE=URI;X-ADDRESS=Escondido Masonic Center 1331 S Escondido Blvd Escondido CA United States;X-APPLE-RADIUS=500;X-TITLE=1331 S Escondido Blvd:geo:-117.076437,33.109201
END:VEVENT
BEGIN:VEVENT
DTSTART;TZID=America/Los_Angeles:20260308T110000
DTEND;TZID=America/Los_Angeles:20260308T123000
DTSTAMP:20260420T204827
CREATED:20250902T063121Z
LAST-MODIFIED:20260308T094326Z
UID:10000439-1772967600-1772973000@yorkritesandiego.org
SUMMARY:Killarney Council No. 56 Knight Masons
DESCRIPTION:
URL:https://yorkritesandiego.org/event/killarney-council-no-56-knight-masons-3/
LOCATION:Escondido Masonic Center\, 1331 S Escondido Blvd\, Escondido\, CA\, United States
GEO:33.109201;-117.076437
X-APPLE-STRUCTURED-LOCATION;VALUE=URI;X-ADDRESS=Escondido Masonic Center 1331 S Escondido Blvd Escondido CA United States;X-APPLE-RADIUS=500;X-TITLE=1331 S Escondido Blvd:geo:-117.076437,33.109201
END:VEVENT
BEGIN:VEVENT
DTSTART;VALUE=DATE:20260308
DTEND;VALUE=DATE:20260309
DTSTAMP:20260420T204827
CREATED:20250902T063121Z
LAST-MODIFIED:20260305T051309Z
UID:10000438-1772928000-1773014399@yorkritesandiego.org
SUMMARY:Daylight Saving Time starts
DESCRIPTION:
URL:https://yorkritesandiego.org/event/daylight-saving-time-starts/
LOCATION:UT
END:VEVENT
BEGIN:VEVENT
DTSTART;VALUE=DATE:20260306
DTEND;VALUE=DATE:20260308
DTSTAMP:20260420T204827
CREATED:20250902T063121Z
LAST-MODIFIED:20260112T001358Z
UID:10000437-1772755200-1772927999@yorkritesandiego.org
SUMMARY:Grand York Rite Officers Conference
DESCRIPTION:
URL:https://yorkritesandiego.org/event/grand-york-rite-officers-conference/
LOCATION:San Ramon Marriott\, 2600 Bishop Dr\, San Ramon\, CA\, United States
GEO:37.767176;-121.969081
X-APPLE-STRUCTURED-LOCATION;VALUE=URI;X-ADDRESS=San Ramon Marriott 2600 Bishop Dr San Ramon CA United States;X-APPLE-RADIUS=500;X-TITLE=2600 Bishop Dr:geo:-121.969081,37.767176
END:VEVENT
END:VCALENDAR