BEGIN:VCALENDAR
VERSION:2.0
PRODID:-//San Diego York Rite - ECPv6.15.20//NONSGML v1.0//EN
CALSCALE:GREGORIAN
METHOD:PUBLISH
X-WR-CALNAME:San Diego York Rite
X-ORIGINAL-URL:https://yorkritesandiego.org
X-WR-CALDESC:Events for San Diego York Rite
REFRESH-INTERVAL;VALUE=DURATION:PT1H
X-Robots-Tag:noindex
X-PUBLISHED-TTL:PT1H
BEGIN:VTIMEZONE
TZID:America/Los_Angeles
BEGIN:DAYLIGHT
TZOFFSETFROM:-0800
TZOFFSETTO:-0700
TZNAME:PDT
DTSTART:20250309T100000
END:DAYLIGHT
BEGIN:STANDARD
TZOFFSETFROM:-0700
TZOFFSETTO:-0800
TZNAME:PST
DTSTART:20251102T090000
END:STANDARD
BEGIN:DAYLIGHT
TZOFFSETFROM:-0800
TZOFFSETTO:-0700
TZNAME:PDT
DTSTART:20260308T100000
END:DAYLIGHT
BEGIN:STANDARD
TZOFFSETFROM:-0700
TZOFFSETTO:-0800
TZNAME:PST
DTSTART:20261101T090000
END:STANDARD
BEGIN:DAYLIGHT
TZOFFSETFROM:-0800
TZOFFSETTO:-0700
TZNAME:PDT
DTSTART:20270314T100000
END:DAYLIGHT
BEGIN:STANDARD
TZOFFSETFROM:-0700
TZOFFSETTO:-0800
TZNAME:PST
DTSTART:20271107T090000
END:STANDARD
END:VTIMEZONE
BEGIN:VEVENT
DTSTART;TZID=America/Los_Angeles:20260124T083000
DTEND;TZID=America/Los_Angeles:20260124T110000
DTSTAMP:20260420T191722
CREATED:20250902T063043Z
LAST-MODIFIED:20260124T121325Z
UID:10000414-1769243400-1769252400@yorkritesandiego.org
SUMMARY:August Order of Light
DESCRIPTION:INVITE ONLY
URL:https://yorkritesandiego.org/event/august-order-of-light-3/
LOCATION:323 Charles St\, Coopersburg\, PA\, United States
GEO:40.502424;-75.411145
END:VEVENT
BEGIN:VEVENT
DTSTART;TZID=America/Los_Angeles:20260122T200000
DTEND;TZID=America/Los_Angeles:20260122T210000
DTSTAMP:20260420T191722
CREATED:20250902T063027Z
LAST-MODIFIED:20260120T001330Z
UID:10000412-1769112000-1769115600@yorkritesandiego.org
SUMMARY:San Diego Council No. 23 - Stated Assembly
DESCRIPTION:
URL:https://yorkritesandiego.org/event/san-diego-council-no-23-stated-assembly-5/
LOCATION:Al Bahr Shriners\, 5440 Kearny Mesa Rd\, San Diego\, CA\, United States
GEO:32.83319;-117.143529
X-APPLE-STRUCTURED-LOCATION;VALUE=URI;X-ADDRESS=Al Bahr Shriners 5440 Kearny Mesa Rd San Diego CA United States;X-APPLE-RADIUS=500;X-TITLE=5440 Kearny Mesa Rd:geo:-117.143529,32.83319
END:VEVENT
BEGIN:VEVENT
DTSTART;TZID=America/Los_Angeles:20260122T193000
DTEND;TZID=America/Los_Angeles:20260122T203000
DTSTAMP:20260420T191722
CREATED:20260122T045809Z
LAST-MODIFIED:20260122T045809Z
UID:10000724-1769110200-1769113800@yorkritesandiego.org
SUMMARY:San Diego Council No. 23 - Stated Assembly
DESCRIPTION:
URL:https://yorkritesandiego.org/event/san-diego-council-no-23-stated-assembly-26/
LOCATION:Al Bahr Shriners\, 5440 Kearny Mesa Rd\, San Diego\, CA\, United States
GEO:32.83319;-117.143529
X-APPLE-STRUCTURED-LOCATION;VALUE=URI;X-ADDRESS=Al Bahr Shriners 5440 Kearny Mesa Rd San Diego CA United States;X-APPLE-RADIUS=500;X-TITLE=5440 Kearny Mesa Rd:geo:-117.143529,32.83319
END:VEVENT
BEGIN:VEVENT
DTSTART;TZID=America/Los_Angeles:20260122T190000
DTEND;TZID=America/Los_Angeles:20260122T200000
DTSTAMP:20260420T191722
CREATED:20250902T063042Z
LAST-MODIFIED:20260120T001329Z
UID:10000413-1769108400-1769112000@yorkritesandiego.org
SUMMARY:San Diego Chapter No. 61 - Stated Convocation
DESCRIPTION:
URL:https://yorkritesandiego.org/event/san-diego-chapter-no-61-stated-convocation-5/
LOCATION:Al Bahr Shriners\, 5440 Kearny Mesa Rd\, San Diego\, CA\, United States
GEO:32.83319;-117.143529
X-APPLE-STRUCTURED-LOCATION;VALUE=URI;X-ADDRESS=Al Bahr Shriners 5440 Kearny Mesa Rd San Diego CA United States;X-APPLE-RADIUS=500;X-TITLE=5440 Kearny Mesa Rd:geo:-117.143529,32.83319
END:VEVENT
BEGIN:VEVENT
DTSTART;TZID=America/Los_Angeles:20260122T183000
DTEND;TZID=America/Los_Angeles:20260122T193000
DTSTAMP:20260420T191722
CREATED:20260122T045808Z
LAST-MODIFIED:20260122T045808Z
UID:10000723-1769106600-1769110200@yorkritesandiego.org
SUMMARY:San Diego Chapter No. 61 - Stated Convocation
DESCRIPTION:
URL:https://yorkritesandiego.org/event/san-diego-chapter-no-61-stated-convocation-26/
LOCATION:Al Bahr Shriners\, 5440 Kearny Mesa Rd\, San Diego\, CA\, United States
GEO:32.83319;-117.143529
X-APPLE-STRUCTURED-LOCATION;VALUE=URI;X-ADDRESS=Al Bahr Shriners 5440 Kearny Mesa Rd San Diego CA United States;X-APPLE-RADIUS=500;X-TITLE=5440 Kearny Mesa Rd:geo:-117.143529,32.83319
END:VEVENT
BEGIN:VEVENT
DTSTART;TZID=America/Los_Angeles:20260120T190000
DTEND;TZID=America/Los_Angeles:20260120T200000
DTSTAMP:20260420T191722
CREATED:20250902T063027Z
LAST-MODIFIED:20260120T001328Z
UID:10000411-1768935600-1768939200@yorkritesandiego.org
SUMMARY:Jerrold A. Wohlfarth Chapter No. 130 - Stated Convocation
DESCRIPTION:
URL:https://yorkritesandiego.org/event/jerrold-a-wohlfarth-chapter-no-130-stated-convocation-3/
LOCATION:Vista Masonic Center – Rental Hall and Event Venue\, 761 Eucalyptus Ave\, Vista\, CA\, United States
GEO:33.201288;-117.231988
X-APPLE-STRUCTURED-LOCATION;VALUE=URI;X-ADDRESS=Vista Masonic Center – Rental Hall and Event Venue 761 Eucalyptus Ave Vista CA United States;X-APPLE-RADIUS=500;X-TITLE=761 Eucalyptus Ave:geo:-117.231988,33.201288
END:VEVENT
END:VCALENDAR