BEGIN:VCALENDAR
VERSION:2.0
PRODID:-//San Diego York Rite - ECPv6.15.20//NONSGML v1.0//EN
CALSCALE:GREGORIAN
METHOD:PUBLISH
X-ORIGINAL-URL:https://yorkritesandiego.org
X-WR-CALDESC:Events for San Diego York Rite
REFRESH-INTERVAL;VALUE=DURATION:PT1H
X-Robots-Tag:noindex
X-PUBLISHED-TTL:PT1H
BEGIN:VTIMEZONE
TZID:America/Los_Angeles
BEGIN:DAYLIGHT
TZOFFSETFROM:-0800
TZOFFSETTO:-0700
TZNAME:PDT
DTSTART:20260308T100000
END:DAYLIGHT
BEGIN:STANDARD
TZOFFSETFROM:-0700
TZOFFSETTO:-0800
TZNAME:PST
DTSTART:20261101T090000
END:STANDARD
BEGIN:DAYLIGHT
TZOFFSETFROM:-0800
TZOFFSETTO:-0700
TZNAME:PDT
DTSTART:20270314T100000
END:DAYLIGHT
BEGIN:STANDARD
TZOFFSETFROM:-0700
TZOFFSETTO:-0800
TZNAME:PST
DTSTART:20271107T090000
END:STANDARD
BEGIN:DAYLIGHT
TZOFFSETFROM:-0800
TZOFFSETTO:-0700
TZNAME:PDT
DTSTART:20280312T100000
END:DAYLIGHT
BEGIN:STANDARD
TZOFFSETFROM:-0700
TZOFFSETTO:-0800
TZNAME:PST
DTSTART:20281105T090000
END:STANDARD
BEGIN:DAYLIGHT
TZOFFSETFROM:-0800
TZOFFSETTO:-0700
TZNAME:PDT
DTSTART:20290311T100000
END:DAYLIGHT
BEGIN:STANDARD
TZOFFSETFROM:-0700
TZOFFSETTO:-0800
TZNAME:PST
DTSTART:20291104T090000
END:STANDARD
END:VTIMEZONE
BEGIN:VEVENT
DTSTART;TZID=America/Los_Angeles:20271124T120000
DTEND;TZID=America/Los_Angeles:20271124T130000
DTSTAMP:20260421T130641
CREATED:20260303T050332Z
LAST-MODIFIED:20260418T050208Z
UID:10000789-1827057600-1827061200@yorkritesandiego.org
SUMMARY:Sojourners
DESCRIPTION:
URL:https://yorkritesandiego.org/event/sojourners-27/
END:VEVENT
BEGIN:VEVENT
DTSTART;VALUE=DATE:20271125
DTEND;VALUE=DATE:20271126
DTSTAMP:20260421T130641
CREATED:20260305T051744Z
LAST-MODIFIED:20260418T050209Z
UID:10000790-1827100800-1827187199@yorkritesandiego.org
SUMMARY:Thanksgiving Day
DESCRIPTION:
URL:https://yorkritesandiego.org/event/thanksgiving-day-3/
END:VEVENT
BEGIN:VEVENT
DTSTART;TZID=America/Los_Angeles:20271125T183000
DTEND;TZID=America/Los_Angeles:20271125T193000
DTSTAMP:20260421T130641
CREATED:20260305T051745Z
LAST-MODIFIED:20260418T050210Z
UID:10000791-1827167400-1827171000@yorkritesandiego.org
SUMMARY:San Diego Chapter No. 61 - Stated Convocation
DESCRIPTION:
URL:https://yorkritesandiego.org/event/san-diego-chapter-no-61-stated-convocation-48/
LOCATION:Al Bahr Shriners\, 5440 Kearny Mesa Rd\, San Diego\, CA\, United States
GEO:32.83319;-117.143529
X-APPLE-STRUCTURED-LOCATION;VALUE=URI;X-ADDRESS=Al Bahr Shriners 5440 Kearny Mesa Rd San Diego CA United States;X-APPLE-RADIUS=500;X-TITLE=5440 Kearny Mesa Rd:geo:-117.143529,32.83319
END:VEVENT
BEGIN:VEVENT
DTSTART;TZID=America/Los_Angeles:20271125T193000
DTEND;TZID=America/Los_Angeles:20271125T203000
DTSTAMP:20260421T130641
CREATED:20260305T051746Z
LAST-MODIFIED:20260418T050210Z
UID:10000792-1827171000-1827174600@yorkritesandiego.org
SUMMARY:San Diego Council No. 23 - Stated Assembly
DESCRIPTION:
URL:https://yorkritesandiego.org/event/san-diego-council-no-23-stated-assembly-48/
LOCATION:Al Bahr Shriners\, 5440 Kearny Mesa Rd\, San Diego\, CA\, United States
GEO:32.83319;-117.143529
X-APPLE-STRUCTURED-LOCATION;VALUE=URI;X-ADDRESS=Al Bahr Shriners 5440 Kearny Mesa Rd San Diego CA United States;X-APPLE-RADIUS=500;X-TITLE=5440 Kearny Mesa Rd:geo:-117.143529,32.83319
END:VEVENT
BEGIN:VEVENT
DTSTART;TZID=America/Los_Angeles:20271127T180000
DTEND;TZID=America/Los_Angeles:20271127T210000
DTSTAMP:20260421T130641
CREATED:20260305T051747Z
LAST-MODIFIED:20260418T050211Z
UID:10000793-1827338400-1827349200@yorkritesandiego.org
SUMMARY:Mull of Galloway - Royal Order of Scotland
DESCRIPTION:St. Andrew’s Day – November 30th
URL:https://yorkritesandiego.org/event/mull-of-galloway-royal-order-of-scotland-3/
END:VEVENT
BEGIN:VEVENT
DTSTART;TZID=America/Los_Angeles:20271201T180000
DTEND;TZID=America/Los_Angeles:20271201T210000
DTSTAMP:20260421T130641
CREATED:20260305T051748Z
LAST-MODIFIED:20260418T050212Z
UID:10000794-1827684000-1827694800@yorkritesandiego.org
SUMMARY:Scottish Rite
DESCRIPTION:
URL:https://yorkritesandiego.org/event/scottish-rite-28/
END:VEVENT
BEGIN:VEVENT
DTSTART;TZID=America/Los_Angeles:20271202T120000
DTEND;TZID=America/Los_Angeles:20271202T130000
DTSTAMP:20260421T130641
CREATED:20260308T084926Z
LAST-MODIFIED:20260418T050213Z
UID:10000795-1827748800-1827752400@yorkritesandiego.org
SUMMARY:RCC
DESCRIPTION:
URL:https://yorkritesandiego.org/event/rcc-28/
END:VEVENT
BEGIN:VEVENT
DTSTART;VALUE=DATE:20271203
DTEND;VALUE=DATE:20271205
DTSTAMP:20260421T130641
CREATED:20260308T084928Z
LAST-MODIFIED:20260418T050214Z
UID:10000796-1827792000-1827964799@yorkritesandiego.org
SUMMARY:Acon/Operatives - SLC\, UT
DESCRIPTION:
URL:https://yorkritesandiego.org/event/acon-operatives-slc-ut-8/
LOCATION:Salt Lake Masonic Temple\, 650 N Temple St\, Salt Lake City\, UT\, United States
GEO:40.771615;-111.909161
X-APPLE-STRUCTURED-LOCATION;VALUE=URI;X-ADDRESS=Salt Lake Masonic Temple 650 N Temple St Salt Lake City UT United States;X-APPLE-RADIUS=500;X-TITLE=650 N Temple St:geo:-111.909161,40.771615
END:VEVENT
BEGIN:VEVENT
DTSTART;TZID=America/Los_Angeles:20271205T143000
DTEND;TZID=America/Los_Angeles:20271205T153000
DTSTAMP:20260421T130641
CREATED:20260310T050320Z
LAST-MODIFIED:20260418T050214Z
UID:10000797-1828017000-1828020600@yorkritesandiego.org
SUMMARY:Inkopah Council No. 86 Allied Masonic Degrees
DESCRIPTION:
URL:https://yorkritesandiego.org/event/inkopah-council-no-86-allied-masonic-degrees-10/
LOCATION:Scottish Rite Childhood\, 1895 Cam del Rio S\, San Diego\, CA\, United States
GEO:32.767967;-117.144285
X-APPLE-STRUCTURED-LOCATION;VALUE=URI;X-ADDRESS=Scottish Rite Childhood 1895 Cam del Rio S San Diego CA United States;X-APPLE-RADIUS=500;X-TITLE=1895 Cam del Rio S:geo:-117.144285,32.767967
END:VEVENT
BEGIN:VEVENT
DTSTART;TZID=America/Los_Angeles:20271212T110000
DTEND;TZID=America/Los_Angeles:20271212T123000
DTSTAMP:20260421T130641
CREATED:20260313T060317Z
LAST-MODIFIED:20260418T050215Z
UID:10000798-1828609200-1828614600@yorkritesandiego.org
SUMMARY:Killarney Council No. 56 Knight Masons
DESCRIPTION:
URL:https://yorkritesandiego.org/event/killarney-council-no-56-knight-masons-10/
LOCATION:Escondido Masonic Center\, 1331 S Escondido Blvd\, Escondido\, CA\, United States
GEO:33.109201;-117.076437
X-APPLE-STRUCTURED-LOCATION;VALUE=URI;X-ADDRESS=Escondido Masonic Center 1331 S Escondido Blvd Escondido CA United States;X-APPLE-RADIUS=500;X-TITLE=1331 S Escondido Blvd:geo:-117.076437,33.109201
END:VEVENT
BEGIN:VEVENT
DTSTART;TZID=America/Los_Angeles:20271212T143000
DTEND;TZID=America/Los_Angeles:20271212T163000
DTSTAMP:20260421T130641
CREATED:20260315T050414Z
LAST-MODIFIED:20260418T050217Z
UID:10000799-1828621800-1828629000@yorkritesandiego.org
SUMMARY:Kit Carson Council No. 237 Allied Masonic Degrees
DESCRIPTION:
URL:https://yorkritesandiego.org/event/kit-carson-council-no-237-allied-masonic-degrees-10/
LOCATION:Escondido Masonic Center\, 1331 S Escondido Blvd\, Escondido\, CA\, United States
GEO:33.109201;-117.076437
X-APPLE-STRUCTURED-LOCATION;VALUE=URI;X-ADDRESS=Escondido Masonic Center 1331 S Escondido Blvd Escondido CA United States;X-APPLE-RADIUS=500;X-TITLE=1331 S Escondido Blvd:geo:-117.076437,33.109201
END:VEVENT
BEGIN:VEVENT
DTSTART;TZID=America/Los_Angeles:20271214T190000
DTEND;TZID=America/Los_Angeles:20271214T200000
DTSTAMP:20260421T130641
CREATED:20260317T050252Z
LAST-MODIFIED:20260418T050218Z
UID:10000800-1828810800-1828814400@yorkritesandiego.org
SUMMARY:Beauséant Commandery No. 81 - Stated Conclave
DESCRIPTION:
URL:https://yorkritesandiego.org/event/beauseant-commandery-no-81-stated-conclave-12/
LOCATION:Escondido Masonic Center\, 1331 S Escondido Blvd\, Escondido\, CA\, United States
GEO:33.109201;-117.076437
X-APPLE-STRUCTURED-LOCATION;VALUE=URI;X-ADDRESS=Escondido Masonic Center 1331 S Escondido Blvd Escondido CA United States;X-APPLE-RADIUS=500;X-TITLE=1331 S Escondido Blvd:geo:-117.076437,33.109201
END:VEVENT
BEGIN:VEVENT
DTSTART;VALUE=DATE:20271219
DTEND;VALUE=DATE:20271220
DTSTAMP:20260421T130641
CREATED:20260319T113348Z
LAST-MODIFIED:20260418T050218Z
UID:10000801-1829174400-1829260799@yorkritesandiego.org
SUMMARY:HRAKTP
DESCRIPTION:
URL:https://yorkritesandiego.org/event/hraktp-10/
END:VEVENT
BEGIN:VEVENT
DTSTART;TZID=America/Los_Angeles:20271221T190000
DTEND;TZID=America/Los_Angeles:20271221T200000
DTSTAMP:20260421T130641
CREATED:20260322T000258Z
LAST-MODIFIED:20260418T050219Z
UID:10000803-1829415600-1829419200@yorkritesandiego.org
SUMMARY:Jerrold A. Wohlfarth Chapter No. 130 - Stated Convocation - Election/Installation
DESCRIPTION:
URL:https://yorkritesandiego.org/event/jerrold-a-wohlfarth-chapter-no-130-stated-convocation-election-installation-3/
LOCATION:Vista Masonic Lodge No. 687 – Free and Accepted Masons\, 761 Eucalyptus Ave\, Vista\, CA\, United States
GEO:33.201288;-117.231988
X-APPLE-STRUCTURED-LOCATION;VALUE=URI;X-ADDRESS=Vista Masonic Lodge No. 687 – Free and Accepted Masons 761 Eucalyptus Ave Vista CA United States;X-APPLE-RADIUS=500;X-TITLE=761 Eucalyptus Ave:geo:-117.231988,33.201288
END:VEVENT
BEGIN:VEVENT
DTSTART;TZID=America/Los_Angeles:20271222T120000
DTEND;TZID=America/Los_Angeles:20271222T130000
DTSTAMP:20260421T130641
CREATED:20260322T000259Z
LAST-MODIFIED:20260418T050220Z
UID:10000802-1829476800-1829480400@yorkritesandiego.org
SUMMARY:Sojourners
DESCRIPTION:
URL:https://yorkritesandiego.org/event/sojourners-28/
END:VEVENT
BEGIN:VEVENT
DTSTART;TZID=America/Los_Angeles:20271223T183000
DTEND;TZID=America/Los_Angeles:20271223T193000
DTSTAMP:20260421T130641
CREATED:20260322T034806Z
LAST-MODIFIED:20260418T050222Z
UID:10000804-1829586600-1829590200@yorkritesandiego.org
SUMMARY:San Diego Chapter No. 61 - Stated Convocation
DESCRIPTION:
URL:https://yorkritesandiego.org/event/san-diego-chapter-no-61-stated-convocation-49/
LOCATION:Al Bahr Shriners\, 5440 Kearny Mesa Rd\, San Diego\, CA\, United States
GEO:32.83319;-117.143529
X-APPLE-STRUCTURED-LOCATION;VALUE=URI;X-ADDRESS=Al Bahr Shriners 5440 Kearny Mesa Rd San Diego CA United States;X-APPLE-RADIUS=500;X-TITLE=5440 Kearny Mesa Rd:geo:-117.143529,32.83319
END:VEVENT
BEGIN:VEVENT
DTSTART;TZID=America/Los_Angeles:20271223T193000
DTEND;TZID=America/Los_Angeles:20271223T203000
DTSTAMP:20260421T130641
CREATED:20260401T234834Z
LAST-MODIFIED:20260418T050221Z
UID:10000805-1829590200-1829593800@yorkritesandiego.org
SUMMARY:San Diego Council No. 23 - Stated Assembly
DESCRIPTION:
URL:https://yorkritesandiego.org/event/san-diego-council-no-23-stated-assembly-49/
LOCATION:Al Bahr Shriners\, 5440 Kearny Mesa Rd\, San Diego\, CA\, United States
GEO:32.83319;-117.143529
X-APPLE-STRUCTURED-LOCATION;VALUE=URI;X-ADDRESS=Al Bahr Shriners 5440 Kearny Mesa Rd San Diego CA United States;X-APPLE-RADIUS=500;X-TITLE=5440 Kearny Mesa Rd:geo:-117.143529,32.83319
END:VEVENT
BEGIN:VEVENT
DTSTART;VALUE=DATE:20271225
DTEND;VALUE=DATE:20271226
DTSTAMP:20260421T130641
CREATED:20260401T234835Z
LAST-MODIFIED:20260418T050222Z
UID:10000806-1829692800-1829779199@yorkritesandiego.org
SUMMARY:Christmas Day
DESCRIPTION:
URL:https://yorkritesandiego.org/event/christmas-day-3/
END:VEVENT
BEGIN:VEVENT
DTSTART;VALUE=DATE:20271227
DTEND;VALUE=DATE:20271228
DTSTAMP:20260421T130641
CREATED:20260401T234836Z
LAST-MODIFIED:20260418T050223Z
UID:10000807-1829865600-1829951999@yorkritesandiego.org
SUMMARY:St. John the Evangelist day
DESCRIPTION:
URL:https://yorkritesandiego.org/event/st-john-the-evangelist-day-3/
END:VEVENT
BEGIN:VEVENT
DTSTART;TZID=America/Los_Angeles:20271228T190000
DTEND;TZID=America/Los_Angeles:20271228T203000
DTSTAMP:20260421T130641
CREATED:20260401T234837Z
LAST-MODIFIED:20260418T050224Z
UID:10000808-1830020400-1830025800@yorkritesandiego.org
SUMMARY:San Diego Commandery No. 25 - Stated Conclave
DESCRIPTION:
URL:https://yorkritesandiego.org/event/san-diego-commandery-no-25-stated-conclave-28/
LOCATION:Al Bahr Shriners\, 5440 Kearny Mesa Rd\, San Diego\, CA\, United States
GEO:32.83319;-117.143529
X-APPLE-STRUCTURED-LOCATION;VALUE=URI;X-ADDRESS=Al Bahr Shriners 5440 Kearny Mesa Rd San Diego CA United States;X-APPLE-RADIUS=500;X-TITLE=5440 Kearny Mesa Rd:geo:-117.143529,32.83319
END:VEVENT
BEGIN:VEVENT
DTSTART;VALUE=DATE:20280101
DTEND;VALUE=DATE:20280102
DTSTAMP:20260421T130641
CREATED:20260401T234838Z
LAST-MODIFIED:20260418T050225Z
UID:10000809-1830297600-1830383999@yorkritesandiego.org
SUMMARY:New Year's Day
DESCRIPTION:
URL:https://yorkritesandiego.org/event/new-years-day-3/
END:VEVENT
BEGIN:VEVENT
DTSTART;TZID=America/Los_Angeles:20280102T143000
DTEND;TZID=America/Los_Angeles:20280102T163000
DTSTAMP:20260421T130641
CREATED:20260404T050328Z
LAST-MODIFIED:20260418T050226Z
UID:10000810-1830436200-1830443400@yorkritesandiego.org
SUMMARY:San Diego No. 148 York Rite Sovereign College
DESCRIPTION:
URL:https://yorkritesandiego.org/event/san-diego-no-148-york-rite-sovereign-college-5/
LOCATION:East San Diego Masonic Lodge\, 7849 Tommy Dr\, San Diego\, CA\, United States
GEO:32.804368;-117.026413
X-APPLE-STRUCTURED-LOCATION;VALUE=URI;X-ADDRESS=East San Diego Masonic Lodge 7849 Tommy Dr San Diego CA United States;X-APPLE-RADIUS=500;X-TITLE=7849 Tommy Dr:geo:-117.026413,32.804368
END:VEVENT
BEGIN:VEVENT
DTSTART;TZID=America/Los_Angeles:20280105T180000
DTEND;TZID=America/Los_Angeles:20280105T210000
DTSTAMP:20260421T130641
CREATED:20260404T050329Z
LAST-MODIFIED:20260418T050227Z
UID:10000811-1830708000-1830718800@yorkritesandiego.org
SUMMARY:Scottish Rite
DESCRIPTION:
URL:https://yorkritesandiego.org/event/scottish-rite-29/
END:VEVENT
BEGIN:VEVENT
DTSTART;TZID=America/Los_Angeles:20280106T120000
DTEND;TZID=America/Los_Angeles:20280106T130000
DTSTAMP:20260421T130641
CREATED:20260406T050321Z
LAST-MODIFIED:20260418T050227Z
UID:10000812-1830772800-1830776400@yorkritesandiego.org
SUMMARY:RCC
DESCRIPTION:
URL:https://yorkritesandiego.org/event/rcc-29/
END:VEVENT
BEGIN:VEVENT
DTSTART;TZID=America/Los_Angeles:20280111T190000
DTEND;TZID=America/Los_Angeles:20280111T210000
DTSTAMP:20260421T130641
CREATED:20260406T050322Z
LAST-MODIFIED:20260418T050228Z
UID:10000813-1831230000-1831237200@yorkritesandiego.org
SUMMARY:Beauséant Commandery No. 81 - Stated Conclave
DESCRIPTION:
URL:https://yorkritesandiego.org/event/beauseant-commandery-no-81-stated-conclave-13/
LOCATION:Escondido Masonic Center\, 1331 S Escondido Blvd\, Escondido\, CA\, United States
GEO:33.109201;-117.076437
X-APPLE-STRUCTURED-LOCATION;VALUE=URI;X-ADDRESS=Escondido Masonic Center 1331 S Escondido Blvd Escondido CA United States;X-APPLE-RADIUS=500;X-TITLE=1331 S Escondido Blvd:geo:-117.076437,33.109201
END:VEVENT
BEGIN:VEVENT
DTSTART;TZID=America/Los_Angeles:20280114T180000
DTEND;TZID=America/Los_Angeles:20280114T210000
DTSTAMP:20260421T130641
CREATED:20260411T050316Z
LAST-MODIFIED:20260418T050229Z
UID:10000814-1831485600-1831496400@yorkritesandiego.org
SUMMARY:Al Bahr Shrine
DESCRIPTION:
URL:https://yorkritesandiego.org/event/al-bahr-shrine-10/
END:VEVENT
BEGIN:VEVENT
DTSTART;VALUE=DATE:20280117
DTEND;VALUE=DATE:20280118
DTSTAMP:20260421T130641
CREATED:20260416T201824Z
LAST-MODIFIED:20260418T050230Z
UID:10000815-1831680000-1831766399@yorkritesandiego.org
SUMMARY:Martin Luther King Jr. Day
DESCRIPTION:
URL:https://yorkritesandiego.org/event/martin-luther-king-jr-day-3/
END:VEVENT
END:VCALENDAR