BEGIN:VCALENDAR
VERSION:2.0
PRODID:-//San Diego York Rite - ECPv6.15.20//NONSGML v1.0//EN
CALSCALE:GREGORIAN
METHOD:PUBLISH
X-ORIGINAL-URL:https://yorkritesandiego.org
X-WR-CALDESC:Events for San Diego York Rite
REFRESH-INTERVAL;VALUE=DURATION:PT1H
X-Robots-Tag:noindex
X-PUBLISHED-TTL:PT1H
BEGIN:VTIMEZONE
TZID:America/Los_Angeles
BEGIN:DAYLIGHT
TZOFFSETFROM:-0800
TZOFFSETTO:-0700
TZNAME:PDT
DTSTART:20250309T100000
END:DAYLIGHT
BEGIN:STANDARD
TZOFFSETFROM:-0700
TZOFFSETTO:-0800
TZNAME:PST
DTSTART:20251102T090000
END:STANDARD
BEGIN:DAYLIGHT
TZOFFSETFROM:-0800
TZOFFSETTO:-0700
TZNAME:PDT
DTSTART:20260308T100000
END:DAYLIGHT
BEGIN:STANDARD
TZOFFSETFROM:-0700
TZOFFSETTO:-0800
TZNAME:PST
DTSTART:20261101T090000
END:STANDARD
BEGIN:DAYLIGHT
TZOFFSETFROM:-0800
TZOFFSETTO:-0700
TZNAME:PDT
DTSTART:20270314T100000
END:DAYLIGHT
BEGIN:STANDARD
TZOFFSETFROM:-0700
TZOFFSETTO:-0800
TZNAME:PST
DTSTART:20271107T090000
END:STANDARD
END:VTIMEZONE
BEGIN:VEVENT
DTSTART;VALUE=DATE:20260405
DTEND;VALUE=DATE:20260406
DTSTAMP:20260419T225358
CREATED:20250902T063158Z
LAST-MODIFIED:20260404T045811Z
UID:10000456-1775347200-1775433599@yorkritesandiego.org
SUMMARY:Easter Sunday
DESCRIPTION:
URL:https://yorkritesandiego.org/event/easter-sunday/
END:VEVENT
BEGIN:VEVENT
DTSTART;VALUE=DATE:20260410
DTEND;VALUE=DATE:20260412
DTSTAMP:20260419T225358
CREATED:20250902T063158Z
LAST-MODIFIED:20260411T045808Z
UID:10000457-1775779200-1775951999@yorkritesandiego.org
SUMMARY:Acon/Operatives - SLC\, UT
DESCRIPTION:
URL:https://yorkritesandiego.org/event/acon-operatives-slc-ut-3/
LOCATION:Salt Lake Masonic Temple\, 650 N Temple St\, Salt Lake City\, UT\, United States
GEO:40.771615;-111.909161
X-APPLE-STRUCTURED-LOCATION;VALUE=URI;X-ADDRESS=Salt Lake Masonic Temple 650 N Temple St Salt Lake City UT United States;X-APPLE-RADIUS=500;X-TITLE=650 N Temple St:geo:-111.909161,40.771615
END:VEVENT
BEGIN:VEVENT
DTSTART;TZID=America/Los_Angeles:20260410T180000
DTEND;TZID=America/Los_Angeles:20260410T210000
DTSTAMP:20260419T225358
CREATED:20250902T063159Z
LAST-MODIFIED:20260409T035826Z
UID:10000458-1775844000-1775854800@yorkritesandiego.org
SUMMARY:Al Bahr Shrine
DESCRIPTION:
URL:https://yorkritesandiego.org/event/al-bahr-shrine-3/
END:VEVENT
BEGIN:VEVENT
DTSTART;TZID=America/Los_Angeles:20260412T180000
DTEND;TZID=America/Los_Angeles:20260412T210000
DTSTAMP:20260419T225358
CREATED:20250902T063159Z
LAST-MODIFIED:20260102T051425Z
UID:10000459-1776016800-1776027600@yorkritesandiego.org
SUMMARY:RCC Formal
DESCRIPTION:
URL:https://yorkritesandiego.org/event/rcc-formal/
END:VEVENT
BEGIN:VEVENT
DTSTART;TZID=America/Los_Angeles:20260418T120000
DTEND;TZID=America/Los_Angeles:20260418T160000
DTSTAMP:20260419T225358
CREATED:20251022T232934Z
LAST-MODIFIED:20260418T045808Z
UID:10000666-1776513600-1776528000@yorkritesandiego.org
SUMMARY:Concordia SRICF
DESCRIPTION:
URL:https://yorkritesandiego.org/event/concordia-sricf-2/
LOCATION:San Bernardino York Rite Temple\, 2888 N Arrowhead Ave\, San Bernardino\, CA\, United States
GEO:34.144353;-117.289704
X-APPLE-STRUCTURED-LOCATION;VALUE=URI;X-ADDRESS=San Bernardino York Rite Temple 2888 N Arrowhead Ave San Bernardino CA United States;X-APPLE-RADIUS=500;X-TITLE=2888 N Arrowhead Ave:geo:-117.289704,34.144353
END:VEVENT
BEGIN:VEVENT
DTSTART;TZID=America/Los_Angeles:20260421T190000
DTEND;TZID=America/Los_Angeles:20260421T200000
DTSTAMP:20260419T225358
CREATED:20250902T063159Z
LAST-MODIFIED:20260418T045809Z
UID:10000460-1776798000-1776801600@yorkritesandiego.org
SUMMARY:Jerrold A. Wohlfarth Chapter No. 130 - Stated Convocation
DESCRIPTION:
URL:https://yorkritesandiego.org/event/jerrold-a-wohlfarth-chapter-no-130-stated-convocation-4/
LOCATION:Vista Masonic Center – Rental Hall and Event Venue\, 761 Eucalyptus Ave\, Vista\, CA\, United States
GEO:33.201288;-117.231988
X-APPLE-STRUCTURED-LOCATION;VALUE=URI;X-ADDRESS=Vista Masonic Center – Rental Hall and Event Venue 761 Eucalyptus Ave Vista CA United States;X-APPLE-RADIUS=500;X-TITLE=761 Eucalyptus Ave:geo:-117.231988,33.201288
END:VEVENT
BEGIN:VEVENT
DTSTART;TZID=America/Los_Angeles:20260422T120000
DTEND;TZID=America/Los_Angeles:20260422T130000
DTSTAMP:20260419T225358
CREATED:20250902T063200Z
LAST-MODIFIED:20260418T045810Z
UID:10000461-1776859200-1776862800@yorkritesandiego.org
SUMMARY:Sojourners
DESCRIPTION:
URL:https://yorkritesandiego.org/event/sojourners-8/
END:VEVENT
BEGIN:VEVENT
DTSTART;TZID=America/Los_Angeles:20260423T183000
DTEND;TZID=America/Los_Angeles:20260423T193000
DTSTAMP:20260419T225358
CREATED:20260122T045857Z
LAST-MODIFIED:20260418T045812Z
UID:10000729-1776969000-1776972600@yorkritesandiego.org
SUMMARY:San Diego Chapter No. 61 - Stated Convocation
DESCRIPTION:
URL:https://yorkritesandiego.org/event/san-diego-chapter-no-61-stated-convocation-29/
LOCATION:Al Bahr Shriners\, 5440 Kearny Mesa Rd\, San Diego\, CA\, United States
GEO:32.83319;-117.143529
X-APPLE-STRUCTURED-LOCATION;VALUE=URI;X-ADDRESS=Al Bahr Shriners 5440 Kearny Mesa Rd San Diego CA United States;X-APPLE-RADIUS=500;X-TITLE=5440 Kearny Mesa Rd:geo:-117.143529,32.83319
END:VEVENT
BEGIN:VEVENT
DTSTART;TZID=America/Los_Angeles:20260423T190000
DTEND;TZID=America/Los_Angeles:20260423T200000
DTSTAMP:20260419T225358
CREATED:20250902T063200Z
LAST-MODIFIED:20260120T001418Z
UID:10000462-1776970800-1776974400@yorkritesandiego.org
SUMMARY:San Diego Chapter No. 61 - Stated Convocation
DESCRIPTION:
URL:https://yorkritesandiego.org/event/san-diego-chapter-no-61-stated-convocation-8/
LOCATION:Al Bahr Shriners\, 5440 Kearny Mesa Rd\, San Diego\, CA\, United States
GEO:32.83319;-117.143529
X-APPLE-STRUCTURED-LOCATION;VALUE=URI;X-ADDRESS=Al Bahr Shriners 5440 Kearny Mesa Rd San Diego CA United States;X-APPLE-RADIUS=500;X-TITLE=5440 Kearny Mesa Rd:geo:-117.143529,32.83319
END:VEVENT
BEGIN:VEVENT
DTSTART;TZID=America/Los_Angeles:20260423T193000
DTEND;TZID=America/Los_Angeles:20260423T203000
DTSTAMP:20260419T225358
CREATED:20260122T045858Z
LAST-MODIFIED:20260418T045811Z
UID:10000730-1776972600-1776976200@yorkritesandiego.org
SUMMARY:San Diego Council No. 23 - Stated Assembly
DESCRIPTION:
URL:https://yorkritesandiego.org/event/san-diego-council-no-23-stated-assembly-29/
LOCATION:Al Bahr Shriners\, 5440 Kearny Mesa Rd\, San Diego\, CA\, United States
GEO:32.83319;-117.143529
X-APPLE-STRUCTURED-LOCATION;VALUE=URI;X-ADDRESS=Al Bahr Shriners 5440 Kearny Mesa Rd San Diego CA United States;X-APPLE-RADIUS=500;X-TITLE=5440 Kearny Mesa Rd:geo:-117.143529,32.83319
END:VEVENT
BEGIN:VEVENT
DTSTART;TZID=America/Los_Angeles:20260423T200000
DTEND;TZID=America/Los_Angeles:20260423T210000
DTSTAMP:20260419T225358
CREATED:20250902T063215Z
LAST-MODIFIED:20260120T001419Z
UID:10000463-1776974400-1776978000@yorkritesandiego.org
SUMMARY:San Diego Council No. 23 - Stated Assembly
DESCRIPTION:
URL:https://yorkritesandiego.org/event/san-diego-council-no-23-stated-assembly-8/
LOCATION:Al Bahr Shriners\, 5440 Kearny Mesa Rd\, San Diego\, CA\, United States
GEO:32.83319;-117.143529
X-APPLE-STRUCTURED-LOCATION;VALUE=URI;X-ADDRESS=Al Bahr Shriners 5440 Kearny Mesa Rd San Diego CA United States;X-APPLE-RADIUS=500;X-TITLE=5440 Kearny Mesa Rd:geo:-117.143529,32.83319
END:VEVENT
BEGIN:VEVENT
DTSTART;TZID=America/Los_Angeles:20260428T190000
DTEND;TZID=America/Los_Angeles:20260428T203000
DTSTAMP:20260419T225358
CREATED:20250902T063215Z
LAST-MODIFIED:20260418T045813Z
UID:10000464-1777402800-1777408200@yorkritesandiego.org
SUMMARY:San Diego Commandery No. 25 - Stated Conclave
DESCRIPTION:
URL:https://yorkritesandiego.org/event/san-diego-commandery-no-25-stated-conclave-8/
LOCATION:Al Bahr Shriners\, 5440 Kearny Mesa Rd\, San Diego\, CA\, United States
GEO:32.83319;-117.143529
X-APPLE-STRUCTURED-LOCATION;VALUE=URI;X-ADDRESS=Al Bahr Shriners 5440 Kearny Mesa Rd San Diego CA United States;X-APPLE-RADIUS=500;X-TITLE=5440 Kearny Mesa Rd:geo:-117.143529,32.83319
END:VEVENT
BEGIN:VEVENT
DTSTART;TZID=America/Los_Angeles:20260429T180000
DTEND;TZID=America/Los_Angeles:20260429T190000
DTSTAMP:20260419T225358
CREATED:20250909T051632Z
LAST-MODIFIED:20260418T045814Z
UID:10000647-1777485600-1777489200@yorkritesandiego.org
SUMMARY:Masonic Information Night
DESCRIPTION:
URL:https://yorkritesandiego.org/event/masonic-information-night/
LOCATION:Scottish Rite of SanDiego\, 1561 Cam del Rio S\, San Diego\, CA\, United States
GEO:32.766557;-117.147702
X-APPLE-STRUCTURED-LOCATION;VALUE=URI;X-ADDRESS=Scottish Rite of SanDiego 1561 Cam del Rio S San Diego CA United States;X-APPLE-RADIUS=500;X-TITLE=1561 Cam del Rio S:geo:-117.147702,32.766557
END:VEVENT
BEGIN:VEVENT
DTSTART;VALUE=DATE:20260501
DTEND;VALUE=DATE:20260502
DTSTAMP:20260419T225358
CREATED:20250902T063215Z
LAST-MODIFIED:20260418T045815Z
UID:10000465-1777593600-1777679999@yorkritesandiego.org
SUMMARY:First Day of Asian Pacific American Heritage Month
DESCRIPTION:
URL:https://yorkritesandiego.org/event/first-day-of-asian-pacific-american-heritage-month/
END:VEVENT
BEGIN:VEVENT
DTSTART;TZID=America/Los_Angeles:20260502T130000
DTEND;TZID=America/Los_Angeles:20260502T170000
DTSTAMP:20260419T225358
CREATED:20250902T063215Z
LAST-MODIFIED:20260112T001428Z
UID:10000466-1777726800-1777741200@yorkritesandiego.org
SUMMARY:SRICF - California College
DESCRIPTION:
URL:https://yorkritesandiego.org/event/sricf-california-college-3/
LOCATION:Saddleback Laguna Masonic Lodge No. 672\, 23685 Birtcher Dr\, Lake Forest\, CA\, United States
GEO:33.63367;-117.716807
X-APPLE-STRUCTURED-LOCATION;VALUE=URI;X-ADDRESS=Saddleback Laguna Masonic Lodge No. 672 23685 Birtcher Dr Lake Forest CA United States;X-APPLE-RADIUS=500;X-TITLE=23685 Birtcher Dr:geo:-117.716807,33.63367
END:VEVENT
BEGIN:VEVENT
DTSTART;TZID=America/Los_Angeles:20260506T180000
DTEND;TZID=America/Los_Angeles:20260506T210000
DTSTAMP:20260419T225358
CREATED:20250902T063216Z
LAST-MODIFIED:20260418T045815Z
UID:10000467-1778090400-1778101200@yorkritesandiego.org
SUMMARY:Scottish Rite
DESCRIPTION:
URL:https://yorkritesandiego.org/event/scottish-rite-9/
END:VEVENT
BEGIN:VEVENT
DTSTART;TZID=America/Los_Angeles:20260507T120000
DTEND;TZID=America/Los_Angeles:20260507T130000
DTSTAMP:20260419T225358
CREATED:20250902T063216Z
LAST-MODIFIED:20260418T045816Z
UID:10000468-1778155200-1778158800@yorkritesandiego.org
SUMMARY:RCC
DESCRIPTION:
URL:https://yorkritesandiego.org/event/rcc-9/
END:VEVENT
BEGIN:VEVENT
DTSTART;VALUE=DATE:20260510
DTEND;VALUE=DATE:20260511
DTSTAMP:20260419T225358
CREATED:20250902T063216Z
LAST-MODIFIED:20260418T045817Z
UID:10000469-1778371200-1778457599@yorkritesandiego.org
SUMMARY:Mother's Day
DESCRIPTION:
URL:https://yorkritesandiego.org/event/mothers-day/
END:VEVENT
BEGIN:VEVENT
DTSTART;VALUE=DATE:20260515
DTEND;VALUE=DATE:20260519
DTSTAMP:20260419T225358
CREATED:20250902T063217Z
LAST-MODIFIED:20260418T045818Z
UID:10000470-1778803200-1779148799@yorkritesandiego.org
SUMMARY:Grand York Rite Sessions
DESCRIPTION:
URL:https://yorkritesandiego.org/event/grand-york-rite-sessions/
LOCATION:Los Angeles Marriott Burbank Airport\, 2500 N Hollywood Way\, Burbank\, CA\, United States
GEO:34.193897;-118.348941
X-APPLE-STRUCTURED-LOCATION;VALUE=URI;X-ADDRESS=Los Angeles Marriott Burbank Airport 2500 N Hollywood Way Burbank CA United States;X-APPLE-RADIUS=500;X-TITLE=2500 N Hollywood Way:geo:-118.348941,34.193897
END:VEVENT
BEGIN:VEVENT
DTSTART;VALUE=DATE:20260525
DTEND;VALUE=DATE:20260526
DTSTAMP:20260419T225358
CREATED:20250902T063217Z
LAST-MODIFIED:20260418T045819Z
UID:10000472-1779667200-1779753599@yorkritesandiego.org
SUMMARY:Memorial Day
DESCRIPTION:
URL:https://yorkritesandiego.org/event/memorial-day/
END:VEVENT
BEGIN:VEVENT
DTSTART;TZID=America/Los_Angeles:20260526T190000
DTEND;TZID=America/Los_Angeles:20260526T200000
DTSTAMP:20260419T225358
CREATED:20250902T063233Z
LAST-MODIFIED:20260418T045820Z
UID:10000474-1779822000-1779825600@yorkritesandiego.org
SUMMARY:Helix Council No. 58 - Stated Assembly
DESCRIPTION:
URL:https://yorkritesandiego.org/event/helix-council-no-58-stated-assembly-4/
LOCATION:Escondido Masonic Center\, 1331 S Escondido Blvd\, Escondido\, CA\, United States
GEO:33.109201;-117.076437
X-APPLE-STRUCTURED-LOCATION;VALUE=URI;X-ADDRESS=Escondido Masonic Center 1331 S Escondido Blvd Escondido CA United States;X-APPLE-RADIUS=500;X-TITLE=1331 S Escondido Blvd:geo:-117.076437,33.109201
END:VEVENT
BEGIN:VEVENT
DTSTART;TZID=America/Los_Angeles:20260526T190000
DTEND;TZID=America/Los_Angeles:20260526T203000
DTSTAMP:20260419T225358
CREATED:20250902T063233Z
LAST-MODIFIED:20260418T045821Z
UID:10000473-1779822000-1779827400@yorkritesandiego.org
SUMMARY:San Diego Commandery No. 25 - Stated Conclave
DESCRIPTION:
URL:https://yorkritesandiego.org/event/san-diego-commandery-no-25-stated-conclave-9/
LOCATION:Al Bahr Shriners\, 5440 Kearny Mesa Rd\, San Diego\, CA\, United States
GEO:32.83319;-117.143529
X-APPLE-STRUCTURED-LOCATION;VALUE=URI;X-ADDRESS=Al Bahr Shriners 5440 Kearny Mesa Rd San Diego CA United States;X-APPLE-RADIUS=500;X-TITLE=5440 Kearny Mesa Rd:geo:-117.143529,32.83319
END:VEVENT
BEGIN:VEVENT
DTSTART;TZID=America/Los_Angeles:20260527T120000
DTEND;TZID=America/Los_Angeles:20260527T130000
DTSTAMP:20260419T225358
CREATED:20250902T063233Z
LAST-MODIFIED:20260418T045822Z
UID:10000475-1779883200-1779886800@yorkritesandiego.org
SUMMARY:Sojourners
DESCRIPTION:
URL:https://yorkritesandiego.org/event/sojourners-9/
END:VEVENT
BEGIN:VEVENT
DTSTART;TZID=America/Los_Angeles:20260527T180000
DTEND;TZID=America/Los_Angeles:20260527T190000
DTSTAMP:20260419T225358
CREATED:20250909T051648Z
LAST-MODIFIED:20260418T045822Z
UID:10000648-1779904800-1779908400@yorkritesandiego.org
SUMMARY:SGIG Meeting
DESCRIPTION:
URL:https://yorkritesandiego.org/event/sgig-meeting-2/
LOCATION:Scottish Rite of SanDiego\, 1561 Cam del Rio S\, San Diego\, CA\, United States
GEO:32.766557;-117.147702
X-APPLE-STRUCTURED-LOCATION;VALUE=URI;X-ADDRESS=Scottish Rite of SanDiego 1561 Cam del Rio S San Diego CA United States;X-APPLE-RADIUS=500;X-TITLE=1561 Cam del Rio S:geo:-117.147702,32.766557
END:VEVENT
BEGIN:VEVENT
DTSTART;TZID=America/Los_Angeles:20260528T183000
DTEND;TZID=America/Los_Angeles:20260528T193000
DTSTAMP:20260419T225358
CREATED:20260122T045914Z
LAST-MODIFIED:20260418T045823Z
UID:10000732-1779993000-1779996600@yorkritesandiego.org
SUMMARY:San Diego Chapter No. 61 - Stated Convocation
DESCRIPTION:
URL:https://yorkritesandiego.org/event/san-diego-chapter-no-61-stated-convocation-30/
LOCATION:Al Bahr Shriners\, 5440 Kearny Mesa Rd\, San Diego\, CA\, United States
GEO:32.83319;-117.143529
X-APPLE-STRUCTURED-LOCATION;VALUE=URI;X-ADDRESS=Al Bahr Shriners 5440 Kearny Mesa Rd San Diego CA United States;X-APPLE-RADIUS=500;X-TITLE=5440 Kearny Mesa Rd:geo:-117.143529,32.83319
END:VEVENT
BEGIN:VEVENT
DTSTART;TZID=America/Los_Angeles:20260528T190000
DTEND;TZID=America/Los_Angeles:20260528T200000
DTSTAMP:20260419T225358
CREATED:20250902T063234Z
LAST-MODIFIED:20260120T001434Z
UID:10000476-1779994800-1779998400@yorkritesandiego.org
SUMMARY:San Diego Chapter No. 61 - Stated Convocation
DESCRIPTION:
URL:https://yorkritesandiego.org/event/san-diego-chapter-no-61-stated-convocation-9/
LOCATION:Al Bahr Shriners\, 5440 Kearny Mesa Rd\, San Diego\, CA\, United States
GEO:32.83319;-117.143529
X-APPLE-STRUCTURED-LOCATION;VALUE=URI;X-ADDRESS=Al Bahr Shriners 5440 Kearny Mesa Rd San Diego CA United States;X-APPLE-RADIUS=500;X-TITLE=5440 Kearny Mesa Rd:geo:-117.143529,32.83319
END:VEVENT
BEGIN:VEVENT
DTSTART;TZID=America/Los_Angeles:20260528T193000
DTEND;TZID=America/Los_Angeles:20260528T203000
DTSTAMP:20260419T225358
CREATED:20260122T045913Z
LAST-MODIFIED:20260418T045824Z
UID:10000731-1779996600-1780000200@yorkritesandiego.org
SUMMARY:San Diego Council No. 23 - Stated Assembly
DESCRIPTION:
URL:https://yorkritesandiego.org/event/san-diego-council-no-23-stated-assembly-30/
LOCATION:Al Bahr Shriners\, 5440 Kearny Mesa Rd\, San Diego\, CA\, United States
GEO:32.83319;-117.143529
X-APPLE-STRUCTURED-LOCATION;VALUE=URI;X-ADDRESS=Al Bahr Shriners 5440 Kearny Mesa Rd San Diego CA United States;X-APPLE-RADIUS=500;X-TITLE=5440 Kearny Mesa Rd:geo:-117.143529,32.83319
END:VEVENT
BEGIN:VEVENT
DTSTART;TZID=America/Los_Angeles:20260528T200000
DTEND;TZID=America/Los_Angeles:20260528T210000
DTSTAMP:20260419T225358
CREATED:20250902T063234Z
LAST-MODIFIED:20260120T001433Z
UID:10000477-1779998400-1780002000@yorkritesandiego.org
SUMMARY:San Diego Council No. 23 - Stated Assembly
DESCRIPTION:
URL:https://yorkritesandiego.org/event/san-diego-council-no-23-stated-assembly-9/
LOCATION:Al Bahr Shriners\, 5440 Kearny Mesa Rd\, San Diego\, CA\, United States
GEO:32.83319;-117.143529
X-APPLE-STRUCTURED-LOCATION;VALUE=URI;X-ADDRESS=Al Bahr Shriners 5440 Kearny Mesa Rd San Diego CA United States;X-APPLE-RADIUS=500;X-TITLE=5440 Kearny Mesa Rd:geo:-117.143529,32.83319
END:VEVENT
BEGIN:VEVENT
DTSTART;VALUE=DATE:20260529
DTEND;VALUE=DATE:20260531
DTSTAMP:20260419T225358
CREATED:20250902T063217Z
LAST-MODIFIED:20260418T045825Z
UID:10000471-1780012800-1780185599@yorkritesandiego.org
SUMMARY:Scottish Rite - Spring Reunion
DESCRIPTION:
URL:https://yorkritesandiego.org/event/scottish-rite-spring-reunion/
END:VEVENT
BEGIN:VEVENT
DTSTART;TZID=America/Los_Angeles:20260529T183000
DTEND;TZID=America/Los_Angeles:20260529T200000
DTSTAMP:20260419T225358
CREATED:20250902T063234Z
LAST-MODIFIED:20260418T045826Z
UID:10000478-1780079400-1780084800@yorkritesandiego.org
SUMMARY:Athelstan
DESCRIPTION:
URL:https://yorkritesandiego.org/event/athelstan-2/
LOCATION:57 W. Sunset Way\, Issaquah\, WA\, United States
GEO:47.497419;-122.010699
END:VEVENT
END:VCALENDAR