BEGIN:VCALENDAR
VERSION:2.0
PRODID:-//San Diego York Rite - ECPv6.15.20//NONSGML v1.0//EN
CALSCALE:GREGORIAN
METHOD:PUBLISH
X-ORIGINAL-URL:https://yorkritesandiego.org
X-WR-CALDESC:Events for San Diego York Rite
REFRESH-INTERVAL;VALUE=DURATION:PT1H
X-Robots-Tag:noindex
X-PUBLISHED-TTL:PT1H
BEGIN:VTIMEZONE
TZID:America/Los_Angeles
BEGIN:DAYLIGHT
TZOFFSETFROM:-0800
TZOFFSETTO:-0700
TZNAME:PDT
DTSTART:20250309T100000
END:DAYLIGHT
BEGIN:STANDARD
TZOFFSETFROM:-0700
TZOFFSETTO:-0800
TZNAME:PST
DTSTART:20251102T090000
END:STANDARD
BEGIN:DAYLIGHT
TZOFFSETFROM:-0800
TZOFFSETTO:-0700
TZNAME:PDT
DTSTART:20260308T100000
END:DAYLIGHT
BEGIN:STANDARD
TZOFFSETFROM:-0700
TZOFFSETTO:-0800
TZNAME:PST
DTSTART:20261101T090000
END:STANDARD
BEGIN:DAYLIGHT
TZOFFSETFROM:-0800
TZOFFSETTO:-0700
TZNAME:PDT
DTSTART:20270314T100000
END:DAYLIGHT
BEGIN:STANDARD
TZOFFSETFROM:-0700
TZOFFSETTO:-0800
TZNAME:PST
DTSTART:20271107T090000
END:STANDARD
END:VTIMEZONE
BEGIN:VEVENT
DTSTART;VALUE=DATE:20261018
DTEND;VALUE=DATE:20261021
DTSTAMP:20260420T035723
CREATED:20250902T063429Z
LAST-MODIFIED:20260112T001548Z
UID:10000541-1792281600-1792540799@yorkritesandiego.org
SUMMARY:Colorado River Festival - York Rite Degrees
DESCRIPTION:
URL:https://yorkritesandiego.org/event/colorado-river-festival-york-rite-degrees-2/
LOCATION:Don Laughlin’s Riverside Resort Hotel and Casino\, 1650 S Casino Dr\, Laughlin\, NV\, United States
GEO:35.166554;-114.572881
X-APPLE-STRUCTURED-LOCATION;VALUE=URI;X-ADDRESS=Don Laughlin’s Riverside Resort Hotel and Casino 1650 S Casino Dr Laughlin NV United States;X-APPLE-RADIUS=500;X-TITLE=1650 S Casino Dr:geo:-114.572881,35.166554
END:VEVENT
BEGIN:VEVENT
DTSTART;VALUE=DATE:20261018
DTEND;VALUE=DATE:20261021
DTSTAMP:20260420T035723
CREATED:20250902T063430Z
LAST-MODIFIED:20260418T045926Z
UID:10000542-1792281600-1792540799@yorkritesandiego.org
SUMMARY:Colorado River Festival 2026
DESCRIPTION:
URL:https://yorkritesandiego.org/event/colorado-river-festival-2026/
END:VEVENT
BEGIN:VEVENT
DTSTART;TZID=America/Los_Angeles:20261020T190000
DTEND;TZID=America/Los_Angeles:20261020T200000
DTSTAMP:20260420T035723
CREATED:20250902T063445Z
LAST-MODIFIED:20260418T045927Z
UID:10000543-1792522800-1792526400@yorkritesandiego.org
SUMMARY:Jerrold A. Wohlfarth Chapter No. 130 - Stated Convocation
DESCRIPTION:
URL:https://yorkritesandiego.org/event/jerrold-a-wohlfarth-chapter-no-130-stated-convocation-7/
LOCATION:Vista Masonic Center – Rental Hall and Event Venue\, 761 Eucalyptus Ave\, Vista\, CA\, United States
GEO:33.201288;-117.231988
X-APPLE-STRUCTURED-LOCATION;VALUE=URI;X-ADDRESS=Vista Masonic Center – Rental Hall and Event Venue 761 Eucalyptus Ave Vista CA United States;X-APPLE-RADIUS=500;X-TITLE=761 Eucalyptus Ave:geo:-117.231988,33.201288
END:VEVENT
END:VCALENDAR